BEGIN:VCALENDAR
VERSION:2.0
PRODID:-//Edward J. Bloustein School of Planning &amp; Public Policy - ECPv6.15.20//NONSGML v1.0//EN
CALSCALE:GREGORIAN
METHOD:PUBLISH
X-WR-CALNAME:Edward J. Bloustein School of Planning &amp; Public Policy
X-ORIGINAL-URL:https://dev.bloustein.rutgers.edu
X-WR-CALDESC:Events for Edward J. Bloustein School of Planning &amp; Public Policy
REFRESH-INTERVAL;VALUE=DURATION:PT1H
X-Robots-Tag:noindex
X-PUBLISHED-TTL:PT1H
BEGIN:VTIMEZONE
TZID:America/New_York
BEGIN:DAYLIGHT
TZOFFSETFROM:-0500
TZOFFSETTO:-0400
TZNAME:EDT
DTSTART:20250309T070000
END:DAYLIGHT
BEGIN:STANDARD
TZOFFSETFROM:-0400
TZOFFSETTO:-0500
TZNAME:EST
DTSTART:20251102T060000
END:STANDARD
BEGIN:DAYLIGHT
TZOFFSETFROM:-0500
TZOFFSETTO:-0400
TZNAME:EDT
DTSTART:20260308T070000
END:DAYLIGHT
BEGIN:STANDARD
TZOFFSETFROM:-0400
TZOFFSETTO:-0500
TZNAME:EST
DTSTART:20261101T060000
END:STANDARD
BEGIN:DAYLIGHT
TZOFFSETFROM:-0500
TZOFFSETTO:-0400
TZNAME:EDT
DTSTART:20270314T070000
END:DAYLIGHT
BEGIN:STANDARD
TZOFFSETFROM:-0400
TZOFFSETTO:-0500
TZNAME:EST
DTSTART:20271107T060000
END:STANDARD
END:VTIMEZONE
BEGIN:VEVENT
DTSTART;TZID=America/New_York:20260421T180000
DTEND;TZID=America/New_York:20260421T190000
DTSTAMP:20260422T204027
CREATED:20260408T144359Z
LAST-MODIFIED:20260408T144424Z
UID:10001064-1776794400-1776798000@dev.bloustein.rutgers.edu
SUMMARY:Finding Meaning in Civic Power
DESCRIPTION:How do we find purpose at this moment of civic stress? How do we regain faith in our democracy and each other? \nEric Liu\, CEO of Citizen University\, offers a path for finding meaning and power in our communities. Join us as Liu discusses civic strategies\, including the “Power Walk\,” a powerful civic exercise offered in collaboration with The New York Times’ Headway Team that invites participants to ask who shaped your community\, whose voices were heard\, and what forces are shaping it now. \nRegister here \nThe Bloustein School is pleased to serve as a co-sponsor to the Eagleton Institute of Politics Arthur J. Holland Program on Ethics in Government lecture on April 21\, 2026 from 6:00-7:00 p.m. at the Cook College Multipurpose Room (MPR).
URL:https://dev.bloustein.rutgers.edu/event/finding-meaning-in-civic-power/
LOCATION:Cook Campus Center\, 59 Biel Road\, New Brunswick\, 08901
CATEGORIES:Public Policy
ATTACH;FMTTYPE=image/webp:https://dev.bloustein.rutgers.edu/wp-content/uploads/2026/04/Holland-2026_Eric-Liu.webp
END:VEVENT
END:VCALENDAR