BEGIN:VCALENDAR
VERSION:2.0
PRODID:-//Edward J. Bloustein School of Planning &amp; Public Policy - ECPv6.15.20//NONSGML v1.0//EN
CALSCALE:GREGORIAN
METHOD:PUBLISH
X-WR-CALNAME:Edward J. Bloustein School of Planning &amp; Public Policy
X-ORIGINAL-URL:https://dev.bloustein.rutgers.edu
X-WR-CALDESC:Events for Edward J. Bloustein School of Planning &amp; Public Policy
REFRESH-INTERVAL;VALUE=DURATION:PT1H
X-Robots-Tag:noindex
X-PUBLISHED-TTL:PT1H
BEGIN:VTIMEZONE
TZID:America/New_York
BEGIN:DAYLIGHT
TZOFFSETFROM:-0500
TZOFFSETTO:-0400
TZNAME:EDT
DTSTART:20240310T070000
END:DAYLIGHT
BEGIN:STANDARD
TZOFFSETFROM:-0400
TZOFFSETTO:-0500
TZNAME:EST
DTSTART:20241103T060000
END:STANDARD
BEGIN:DAYLIGHT
TZOFFSETFROM:-0500
TZOFFSETTO:-0400
TZNAME:EDT
DTSTART:20250309T070000
END:DAYLIGHT
BEGIN:STANDARD
TZOFFSETFROM:-0400
TZOFFSETTO:-0500
TZNAME:EST
DTSTART:20251102T060000
END:STANDARD
BEGIN:DAYLIGHT
TZOFFSETFROM:-0500
TZOFFSETTO:-0400
TZNAME:EDT
DTSTART:20260308T070000
END:DAYLIGHT
BEGIN:STANDARD
TZOFFSETFROM:-0400
TZOFFSETTO:-0500
TZNAME:EST
DTSTART:20261101T060000
END:STANDARD
END:VTIMEZONE
BEGIN:VEVENT
DTSTART;TZID=America/New_York:20250212T180000
DTEND;TZID=America/New_York:20250212T210000
DTSTAMP:20260421T160402
CREATED:20240725T192951Z
LAST-MODIFIED:20241107T210621Z
UID:10000508-1739383200-1739394000@dev.bloustein.rutgers.edu
SUMMARY:2025 Bloustein Alumni Awards Celebration
DESCRIPTION:Since 1994\, the Bloustein School Alumni Association has aimed to present awards to accomplished alumni each year. Our goal is to pay tribute to alumni and friends to recognize their outstanding achievement and/or service to the Bloustein School\, their communities\, and/or their professions. Alumni are recognized by the Bloustein School Alumni Association in the following two categories: Career Achievement and Rising Star. In 2025\, we have also added a new award for retired faculty\, to honor extraordinary dedication and lasting contributions\, celebrating the distinguished careers of those who have shaped the minds of countless students\, made significant research contributions to their field\, and long-standing service to Bloustein and the Rutgers academic community at large. \n  \nPARKING REGISTRATION REQUIRED: All non-Rutgers guests must register to park on campus. Please use this link for special event parking permission in Lots 1\, 11 & 16. This parking is for the Bloustein Alumni Awards Celebration ONLY. A confirmation email will be sent to the email address provided on the form.
URL:https://dev.bloustein.rutgers.edu/event/2025-bloustein-alumni-awards-celebration/
LOCATION:Zimmerli Art Museum at Rutgers University\, 71 Hamilton Street\, New Brunswick\, NJ\, 08901\, United States
CATEGORIES:Alumni,Public,Social Gathering
ATTACH;FMTTYPE=image/jpeg:https://dev.bloustein.rutgers.edu/wp-content/uploads/2024/04/2025-calendar-header.jpg
END:VEVENT
BEGIN:VEVENT
DTSTART;TZID=America/New_York:20250410T163000
DTEND;TZID=America/New_York:20250410T183000
DTSTAMP:20260421T160402
CREATED:20250325T200844Z
LAST-MODIFIED:20250407T135744Z
UID:10000802-1744302600-1744309800@dev.bloustein.rutgers.edu
SUMMARY:Rutgers Spring Health Administration Alumni Networking Event
DESCRIPTION:Interested in learning more about careers in various healthcare sectors? Attend this virtual networking event to meet with\, ask questions\, and gain invaluable advice from Bloustein Alumni who graduated from the MHA\, undergraduate Health Administration and Public Health programs and are working in various healthcare industries.\n\nhttps://go.rutgers.edu/Spring2025HAAlumniNetworkingEvent
URL:https://dev.bloustein.rutgers.edu/event/rutgers-spring-health-administration-alumni-networking-event/
LOCATION:Virtual
CATEGORIES:Alumni,Career Workshop Panel Roundtable,Health Administration,Public Health,Virtual
ATTACH;FMTTYPE=image/webp:https://dev.bloustein.rutgers.edu/wp-content/uploads/2024/04/MHA-Alumni-Event.webp
END:VEVENT
BEGIN:VEVENT
DTSTART;TZID=America/New_York:20250605T173000
DTEND;TZID=America/New_York:20250605T193000
DTSTAMP:20260421T160402
CREATED:20250506T185157Z
LAST-MODIFIED:20250506T185157Z
UID:10000819-1749144600-1749151800@dev.bloustein.rutgers.edu
SUMMARY:Philly Alumni Mixer
DESCRIPTION:Reconnect with Bloustein friends and colleagues at Wicked Wolf Philadelphia. Enjoy some apps and a free drink while you network with Bloustein Alumni from the area!! \nJoin us for an alumni mixer in Philadelphia on Thursday\, June 5th at Wicked Wolf Philadelphia. https://www.wickedwolfphiladelphia.com/ This mixer is hosted by Robert Nardi (LC ’75\, MCRP ’78) \nPlease RSVP to Madison Welch.
URL:https://dev.bloustein.rutgers.edu/event/philly-alumni-mixer/
LOCATION:Wicked Wolf Philadelphia\, 1214-1216 Chestnut Street\, Philadelphia\, PA\, 19107\, United States
CATEGORIES:Alumni,Social Gathering
ATTACH;FMTTYPE=image/jpeg:https://dev.bloustein.rutgers.edu/wp-content/uploads/2025/05/WickedWolf.jpg
END:VEVENT
BEGIN:VEVENT
DTSTART;TZID=America/New_York:20250821T123000
DTEND;TZID=America/New_York:20250821T140000
DTSTAMP:20260421T160402
CREATED:20250805T142800Z
LAST-MODIFIED:20251028T180506Z
UID:10000838-1755779400-1755784800@dev.bloustein.rutgers.edu
SUMMARY:Graduate Career Services Orientation
DESCRIPTION:Meet Career Management Specialists Andrea Garrido and Cheryl Egan for a two-part orientation. First\, learn about the resources\, tools\, and services to support you on your journey from grad student to professional\, including our calendar of professional development and career events\, job and internship support\, and alumni connections. Part II features a panel of Bloustein Alumni hiring managers who will share what they seek in candidates and will offer their advice as you prepare for your upcoming internship and job searches. \nRegister here.
URL:https://dev.bloustein.rutgers.edu/event/graduate-career-services-orientation/
LOCATION:Virtual
CATEGORIES:Alumni,Career Information Session,CAREERS,Graduate Information Session,Virtual
ATTACH;FMTTYPE=image/jpeg:https://dev.bloustein.rutgers.edu/wp-content/uploads/2023/08/careers-techdevelopment.jpg
END:VEVENT
BEGIN:VEVENT
DTSTART;TZID=America/New_York:20251007T170000
DTEND;TZID=America/New_York:20251007T180000
DTSTAMP:20260421T160402
CREATED:20250930T162154Z
LAST-MODIFIED:20251028T181129Z
UID:10000927-1759856400-1759860000@dev.bloustein.rutgers.edu
SUMMARY:Navigating Healthcare Leadership – A C-Suite Panel Discussion
DESCRIPTION:Please join us for an engaging conversation with Tom Scott\, MHA\, FACHE\, FABC\, President and CEO of CentraState Healthcare System and Stella Visaggio\, CPA\, CFO of Overlook Medical Center as they share their career journeys and invaluable advice on becoming an impactful leader. Moderated by Jane Kaye\, Bloustein School Assistant Teaching Professor. \nOpen to Bloustein alumni\, graduate and undergraduate students. \nRSVP here.
URL:https://dev.bloustein.rutgers.edu/event/navigating-healthcare-leadership-a-c-suite-panel-discussion/
LOCATION:Virtual
CATEGORIES:Alumni,Career Professional Development,CAREERS,Health Administration,Student Organization,Virtual
ATTACH;FMTTYPE=image/webp:https://dev.bloustein.rutgers.edu/wp-content/uploads/2025/09/c-suite-panel-discussion.webp
END:VEVENT
BEGIN:VEVENT
DTSTART;TZID=America/New_York:20251016T173000
DTEND;TZID=America/New_York:20251016T193000
DTSTAMP:20260421T160402
CREATED:20250821T150207Z
LAST-MODIFIED:20250911T194303Z
UID:10000848-1760635800-1760643000@dev.bloustein.rutgers.edu
SUMMARY:New Brunswick Alumni Mixer
DESCRIPTION:Reconnect with Bloustein friends and colleagues at Harvest Moon Brewery & Cafe\, 392 George St\, New Brunswick\, NJ 08901 on Thursday\, October 16th\, 2025\, from 5:30 to 7:30 pm. Hosted by Robert Nardi (LC ’75\, MCRP ’78). \nRegister Today: go.rutgers.edu/fall25mixer
URL:https://dev.bloustein.rutgers.edu/event/new-brunswick-alumni-mixer/
LOCATION:Harvest Moon Brewery\, 392 George Street\, New Brunswick\, 08901\, United States
CATEGORIES:Alumni,Social Gathering
ATTACH;FMTTYPE=image/webp:https://dev.bloustein.rutgers.edu/wp-content/uploads/2025/08/NB-Alumni-Mixer-2025.webp
END:VEVENT
BEGIN:VEVENT
DTSTART;TZID=America/New_York:20251021T170000
DTEND;TZID=America/New_York:20251021T183000
DTSTAMP:20260421T160402
CREATED:20250925T135459Z
LAST-MODIFIED:20251028T180110Z
UID:10000922-1761066000-1761071400@dev.bloustein.rutgers.edu
SUMMARY:Navigating Policy-Focused Career Pathways: Exploring Graduates' Policy-Focused Careers
DESCRIPTION:You are invited to join the New Jersey State Policy Lab to listen to and meet several of the many former students who have worked with NJSPL over the years. These alumni have gone on to pursue a variety of public policy-focused careers in areas including healthcare\, housing\, and economics. \nIn the four years since the NJSPL’s inception at Rutgers University\, it has employed more than 100 graduate and undergraduate students as part of specific research projects and/or in the annual summer internship program. Many of their former interns and research assistants have stepped into professional careers in assorted policy arenas at the local\, state\, and federal levels. \nThis event will feature former interns\, teaching assistants\, and research assistants who worked with the NJSPL. They will discuss their policy interests\, research\, and career paths\, followed by time for networking\, where current students will learn more about careers where they can make a difference in assorted policy arenas. This event will help current students envision and navigate the transition from theory to practice\, operationalizing their ideals in their career choices. \nLight refreshments will be provided. Register for our event today.
URL:https://dev.bloustein.rutgers.edu/event/navigating-policy-focused-career-pathways-exploring-graduates-policy-focused-careers/
LOCATION:Bloustein School\, Civic Square Building\, 33 Livingston Avenue\, New Brunswick\, NJ\, 08901\, United States
CATEGORIES:Alumni,Career Workshop Panel Roundtable,CAREERS,Public,Public Health,Public Policy,Seminar,Urban Planning
ATTACH;FMTTYPE=image/webp:https://dev.bloustein.rutgers.edu/wp-content/uploads/2025/09/njspl-navigating-policy-careers.webp
END:VEVENT
END:VCALENDAR