BEGIN:VCALENDAR
VERSION:2.0
PRODID:-//Edward J. Bloustein School of Planning &amp; Public Policy - ECPv6.15.20//NONSGML v1.0//EN
CALSCALE:GREGORIAN
METHOD:PUBLISH
X-WR-CALNAME:Edward J. Bloustein School of Planning &amp; Public Policy
X-ORIGINAL-URL:https://dev.bloustein.rutgers.edu
X-WR-CALDESC:Events for Edward J. Bloustein School of Planning &amp; Public Policy
REFRESH-INTERVAL;VALUE=DURATION:PT1H
X-Robots-Tag:noindex
X-PUBLISHED-TTL:PT1H
BEGIN:VTIMEZONE
TZID:America/New_York
BEGIN:DAYLIGHT
TZOFFSETFROM:-0500
TZOFFSETTO:-0400
TZNAME:EDT
DTSTART:20240310T070000
END:DAYLIGHT
BEGIN:STANDARD
TZOFFSETFROM:-0400
TZOFFSETTO:-0500
TZNAME:EST
DTSTART:20241103T060000
END:STANDARD
BEGIN:DAYLIGHT
TZOFFSETFROM:-0500
TZOFFSETTO:-0400
TZNAME:EDT
DTSTART:20250309T070000
END:DAYLIGHT
BEGIN:STANDARD
TZOFFSETFROM:-0400
TZOFFSETTO:-0500
TZNAME:EST
DTSTART:20251102T060000
END:STANDARD
BEGIN:DAYLIGHT
TZOFFSETFROM:-0500
TZOFFSETTO:-0400
TZNAME:EDT
DTSTART:20260308T070000
END:DAYLIGHT
BEGIN:STANDARD
TZOFFSETFROM:-0400
TZOFFSETTO:-0500
TZNAME:EST
DTSTART:20261101T060000
END:STANDARD
END:VTIMEZONE
BEGIN:VEVENT
DTSTART;TZID=America/New_York:20250917T160000
DTEND;TZID=America/New_York:20250917T180000
DTSTAMP:20260420T220554
CREATED:20250909T141856Z
LAST-MODIFIED:20251028T180315Z
UID:10000880-1758124800-1758132000@dev.bloustein.rutgers.edu
SUMMARY:CAREERS:  Resume Workshop & Clinic
DESCRIPTION:This virtual JUMP START event is open to ALL graduate students (ALL programs and ALL years). \nThis is a fantastic opportunity to get immediate feedback (in small groups) from alumni/professionals who are working in the urban planning/informatics/public policy fields. \nThe deadline to register for this event is THIS FRIDAY\, 9/12/25. Once registered\, please email your resume to rsvp@ejb.rutgers.edu. Registrants will receive a zoom registration link to attend this virtual event. \nREGISTER HERE: https://forms.office.com/r/zAi3QswAv7\  \nDeadline to register: 9/12/2025 at 11:59 pm.
URL:https://dev.bloustein.rutgers.edu/event/careers-resume-workshop-clinic/
LOCATION:Virtual
CATEGORIES:Career Professional Development,CAREERS,Virtual
ATTACH;FMTTYPE=image/jpeg:https://dev.bloustein.rutgers.edu/wp-content/uploads/2023/08/careers-PD.jpg
END:VEVENT
END:VCALENDAR