BEGIN:VCALENDAR
VERSION:2.0
PRODID:-//Edward J. Bloustein School of Planning &amp; Public Policy - ECPv6.15.20//NONSGML v1.0//EN
CALSCALE:GREGORIAN
METHOD:PUBLISH
X-WR-CALNAME:Edward J. Bloustein School of Planning &amp; Public Policy
X-ORIGINAL-URL:https://dev.bloustein.rutgers.edu
X-WR-CALDESC:Events for Edward J. Bloustein School of Planning &amp; Public Policy
REFRESH-INTERVAL;VALUE=DURATION:PT1H
X-Robots-Tag:noindex
X-PUBLISHED-TTL:PT1H
BEGIN:VTIMEZONE
TZID:America/New_York
BEGIN:DAYLIGHT
TZOFFSETFROM:-0500
TZOFFSETTO:-0400
TZNAME:EDT
DTSTART:20240310T070000
END:DAYLIGHT
BEGIN:STANDARD
TZOFFSETFROM:-0400
TZOFFSETTO:-0500
TZNAME:EST
DTSTART:20241103T060000
END:STANDARD
BEGIN:DAYLIGHT
TZOFFSETFROM:-0500
TZOFFSETTO:-0400
TZNAME:EDT
DTSTART:20250309T070000
END:DAYLIGHT
BEGIN:STANDARD
TZOFFSETFROM:-0400
TZOFFSETTO:-0500
TZNAME:EST
DTSTART:20251102T060000
END:STANDARD
BEGIN:DAYLIGHT
TZOFFSETFROM:-0500
TZOFFSETTO:-0400
TZNAME:EDT
DTSTART:20260308T070000
END:DAYLIGHT
BEGIN:STANDARD
TZOFFSETFROM:-0400
TZOFFSETTO:-0500
TZNAME:EST
DTSTART:20261101T060000
END:STANDARD
BEGIN:DAYLIGHT
TZOFFSETFROM:-0500
TZOFFSETTO:-0400
TZNAME:EDT
DTSTART:20270314T070000
END:DAYLIGHT
BEGIN:STANDARD
TZOFFSETFROM:-0400
TZOFFSETTO:-0500
TZNAME:EST
DTSTART:20271107T060000
END:STANDARD
END:VTIMEZONE
BEGIN:VEVENT
DTSTART;TZID=America/New_York:20250910T113000
DTEND;TZID=America/New_York:20250910T133000
DTSTAMP:20260420T190401
CREATED:20250815T184056Z
LAST-MODIFIED:20250815T184056Z
UID:10000845-1757503800-1757511000@dev.bloustein.rutgers.edu
SUMMARY:Bloustein School Welcome Back Picnic
DESCRIPTION:All Bloustein School students\, PhD candidates\, faculty\, staff\, and instructors are invited to attend the 2025 Welcome Back picnic on Wednesday\, September 10\, 2025.\n\nAll food is served on a first come\, first served basis. Food service will begin at APPROXIMATELY 11:30 a.m. and will continue until it’s all gone.\n\nFood choices include: Hamburgers\, hot dogs\, veggie burgers\, buttermilk fried chicken\, “boardwalk style” sausage & pepper hoagies\, corn on the cob\, baked beans\, potato salad\, cole slaw\, pasta salad\, tossed salad with assorted dressings. Watermelon\, cookies\, and ice cream novelties for dessert.\n\nNO RSVP NEEDED. This event is rain or shine. In the event of rain\, food will be moved to the building’s main lobby.
URL:https://dev.bloustein.rutgers.edu/event/bloustein-school-welcome-back-picnic-2/
LOCATION:Bloustein School\, Civic Square Building\, 33 Livingston Avenue\, New Brunswick\, NJ\, 08901\, United States
CATEGORIES:Faculty Bloustein,Social Gathering,Staff Bloustein,Student Organization,Student Services
ATTACH;FMTTYPE=image/png:https://dev.bloustein.rutgers.edu/wp-content/uploads/2025/08/Copy-of-Picnic-Bloustein-School-2025-1920-x-1080-px.png
END:VEVENT
BEGIN:VEVENT
DTSTART;TZID=America/New_York:20250917T160000
DTEND;TZID=America/New_York:20250917T171500
DTSTAMP:20260420T190401
CREATED:20250911T132320Z
LAST-MODIFIED:20250911T153513Z
UID:10000890-1758124800-1758129300@dev.bloustein.rutgers.edu
SUMMARY:Bloustein Research Seminar Series: Ricardo Bello-Gomez
DESCRIPTION:Presented by Ricardo Bello-Gomez\, Assistant Professor\, School of Public Affairs and Administration\, Rutgers Newark \n“Merit and Impartiality in Public Administration: The Effect of Democratic Backsliding through Participation and Contestation” \nIn person in room 556 and on Zoom at https://go.rutgers.edu/uyj26isl \nThis venue will enable our faculty to share research\, build community\, and extend our networks. Food and coffee will be served. Bloustein faculty\, advanced PhD students\, and external speakers will present research talks. The seminar series is open to the entire Bloustein community. \n 
URL:https://dev.bloustein.rutgers.edu/event/bloustein-research-seminar-series-ricardo-bello-gomez/
LOCATION:Bloustein School\, Civic Square Building\, 33 Livingston Avenue\, New Brunswick\, NJ\, 08901\, United States
CATEGORIES:Faculty Bloustein,Staff Bloustein
ATTACH;FMTTYPE=image/jpeg:https://dev.bloustein.rutgers.edu/wp-content/uploads/2025/01/Research-seminar-series-2025.jpg
END:VEVENT
BEGIN:VEVENT
DTSTART;TZID=America/New_York:20250926T140000
DTEND;TZID=America/New_York:20250926T171500
DTSTAMP:20260420T190401
CREATED:20250829T181135Z
LAST-MODIFIED:20250909T151601Z
UID:10000849-1758895200-1758906900@dev.bloustein.rutgers.edu
SUMMARY:A Celebration of Bloustein Book Publishing
DESCRIPTION:Learn more about book writing and publishing from Rutgers faculty and alumni. Includes discussion with Carmelo Ignaccolo\, Bloustein School Assistant Professor; Akira Drake Rodriguez PhD’ 14\, Assistant Professor at University of Pennsylvania; Laura Wolf-Powers\, PhD ’02\, Professor\, Hunter College Urban Policy and Planning; and Andrew Zitcer\, PhD ’13\, Associate Professor and Program Director\, Drexel University Westphal College of Media Arts & Design \nAGENDA\n2:00 – 3:00 Book Publishing 101: A Round Table Discussion with Doctoral Students and Early Career Faculty about the book publishing process.\n3:10 – 4:45 Book Discussion: Author Presentations and Doctoral Student Reflections\n4:45 – 5:15 Reception\n\nLOCATION: Room 261\n\nREGISTER: https://go.rutgers.edu/bookparty
URL:https://dev.bloustein.rutgers.edu/event/a-celebration-of-bloustein-book-publishing/
LOCATION:Bloustein School\, Civic Square Building\, 33 Livingston Avenue\, New Brunswick\, NJ\, 08901\, United States
CATEGORIES:External,Faculty Bloustein,Public,Public Policy,Seminar,Urban Planning
ATTACH;FMTTYPE=image/webp:https://dev.bloustein.rutgers.edu/wp-content/uploads/2025/08/Book-Celebration-Poster.webp
END:VEVENT
BEGIN:VEVENT
DTSTART;TZID=America/New_York:20251022T160000
DTEND;TZID=America/New_York:20251022T171500
DTSTAMP:20260420T190401
CREATED:20250922T142738Z
LAST-MODIFIED:20250922T161705Z
UID:10000915-1761148800-1761153300@dev.bloustein.rutgers.edu
SUMMARY:Bloustein Research Seminar Series: Jesse Rodenbiker
DESCRIPTION:Presented by Jesse Rodenbiker\, Department of Geography\, Rutgers New Brunswick \nIn person in room 556 and on Zoom \nThis venue will enable our faculty to share research\, build community\, and extend our networks. Food and coffee will be served. Bloustein faculty\, advanced PhD students\, and external speakers will present research talks. The seminar series is open to the entire Bloustein community. \n 
URL:https://dev.bloustein.rutgers.edu/event/bloustein-research-seminar-series-jesse-rodenbiker/
LOCATION:Bloustein School\, Civic Square Building\, 33 Livingston Avenue\, New Brunswick\, NJ\, 08901\, United States
CATEGORIES:Faculty Bloustein,Staff Bloustein
ATTACH;FMTTYPE=image/jpeg:https://dev.bloustein.rutgers.edu/wp-content/uploads/2025/01/Research-seminar-series-2025.jpg
END:VEVENT
BEGIN:VEVENT
DTSTART;TZID=America/New_York:20251119T160000
DTEND;TZID=America/New_York:20251119T171500
DTSTAMP:20260420T190401
CREATED:20250922T142919Z
LAST-MODIFIED:20250922T154611Z
UID:10000916-1763568000-1763572500@dev.bloustein.rutgers.edu
SUMMARY:Bloustein Research Seminar Series: Andrea Hetling
DESCRIPTION:Presented by Andrea Hetling\, Bloustein School\, Rutgers New Brunswick \nIn person in room 556 and on Zoom \nThis venue will enable our faculty to share research\, build community\, and extend our networks. Food and coffee will be served. Bloustein faculty\, advanced PhD students\, and external speakers will present research talks. The seminar series is open to the entire Bloustein community. \n 
URL:https://dev.bloustein.rutgers.edu/event/bloustein-research-seminar-series-andrea-hetling/
LOCATION:Bloustein School\, Civic Square Building\, 33 Livingston Avenue\, New Brunswick\, NJ\, 08901\, United States
CATEGORIES:Faculty Bloustein,Staff Bloustein
ATTACH;FMTTYPE=image/jpeg:https://dev.bloustein.rutgers.edu/wp-content/uploads/2025/01/Research-seminar-series-2025.jpg
END:VEVENT
BEGIN:VEVENT
DTSTART;TZID=America/New_York:20251210T160000
DTEND;TZID=America/New_York:20251210T171500
DTSTAMP:20260420T190401
CREATED:20250922T143045Z
LAST-MODIFIED:20250922T154627Z
UID:10000917-1765382400-1765386900@dev.bloustein.rutgers.edu
SUMMARY:Bloustein Research Seminar Series: Zoe Lindenfeld
DESCRIPTION:Presented by Zoe Lindenfeld\, Bloustein School\, Rutgers New Brunswick \nIn person in room 556 and on Zoom \nThis venue will enable our faculty to share research\, build community\, and extend our networks. Food and coffee will be served. Bloustein faculty\, advanced PhD students\, and external speakers will present research talks. The seminar series is open to the entire Bloustein community. \n 
URL:https://dev.bloustein.rutgers.edu/event/bloustein-research-seminar-series-zoe-lindenfeld/
LOCATION:Bloustein School\, Civic Square Building\, 33 Livingston Avenue\, New Brunswick\, NJ\, 08901\, United States
CATEGORIES:Faculty Bloustein,Staff Bloustein
ATTACH;FMTTYPE=image/jpeg:https://dev.bloustein.rutgers.edu/wp-content/uploads/2025/01/Research-seminar-series-2025.jpg
END:VEVENT
BEGIN:VEVENT
DTSTART;TZID=America/New_York:20260310T160000
DTEND;TZID=America/New_York:20260310T171500
DTSTAMP:20260420T190401
CREATED:20260224T141927Z
LAST-MODIFIED:20260224T143019Z
UID:10001039-1773158400-1773162900@dev.bloustein.rutgers.edu
SUMMARY:Bloustein Research Seminar Series: Melinda Rushing
DESCRIPTION:“When Individual Success Meets Systemic Deficiencies: Managing Sickle Cell Disease in a Leading NJ Hospital System”\n** RESCHEDULED FROM FEBRUARY 24 ** \nPresented by Melinda Rushing\, Bloustein School\, Rutgers New Brunswick \nIn person in room 556 and on Zoom \nThis venue will enable our faculty to share research\, build community\, and extend our networks. Food and coffee will be served. Bloustein faculty\, advanced PhD students\, and external speakers will present research talks. The seminar series is open to the entire Bloustein community. \n 
URL:https://dev.bloustein.rutgers.edu/event/bloustein-research-seminar-series-melinda-rushing/
LOCATION:Bloustein School CSB\, Room 556\, 33 Livingston Avenue\, New Brunswick\, NJ\, 08901\, United States
CATEGORIES:Faculty Bloustein,Staff Bloustein
ATTACH;FMTTYPE=image/jpeg:https://dev.bloustein.rutgers.edu/wp-content/uploads/2025/01/Research-seminar-series-2025.jpg
END:VEVENT
BEGIN:VEVENT
DTSTART;TZID=America/New_York:20260317T130000
DTEND;TZID=America/New_York:20260317T140000
DTSTAMP:20260420T190401
CREATED:20260313T153735Z
LAST-MODIFIED:20260313T153745Z
UID:10001050-1773752400-1773756000@dev.bloustein.rutgers.edu
SUMMARY:Bloustein School Congress
DESCRIPTION:All Bloustein School faculty\, staff\, and students are encouraged to attend. Dean Stuart Shapiro will provide an update of school programs and activities.
URL:https://dev.bloustein.rutgers.edu/event/bloustein-school-congress-spring-2026/
LOCATION:Gov. James J. Florio Special Events Forum\, CSB\, 33 Livingston Avenue\, New Brunswick\, NJ\, 08901\, United States
CATEGORIES:Faculty Bloustein,Social Gathering,Staff Bloustein,Student Services
ATTACH;FMTTYPE=image/png:https://dev.bloustein.rutgers.edu/wp-content/uploads/2026/03/bloustein-school-congress-event-header.png
END:VEVENT
BEGIN:VEVENT
DTSTART;TZID=America/New_York:20260325T160000
DTEND;TZID=America/New_York:20260325T171500
DTSTAMP:20260420T190401
CREATED:20260224T144825Z
LAST-MODIFIED:20260224T150120Z
UID:10001040-1774454400-1774458900@dev.bloustein.rutgers.edu
SUMMARY:Bloustein Research Seminar Series: Diego Galego
DESCRIPTION:Presented by Diego Galego\, School of Public Affairs and Administration\, Rutgers-Newark \nIn person in room 464 and on Zoom \nThis venue will enable our faculty to share research\, build community\, and extend our networks. Food and coffee will be served. Bloustein faculty\, advanced PhD students\, and external speakers will present research talks. The seminar series is open to the entire Bloustein community. \n 
URL:https://dev.bloustein.rutgers.edu/event/bloustein-research-seminar-series-diego-galego/
LOCATION:Bloustein School CSB\, Room 464
CATEGORIES:Faculty Bloustein,Staff Bloustein
ATTACH;FMTTYPE=image/jpeg:https://dev.bloustein.rutgers.edu/wp-content/uploads/2025/01/Research-seminar-series-2025.jpg
END:VEVENT
BEGIN:VEVENT
DTSTART;TZID=America/New_York:20260331T140000
DTEND;TZID=America/New_York:20260331T180000
DTSTAMP:20260420T190401
CREATED:20260313T163122Z
LAST-MODIFIED:20260313T163144Z
UID:10001052-1774965600-1774980000@dev.bloustein.rutgers.edu
SUMMARY:Bloustein School LinkedIn Photo Day
DESCRIPTION:Members of the Bloustein School\, including faculty\, staff\, instructors\, undergraduate\, master’s\, and PhD/DHA candidates\, are invited to have professional photos taken at our school’s LinkedIn photo days. No appointment is needed.  \n\nDress professionally — all photos are taken from the waist up.\nFollow instructions from the photographer.\nWhen you provide your contact information\, make sure it is an email you check regularly! If you don’t get an email\, check your junk/spam folder OR look at the website link below!\n\nThose who take a photo will get an email a week or so after the photos are uploaded and labeled. ALL PHOTOS will also be available at bloustein.rutgers.edu/ejbheadshots/ about 1 week after photo date.
URL:https://dev.bloustein.rutgers.edu/event/bloustein-school-linkedin-photo-day-03312026/
LOCATION:Bloustein School CSB\, Rose Room\, 33 Livingston Avenue\, New Brunswick\, NJ\, 08901\, United States
CATEGORIES:Faculty Bloustein,Staff Bloustein,Student Services
ATTACH;FMTTYPE=image/png:https://dev.bloustein.rutgers.edu/wp-content/uploads/2026/03/LinkedIn-Photos-calendar-promo-960x540-px.png
END:VEVENT
BEGIN:VEVENT
DTSTART;TZID=America/New_York:20260403T090000
DTEND;TZID=America/New_York:20260403T120000
DTSTAMP:20260420T190401
CREATED:20260219T171115Z
LAST-MODIFIED:20260219T171115Z
UID:10001028-1775206800-1775217600@dev.bloustein.rutgers.edu
SUMMARY:Bloustein Research Day 2026
DESCRIPTION:It’s time to catch up on the wonderful research our faculty\, staff\, and student colleagues have performed over the past year. Bloustein School faculty and staff will present lightning talks followed by a poster session by graduate and undergraduate students. \nThis will be an in-person event. The event is free and open to the public\, but registration is required. \nRegister to attend by visiting: go.rutgers.edu/researchday26 \nAgenda: \n8:00 – 9:00 am Continental Breakfast \n9:00 – 10:15 am Lightning Talks\nFaculty and staff will give 5-minute lightning talks about their research. \n10:15 – 11:30 am Poster Session with Light Refreshments\nGraduate and undergraduate students will present posters. A best poster award will be given. \nLIGHTNING TALK PRESENTATIONS AND POSTER PRESENTERS/TOPICS \n11:30 – 12:30 pm Closing Panel: AI and the Future of Research\nA cross-disciplinary faculty panel on the growing role of AI in scholarly research. \nPanelists \nJim Samuel\, Ph.D. Director\, MPI Programs\, Edward J. Bloustein School of Planning & Public Policy \nLauren M.E. Goodlad\, Ph.D. Distinguished Professor of English and Comparative Literature; Chair\, Critical AI @ Rutgers; Editor\, Critical AI \nRobert Wolfe\, Ph.D. Assistant Professor\, Department of Information Science\, School of Communication & Information\, Rutgers University \nOrganizing Committee: Clint Andrews
URL:https://dev.bloustein.rutgers.edu/event/bloustein-research-day-2026/
LOCATION:Gov. James J. Florio Special Events Forum\, CSB\, 33 Livingston Avenue\, New Brunswick\, NJ\, 08901\, United States
CATEGORIES:Faculty Bloustein,Health Administration,Informatics,Public Health,Public Policy,Staff Bloustein,Symposium/Workshop,Urban Planning
ATTACH;FMTTYPE=image/jpeg:https://dev.bloustein.rutgers.edu/wp-content/uploads/2026/02/2026-Bloustein-Research-Day-header.jpg
END:VEVENT
BEGIN:VEVENT
DTSTART;TZID=America/New_York:20260407T160000
DTEND;TZID=America/New_York:20260407T171500
DTSTAMP:20260420T190401
CREATED:20260224T145108Z
LAST-MODIFIED:20260224T145108Z
UID:10001041-1775577600-1775582100@dev.bloustein.rutgers.edu
SUMMARY:Bloustein Research Seminar Series: Sarah Strochak
DESCRIPTION:Presented by Sarah Srochak\, Eviction Lab\, Princeton. \nIn person in room 556 and on Zoom \nThis venue will enable our faculty to share research\, build community\, and extend our networks. Food and coffee will be served. Bloustein faculty\, advanced PhD students\, and external speakers will present research talks. The seminar series is open to the entire Bloustein community. \n 
URL:https://dev.bloustein.rutgers.edu/event/bloustein-research-seminar-series-sarah-strochak/
LOCATION:Bloustein School CSB\, Room 556\, 33 Livingston Avenue\, New Brunswick\, NJ\, 08901\, United States
CATEGORIES:Faculty Bloustein,Staff Bloustein
ATTACH;FMTTYPE=image/jpeg:https://dev.bloustein.rutgers.edu/wp-content/uploads/2025/01/Research-seminar-series-2025.jpg
END:VEVENT
BEGIN:VEVENT
DTSTART;TZID=America/New_York:20260408T110000
DTEND;TZID=America/New_York:20260408T150000
DTSTAMP:20260420T190401
CREATED:20260313T163259Z
LAST-MODIFIED:20260313T163259Z
UID:10001053-1775646000-1775660400@dev.bloustein.rutgers.edu
SUMMARY:Bloustein School LinkedIn Photo Day
DESCRIPTION:Members of the Bloustein School\, including faculty\, staff\, instructors\, undergraduate\, master’s\, and PhD/DHA candidates\, are invited to have professional photos taken at our school’s LinkedIn photo days. No appointment is needed.  \n\nDress professionally — all photos are taken from the waist up.\nFollow instructions from the photographer.\nWhen you provide your contact information\, make sure it is an email you check regularly! If you don’t get an email\, check your junk/spam folder OR look at the website link below!\n\nThose who take a photo will get an email a week or so after the photos are uploaded and labeled. ALL PHOTOS will also be available at bloustein.rutgers.edu/ejbheadshots/ about 1 week after photo date.
URL:https://dev.bloustein.rutgers.edu/event/bloustein-school-linkedin-photo-day-04082026/
LOCATION:Bloustein School CSB\, Rose Room\, 33 Livingston Avenue\, New Brunswick\, NJ\, 08901\, United States
CATEGORIES:Faculty Bloustein,Staff Bloustein,Student Services
ATTACH;FMTTYPE=image/png:https://dev.bloustein.rutgers.edu/wp-content/uploads/2026/03/LinkedIn-Photos-calendar-promo-960x540-px.png
END:VEVENT
BEGIN:VEVENT
DTSTART;TZID=America/New_York:20260420T160000
DTEND;TZID=America/New_York:20260420T171500
DTSTAMP:20260420T190401
CREATED:20260224T145345Z
LAST-MODIFIED:20260224T145345Z
UID:10001042-1776700800-1776705300@dev.bloustein.rutgers.edu
SUMMARY:Bloustein Research Seminar Series: Carmelo Ignaccolo
DESCRIPTION:Presented by Carmelo Ignaccolo\, Bloustein School\, Rutgers New Brunswick. \nIn person in room 556 and on Zoom \nThis venue will enable our faculty to share research\, build community\, and extend our networks. Food and coffee will be served. Bloustein faculty\, advanced PhD students\, and external speakers will present research talks. The seminar series is open to the entire Bloustein community. \n 
URL:https://dev.bloustein.rutgers.edu/event/bloustein-research-seminar-series-carmelo-ignaccolo/
LOCATION:Bloustein School CSB\, Room 556\, 33 Livingston Avenue\, New Brunswick\, NJ\, 08901\, United States
CATEGORIES:Faculty Bloustein,Staff Bloustein
ATTACH;FMTTYPE=image/jpeg:https://dev.bloustein.rutgers.edu/wp-content/uploads/2025/01/Research-seminar-series-2025.jpg
END:VEVENT
BEGIN:VEVENT
DTSTART;TZID=America/New_York:20260504T160000
DTEND;TZID=America/New_York:20260504T171500
DTSTAMP:20260420T190401
CREATED:20260224T145429Z
LAST-MODIFIED:20260224T145429Z
UID:10001043-1777910400-1777914900@dev.bloustein.rutgers.edu
SUMMARY:Bloustein Research Seminar Series: Sharifa Z. Williams
DESCRIPTION:Presented by Sharifa Z. Williams\, Bloustein School\, Rutgers New Brunswick. \nIn person in room 556 and on Zoom \nThis venue will enable our faculty to share research\, build community\, and extend our networks. Food and coffee will be served. Bloustein faculty\, advanced PhD students\, and external speakers will present research talks. The seminar series is open to the entire Bloustein community. \n 
URL:https://dev.bloustein.rutgers.edu/event/bloustein-research-seminar-series-sharifa-z-williams/
LOCATION:Bloustein School CSB\, Room 556\, 33 Livingston Avenue\, New Brunswick\, NJ\, 08901\, United States
CATEGORIES:Faculty Bloustein,Staff Bloustein
ATTACH;FMTTYPE=image/jpeg:https://dev.bloustein.rutgers.edu/wp-content/uploads/2025/01/Research-seminar-series-2025.jpg
END:VEVENT
END:VCALENDAR