BEGIN:VCALENDAR
VERSION:2.0
PRODID:-//Edward J. Bloustein School of Planning &amp; Public Policy - ECPv6.15.20//NONSGML v1.0//EN
CALSCALE:GREGORIAN
METHOD:PUBLISH
X-WR-CALNAME:Edward J. Bloustein School of Planning &amp; Public Policy
X-ORIGINAL-URL:https://dev.bloustein.rutgers.edu
X-WR-CALDESC:Events for Edward J. Bloustein School of Planning &amp; Public Policy
REFRESH-INTERVAL;VALUE=DURATION:PT1H
X-Robots-Tag:noindex
X-PUBLISHED-TTL:PT1H
BEGIN:VTIMEZONE
TZID:America/New_York
BEGIN:DAYLIGHT
TZOFFSETFROM:-0500
TZOFFSETTO:-0400
TZNAME:EDT
DTSTART:20240310T070000
END:DAYLIGHT
BEGIN:STANDARD
TZOFFSETFROM:-0400
TZOFFSETTO:-0500
TZNAME:EST
DTSTART:20241103T060000
END:STANDARD
BEGIN:DAYLIGHT
TZOFFSETFROM:-0500
TZOFFSETTO:-0400
TZNAME:EDT
DTSTART:20250309T070000
END:DAYLIGHT
BEGIN:STANDARD
TZOFFSETFROM:-0400
TZOFFSETTO:-0500
TZNAME:EST
DTSTART:20251102T060000
END:STANDARD
BEGIN:DAYLIGHT
TZOFFSETFROM:-0500
TZOFFSETTO:-0400
TZNAME:EDT
DTSTART:20260308T070000
END:DAYLIGHT
BEGIN:STANDARD
TZOFFSETFROM:-0400
TZOFFSETTO:-0500
TZNAME:EST
DTSTART:20261101T060000
END:STANDARD
END:VTIMEZONE
BEGIN:VEVENT
DTSTART;TZID=America/New_York:20251203T120000
DTEND;TZID=America/New_York:20251203T130000
DTSTAMP:20260422T111833
CREATED:20251125T190848Z
LAST-MODIFIED:20251125T190848Z
UID:10000970-1764763200-1764766800@dev.bloustein.rutgers.edu
SUMMARY:Participatory Mapping of Social Determinants of Health: From Local Knowledge to Public Health Action
DESCRIPTION:Dr. Wansoo Im serves as a Professor at Meharry Medical College’s School of Global Health where he manages the Public Health Exposure Database and directs the National Center for Community Mapping. His work leverages big data and social/crowd networking approaches to generate deep insights into demographic and health patterns\, social and health determinants\, and related business opportunities. Dr. Im received his PhD from the Edward J. Bloustein School of Planning and Public Policy.  \nRSVP HERE \nEvent presented by the Health Administration program.
URL:https://dev.bloustein.rutgers.edu/event/participatory-mapping-of-social-determinants-of-health-from-local-knowledge-to-public-health-action/
LOCATION:Virtual
CATEGORIES:Health Administration,Seminar,Virtual
ATTACH;FMTTYPE=image/png:https://dev.bloustein.rutgers.edu/wp-content/uploads/2025/11/Rutgers-Health-Management-Perspectives-Lecture-Im.png
END:VEVENT
END:VCALENDAR