BEGIN:VCALENDAR
VERSION:2.0
PRODID:-//Edward J. Bloustein School of Planning &amp; Public Policy - ECPv6.15.20//NONSGML v1.0//EN
CALSCALE:GREGORIAN
METHOD:PUBLISH
X-WR-CALNAME:Edward J. Bloustein School of Planning &amp; Public Policy
X-ORIGINAL-URL:https://dev.bloustein.rutgers.edu
X-WR-CALDESC:Events for Edward J. Bloustein School of Planning &amp; Public Policy
REFRESH-INTERVAL;VALUE=DURATION:PT1H
X-Robots-Tag:noindex
X-PUBLISHED-TTL:PT1H
BEGIN:VTIMEZONE
TZID:America/New_York
BEGIN:DAYLIGHT
TZOFFSETFROM:-0500
TZOFFSETTO:-0400
TZNAME:EDT
DTSTART:20240310T070000
END:DAYLIGHT
BEGIN:STANDARD
TZOFFSETFROM:-0400
TZOFFSETTO:-0500
TZNAME:EST
DTSTART:20241103T060000
END:STANDARD
BEGIN:DAYLIGHT
TZOFFSETFROM:-0500
TZOFFSETTO:-0400
TZNAME:EDT
DTSTART:20250309T070000
END:DAYLIGHT
BEGIN:STANDARD
TZOFFSETFROM:-0400
TZOFFSETTO:-0500
TZNAME:EST
DTSTART:20251102T060000
END:STANDARD
BEGIN:DAYLIGHT
TZOFFSETFROM:-0500
TZOFFSETTO:-0400
TZNAME:EDT
DTSTART:20260308T070000
END:DAYLIGHT
BEGIN:STANDARD
TZOFFSETFROM:-0400
TZOFFSETTO:-0500
TZNAME:EST
DTSTART:20261101T060000
END:STANDARD
BEGIN:DAYLIGHT
TZOFFSETFROM:-0500
TZOFFSETTO:-0400
TZNAME:EDT
DTSTART:20270314T070000
END:DAYLIGHT
BEGIN:STANDARD
TZOFFSETFROM:-0400
TZOFFSETTO:-0500
TZNAME:EST
DTSTART:20271107T060000
END:STANDARD
END:VTIMEZONE
BEGIN:VEVENT
DTSTART;TZID=America/New_York:20251028T160000
DTEND;TZID=America/New_York:20251028T180000
DTSTAMP:20260424T004031
CREATED:20251020T193225Z
LAST-MODIFIED:20251020T193225Z
UID:10000935-1761667200-1761674400@dev.bloustein.rutgers.edu
SUMMARY:Dissertation Defense: Black in Planning: The Tenuous Rise of Transportation Equity and Justice Since the 2010s
DESCRIPTION:Presented by Angela Johnson-Rodriguez. \nTo attend virtually\, use the Zoom link provided via email.
URL:https://dev.bloustein.rutgers.edu/event/dissertation-defense-black-in-planning-the-tenuous-rise-of-transportation-equity-and-justice-since-the-2010s/
LOCATION:Bloustein School\, Civic Square Building\, 33 Livingston Avenue\, New Brunswick\, NJ\, 08901\, United States
CATEGORIES:Hybrid,Seminar,Urban Planning
ATTACH;FMTTYPE=image/jpeg:https://dev.bloustein.rutgers.edu/wp-content/uploads/2023/10/dissertation-defense.jpg
END:VEVENT
BEGIN:VEVENT
DTSTART;TZID=America/New_York:20251029T120000
DTEND;TZID=America/New_York:20251029T125000
DTSTAMP:20260424T004031
CREATED:20250918T135025Z
LAST-MODIFIED:20250918T135025Z
UID:10000910-1761739200-1761742200@dev.bloustein.rutgers.edu
SUMMARY:PhD Colloquium: Managing your Data and Scripting
DESCRIPTION:Presented by Assistant Professor Ruth Winecoff
URL:https://dev.bloustein.rutgers.edu/event/phd-colloquium-managing-your-data-and-scripting/
LOCATION:Virtual
CATEGORIES:Hybrid,Ph.D. Colloquium
ATTACH;FMTTYPE=image/jpeg:https://dev.bloustein.rutgers.edu/wp-content/uploads/2023/09/phd-colloquium.jpg
END:VEVENT
BEGIN:VEVENT
DTSTART;TZID=America/New_York:20251030T140000
DTEND;TZID=America/New_York:20251030T160000
DTSTAMP:20260424T004031
CREATED:20251020T200020Z
LAST-MODIFIED:20251020T200020Z
UID:10000936-1761832800-1761840000@dev.bloustein.rutgers.edu
SUMMARY:Dissertation Proposal: Vacant Windows\, Active Streets: Zoning\, Policy\, and Spatial Dynamics of Storefront Vacancy in NYC
DESCRIPTION:Presented by Sean Andrew Chen \nPlease use the Zoom link provided via email to attend this virtually.
URL:https://dev.bloustein.rutgers.edu/event/dissertation-proposal-vacant-windows-active-streets-zoning-policy-and-spatial-dynamics-of-storefront-vacancy-in-nyc/
LOCATION:Bloustein School\, Civic Square Building\, 33 Livingston Avenue\, New Brunswick\, NJ\, 08901\, United States
CATEGORIES:Hybrid,Seminar,Urban Planning
ATTACH;FMTTYPE=image/jpeg:https://dev.bloustein.rutgers.edu/wp-content/uploads/2023/09/dissertation-proposal.jpg
END:VEVENT
BEGIN:VEVENT
DTSTART;TZID=America/New_York:20251105T120000
DTEND;TZID=America/New_York:20251105T125000
DTSTAMP:20260424T004031
CREATED:20250915T193440Z
LAST-MODIFIED:20250915T193440Z
UID:10000898-1762344000-1762347000@dev.bloustein.rutgers.edu
SUMMARY:PhD Colloquium: APPAM Practice Talks
DESCRIPTION:Fellow PhD students will practice their presentations for the upcoming APPAM conference and solicit feedback.
URL:https://dev.bloustein.rutgers.edu/event/phd-colloquium-appam-practice-talks/
LOCATION:Bloustein School\, Civic Square Building\, 33 Livingston Avenue\, New Brunswick\, NJ\, 08901\, United States
CATEGORIES:Hybrid,Ph.D. Colloquium,Virtual
ATTACH;FMTTYPE=image/jpeg:https://dev.bloustein.rutgers.edu/wp-content/uploads/2023/09/phd-colloquium.jpg
END:VEVENT
BEGIN:VEVENT
DTSTART;TZID=America/New_York:20251112T120000
DTEND;TZID=America/New_York:20251112T125000
DTSTAMP:20260424T004031
CREATED:20250915T193545Z
LAST-MODIFIED:20250915T194759Z
UID:10000899-1762948800-1762951800@dev.bloustein.rutgers.edu
SUMMARY:PhD Colloquium: Rutgers student basic needs insecurities research and programming
DESCRIPTION:Presented by Cara Cuite\, Associate Extension Specialist/Associate Professor and the Undergraduate Program Director in the Department of Human Ecology at Rutgers
URL:https://dev.bloustein.rutgers.edu/event/phd-colloquium-rutgers-student-basic-needs-insecurities-research-and-programming/
LOCATION:Bloustein School\, Civic Square Building\, 33 Livingston Avenue\, New Brunswick\, NJ\, 08901\, United States
CATEGORIES:Hybrid,Ph.D. Colloquium,Virtual
ATTACH;FMTTYPE=image/jpeg:https://dev.bloustein.rutgers.edu/wp-content/uploads/2023/09/phd-colloquium.jpg
END:VEVENT
BEGIN:VEVENT
DTSTART;TZID=America/New_York:20251119T120000
DTEND;TZID=America/New_York:20251119T125000
DTSTAMP:20260424T004031
CREATED:20250915T194546Z
LAST-MODIFIED:20250915T194610Z
UID:10000900-1763553600-1763556600@dev.bloustein.rutgers.edu
SUMMARY:PhD Colloquium: Surviving and Thriving as an Assistant Professor
DESCRIPTION:Presented by Julene Paul\, MCRP ’16 (PhD UCLA)\, Assistant Professor of City and Regional Planning in the College of Architecture\, Planning\, and Public Affairs at the University of Texas at Arlington
URL:https://dev.bloustein.rutgers.edu/event/phd-colloquium-surviving-and-thriving-as-an-assistant-professor/
LOCATION:Bloustein School\, Civic Square Building\, 33 Livingston Avenue\, New Brunswick\, NJ\, 08901\, United States
CATEGORIES:Hybrid,Ph.D. Colloquium,Virtual
ATTACH;FMTTYPE=image/jpeg:https://dev.bloustein.rutgers.edu/wp-content/uploads/2023/09/phd-colloquium.jpg
END:VEVENT
BEGIN:VEVENT
DTSTART;TZID=America/New_York:20251126T120000
DTEND;TZID=America/New_York:20251126T125000
DTSTAMP:20260424T004031
CREATED:20250912T151523Z
LAST-MODIFIED:20251125T185948Z
UID:10000893-1764158400-1764161400@dev.bloustein.rutgers.edu
SUMMARY:PhD Colloquium: Having a Meaningful Career
DESCRIPTION:Presented by Evelyn Blumenberg
URL:https://dev.bloustein.rutgers.edu/event/phd-colloquium-having-a-meaningful-career/
LOCATION:Virtual
CATEGORIES:Hybrid,Ph.D. Colloquium
ATTACH;FMTTYPE=image/jpeg:https://dev.bloustein.rutgers.edu/wp-content/uploads/2023/09/phd-colloquium.jpg
END:VEVENT
BEGIN:VEVENT
DTSTART;TZID=America/New_York:20251209T170000
DTEND;TZID=America/New_York:20251209T210000
DTSTAMP:20260424T004031
CREATED:20251119T194636Z
LAST-MODIFIED:20251119T194636Z
UID:10000964-1765299600-1765314000@dev.bloustein.rutgers.edu
SUMMARY:Plan4HealthNJ Studio: A Diagnostic Approach  to Incorporating Public Health in Master Plans
DESCRIPTION:Sponsored by the American Planning Association-New Jersey Chapter with a grant from the Robert Wood Johnson Foundation\, this Plan4HealthNJ studio enabled students to collaborate with officials and practitioners\, engage in research and beta test ideas for APA-NJ to work with select municipalities to update their master plans\, zoning ordinances and capital improvement programs to incorporate public health outcomes. Areas of focus included access to healthy food and agriculture\, environmental health and sustainability\, healthcare access\, mobility\, housing and community design and policy and public engagement. Students engaged in research\, tested toolkits created by APA-NJ\, explored how these toolkits could help urban\, suburban and rural towns in New Jersey incorporate public health outcomes into their plans\, ordinances and investments\, and provided findings and recommendations that may prove helpful when APA-NJ works with municipalities in 2026 to update their Master Plans\, ordinances and CIPs to incorporate public health concerns. \nA light reception will follow the event. For more information about Plan4HealthNJ\, visit https://njplanning.org/plan4healthnj/ \nRSVP to go.rutgers.edu/plan4healthnj
URL:https://dev.bloustein.rutgers.edu/event/plan4healthnj-studio-a-diagnostic-approach-to-incorporating-public-health-in-master-plans/
LOCATION:Gov. James J. Florio Special Events Forum\, CSB\, 33 Livingston Avenue\, New Brunswick\, NJ\, 08901\, United States
CATEGORIES:Hybrid,Public Health,Seminar,Urban Planning
ATTACH;FMTTYPE=image/jpeg:https://dev.bloustein.rutgers.edu/wp-content/uploads/2024/04/Plan4HealthNJStudio-header.jpg
END:VEVENT
BEGIN:VEVENT
DTSTART;TZID=America/New_York:20251210T120000
DTEND;TZID=America/New_York:20251210T125000
DTSTAMP:20260424T004031
CREATED:20250915T194903Z
LAST-MODIFIED:20250915T195023Z
UID:10000901-1765368000-1765371000@dev.bloustein.rutgers.edu
SUMMARY:PhD Colloquium: Advice for Doctoral Students
DESCRIPTION:Presented by Assistant Professor Emily Parker
URL:https://dev.bloustein.rutgers.edu/event/phd-colloquium-advice-for-doctoral-students/
LOCATION:Bloustein School\, Civic Square Building\, 33 Livingston Avenue\, New Brunswick\, NJ\, 08901\, United States
CATEGORIES:Hybrid,Ph.D. Colloquium,Virtual
ATTACH;FMTTYPE=image/jpeg:https://dev.bloustein.rutgers.edu/wp-content/uploads/2023/09/phd-colloquium.jpg
END:VEVENT
BEGIN:VEVENT
DTSTART;TZID=America/New_York:20260306T130000
DTEND;TZID=America/New_York:20260306T150000
DTSTAMP:20260424T004031
CREATED:20260220T153147Z
LAST-MODIFIED:20260220T153147Z
UID:10001037-1772802000-1772809200@dev.bloustein.rutgers.edu
SUMMARY:Dissertation Defense: The Evolving Role of Economic Developers: How Economic Resiliency is Redefining the Profession
DESCRIPTION:Presented by Jessica Paolini. \nThis is a hybrid event. To attend virtually\, use the Zoom link provided via email.
URL:https://dev.bloustein.rutgers.edu/event/dissertation-defense-the-evolving-role-of-economic-developers-how-economic-resiliency-is-redefining-the-profession/
LOCATION:Bloustein School CSB\, Room 113\, 33 Livingston Avenue\, New Brunswick\, NJ\, 08901\, United States
CATEGORIES:Hybrid,Public Policy,Seminar,Urban Planning
ATTACH;FMTTYPE=image/jpeg:https://dev.bloustein.rutgers.edu/wp-content/uploads/2023/10/dissertation-defense.jpg
END:VEVENT
BEGIN:VEVENT
DTSTART;TZID=America/New_York:20260423T100000
DTEND;TZID=America/New_York:20260423T120000
DTSTAMP:20260424T004031
CREATED:20260409T150409Z
LAST-MODIFIED:20260409T150409Z
UID:10001066-1776938400-1776945600@dev.bloustein.rutgers.edu
SUMMARY:Dissertation Defense: Why do Latino parents not enroll their children in a universal Pre-K context? The case of New Brunswick\, NJ
DESCRIPTION:Presented by Janet Venancio Rodriguez \nTo attend virtually\, use the Zoom link provided via email.
URL:https://dev.bloustein.rutgers.edu/event/dissertation-defense-why-do-latino-parents-not-enroll-their-children-in-a-universal-pre-k-context-the-case-of-new-brunswick-nj/
LOCATION:Virtual
CATEGORIES:Hybrid,Public Policy,Seminar,Urban Planning
ATTACH;FMTTYPE=image/jpeg:https://dev.bloustein.rutgers.edu/wp-content/uploads/2023/10/dissertation-defense.jpg
END:VEVENT
BEGIN:VEVENT
DTSTART;TZID=America/New_York:20260427T150000
DTEND;TZID=America/New_York:20260427T170000
DTSTAMP:20260424T004031
CREATED:20260317T135105Z
LAST-MODIFIED:20260319T195448Z
UID:10001054-1777302000-1777309200@dev.bloustein.rutgers.edu
SUMMARY:Bloustein Studio Day 2026
DESCRIPTION:Please join us at the Bloustein School for a special presentation of the graduate planning student’s studio projects\, with a review panel offering feedback and comments. Additional Q&A depending on time. \nThen stay post-event to enjoy an informal networking session with peers and industry professionals\, and continue the conversations from the presentation. \nRSVP HERE
URL:https://dev.bloustein.rutgers.edu/event/bloustein-studio-day-2026/
LOCATION:Gov. James J. Florio Special Events Forum\, CSB\, 33 Livingston Avenue\, New Brunswick\, NJ\, 08901\, United States
CATEGORIES:Hybrid,Student Organization,Symposium/Workshop,Urban Planning
ATTACH;FMTTYPE=image/webp:https://dev.bloustein.rutgers.edu/wp-content/uploads/2026/03/Bloustein-Studio-Day-header.webp
END:VEVENT
END:VCALENDAR