BEGIN:VCALENDAR
VERSION:2.0
PRODID:-//Edward J. Bloustein School of Planning &amp; Public Policy - ECPv6.15.20//NONSGML v1.0//EN
CALSCALE:GREGORIAN
METHOD:PUBLISH
X-ORIGINAL-URL:https://dev.bloustein.rutgers.edu
X-WR-CALDESC:Events for Edward J. Bloustein School of Planning &amp; Public Policy
REFRESH-INTERVAL;VALUE=DURATION:PT1H
X-Robots-Tag:noindex
X-PUBLISHED-TTL:PT1H
BEGIN:VTIMEZONE
TZID:America/New_York
BEGIN:DAYLIGHT
TZOFFSETFROM:-0500
TZOFFSETTO:-0400
TZNAME:EDT
DTSTART:20230312T070000
END:DAYLIGHT
BEGIN:STANDARD
TZOFFSETFROM:-0400
TZOFFSETTO:-0500
TZNAME:EST
DTSTART:20231105T060000
END:STANDARD
BEGIN:DAYLIGHT
TZOFFSETFROM:-0500
TZOFFSETTO:-0400
TZNAME:EDT
DTSTART:20240310T070000
END:DAYLIGHT
BEGIN:STANDARD
TZOFFSETFROM:-0400
TZOFFSETTO:-0500
TZNAME:EST
DTSTART:20241103T060000
END:STANDARD
BEGIN:DAYLIGHT
TZOFFSETFROM:-0500
TZOFFSETTO:-0400
TZNAME:EDT
DTSTART:20250309T070000
END:DAYLIGHT
BEGIN:STANDARD
TZOFFSETFROM:-0400
TZOFFSETTO:-0500
TZNAME:EST
DTSTART:20251102T060000
END:STANDARD
END:VTIMEZONE
BEGIN:VEVENT
DTSTART;VALUE=DATE:20241107
DTEND;VALUE=DATE:20241118
DTSTAMP:20260422T063520
CREATED:20241017T154204Z
LAST-MODIFIED:20241017T154204Z
UID:10000626-1730937600-1731887999@dev.bloustein.rutgers.edu
SUMMARY:Bildner Center: The 25th Annual Rutgers Jewish Film Festival\, November 7–21
DESCRIPTION:The The 25th Annual Rutgers Jewish Film Festival will feature fourteen thought-provoking and entertaining films\, dynamic discussions with filmmakers and special guests\, and numerous New Jersey premieres on dance\, music\, the LGBTQ+ experience\, American Jewish history\, and Israeli society. \nTwelve films will be screened at the Regal Cinema Commerce Center\, North Brunswick (November 7–17)\, and five films will be available virtually (November 15–21). \nFor information or to purchase tickets\, visit BildnerCenter.Rutgers.edu/film.
URL:https://dev.bloustein.rutgers.edu/event/bildner-center-the-25th-annual-rutgers-jewish-film-festival-november-7-21/
LOCATION:Regal Cinema Commerce Center\, 2399 US-1\, North Brunswick\, United States
CATEGORIES:External,Public,Symposium/Workshop
ATTACH;FMTTYPE=image/jpeg:https://dev.bloustein.rutgers.edu/wp-content/uploads/2024/09/bildner_center_calendar.jpg
END:VEVENT
BEGIN:VEVENT
DTSTART;TZID=America/New_York:20241113T090000
DTEND;TZID=America/New_York:20241113T150000
DTSTAMP:20260422T063520
CREATED:20241014T140824Z
LAST-MODIFIED:20241014T140857Z
UID:10000618-1731488400-1731510000@dev.bloustein.rutgers.edu
SUMMARY:Rutgers Climate Symposium 2024: Signals – Climate Change Communication for Understanding and Action
DESCRIPTION:The Rutgers Climate Symposium fosters collaboration among researchers and students across all disciplines from institutions in the Mid-Atlantic region who are interested in climate change\, renewable energy\, energy efficiency\, or other approaches to reducing greenhouse gas emissions. \nFEATURING \n\nKatherine Blunt\, Author and Journalist\nWilliam Hallman\, Distinguished Professor of Human Ecology\, Rutgers University\nBenjamin Santer\, Atmospheric Scientist\, Woods Hole Oceanographic Institute & University of California at Los Angeles\nJulia Watson\, Landscape Designer\, Julia Watson LLC & Lo-TEK Institute\n\nPoster abstracts due November 1\, 2024.\nRegister to attend in person by November 7.\nPosters can be on any scholarly climate change research. \nSymposium free for students\, faculty and staff of academic and research institutions. Complete details at https://ruclimatesymposium.rutgers.edu/
URL:https://dev.bloustein.rutgers.edu/event/rutgers-climate-symposium-2024-signals-climate-change-communication-for-understanding-and-action/
LOCATION:Douglass Student Center\, 100 George Street\, New Brunswick\, NJ\, 08901\, United States
CATEGORIES:External,Public Policy,Symposium/Workshop,Urban Planning
ATTACH;FMTTYPE=image/png:https://dev.bloustein.rutgers.edu/wp-content/uploads/2024/10/2024-climate-symposium-calendar.png
END:VEVENT
BEGIN:VEVENT
DTSTART;TZID=America/New_York:20241113T160000
DTEND;TZID=America/New_York:20241113T173000
DTSTAMP:20260422T063520
CREATED:20241015T202408Z
LAST-MODIFIED:20241114T192922Z
UID:10000620-1731513600-1731519000@dev.bloustein.rutgers.edu
SUMMARY:Meck Memorial Lecture--Not the Master’s Tools: 5\,000 years of  Money\, Credit\, and Community Banking
DESCRIPTION:Presented by\nOscar Perry Abello\nSenior Economics Correspondent\, Next City \nWhile the laws\, regulations\, and structure of banking greatly influence land use\, urban planning and housing\, banking itself is poorly understood—even by many who work in banking. Looking around today\, it may seem like big banks have always lorded over the economy\, but in reality\, it was community banks that did the bulk of the work to finance the expansion of infrastructure\, homes\, small businesses and industries that built the cities and rural economies that make up our country today. Even less understood is how the pattern of local ownership and local control over the banking system that helped build this country is part of a pattern that has shown up in thriving cultures and societies going back 5\,000 years\, to the very earliest written records of human activity we have found so far. While it is true\, as Audre Lorde wrote\, that the master’s tools will never dismantle the master’s house\, banking and money and credit were never the master’s tools to begin with. It’s time for communities to take them back again. \nOscar Perry Abello is currently the senior economic justice correspondent for Next City\, an independent\, not-for-profit\, online publication covering cities from the lens of social\, racial\, and environmental justice. He is also the author of The Banks We Deserve: Reclaiming Community Banking for a Just Economy\, forthcoming in February 2025 from Island Press. Oscar’s writing has also appeared in Yes! Magazine\, City & State New York\, Impact Alpha\, Shelterforce\, and other outlets. Oscar is a child of immigrants descended from the former colonial subjects of the Spanish and U.S. imperial regimes in the Philippines. He was born in New York City\, and raised in the inner-ring suburbs of Philadelphia. He has a bachelor’s degree from Villanova University\, majoring in economics and minoring in peace and justice studies. He spent several years embedded in the international development industry before transitioning into journalism full-time in 2015. He currently lives in New York City with his domestic partner and the two most photogenic kitties in the world. \nWatch the Video
URL:https://dev.bloustein.rutgers.edu/event/meck-memorial-lecture-not-the-masters-tools-5000-years-of-money-credit-and-community-banking/
LOCATION:Bloustein School\, Civic Square Building\, 33 Livingston Avenue\, New Brunswick\, NJ\, 08901\, United States
CATEGORIES:Alumni,Public,Public Policy,Seminar,Urban Planning
ATTACH;FMTTYPE=image/jpeg:https://dev.bloustein.rutgers.edu/wp-content/uploads/2024/10/EJBPPP-Meck-CommunityBanking-header.jpg
END:VEVENT
BEGIN:VEVENT
DTSTART;VALUE=DATE:20241115
DTEND;VALUE=DATE:20241122
DTSTAMP:20260422T063520
CREATED:20241017T154430Z
LAST-MODIFIED:20241017T154452Z
UID:10000627-1731628800-1732233599@dev.bloustein.rutgers.edu
SUMMARY:Bildner Center: The 25th Annual Rutgers Jewish Film Festival\, November 7–21\, Virtual Events
DESCRIPTION:The The 25th Annual Rutgers Jewish Film Festival will feature fourteen thought-provoking and entertaining films\, dynamic discussions with filmmakers and special guests\, and numerous New Jersey premieres on dance\, music\, the LGBTQ+ experience\, American Jewish history\, and Israeli society. \nTwelve films will be screened at the Regal Cinema Commerce Center\, North Brunswick (November 7–17)\, and five films will be available virtually (November 15–21). \nFor information or to purchase tickets\, visit BildnerCenter.Rutgers.edu/film.
URL:https://dev.bloustein.rutgers.edu/event/bildner-center-the-25th-annual-rutgers-jewish-film-festival-november-7-21-2/
LOCATION:Virtual
CATEGORIES:External,Public,Symposium/Workshop
ATTACH;FMTTYPE=image/jpeg:https://dev.bloustein.rutgers.edu/wp-content/uploads/2024/09/bildner_center_calendar.jpg
END:VEVENT
BEGIN:VEVENT
DTSTART;VALUE=DATE:20241118
DTEND;VALUE=DATE:20241221
DTSTAMP:20260422T063520
CREATED:20241118T170711Z
LAST-MODIFIED:20241203T190211Z
UID:10000640-1731888000-1734739199@dev.bloustein.rutgers.edu
SUMMARY:Bloustein DEIB Committee Holiday Toy Drive
DESCRIPTION:The Bloustein School Diversity\, Equity\, Inclusion and Belonging Committee invites you to participate in a Holiday Toy Drive benefitting the Harmony Family Success Center. \nDonate new\, unwrapped toys for kids aged 0-12. In addition to toys\, we are collecting wrapping paper\, ribbons\, and tape to help wrap the gifts for distribution. \nDROP OFF LOCATION: Boxes will be placed inside the Civic Square Building\, 33 Livingston Avenue\, New Brunswick with the flyer attached. \nDONATION PERIOD: Beginning Monday\, Nov. 18 through Friday\, Dec. 20 \nQuestions? Contact Bloustein School DEIB Graduate Fellow Siclali Flores at diversity@ejb.rutgers.edu.
URL:https://dev.bloustein.rutgers.edu/event/bloustein-deib-committee-holiday-toy-drive/
LOCATION:Bloustein School\, Civic Square Building\, 33 Livingston Avenue\, New Brunswick\, NJ\, 08901\, United States
CATEGORIES:Diversity,Public,Social Gathering,Student Organization,Student Services
ATTACH;FMTTYPE=image/png:https://dev.bloustein.rutgers.edu/wp-content/uploads/2024/11/DEIB-Holiday-Toy-Drive-2024-1920-x-1080-px.png
END:VEVENT
BEGIN:VEVENT
DTSTART;TZID=America/New_York:20241120T160000
DTEND;TZID=America/New_York:20241120T180000
DTSTAMP:20260422T063520
CREATED:20241112T221814Z
LAST-MODIFIED:20241112T221814Z
UID:10000639-1732118400-1732125600@dev.bloustein.rutgers.edu
SUMMARY:Walking Tour of The Park\, Berkeley Heights\, NJ
DESCRIPTION:Join us for a tour of Round Table Studios and the first ever Work Resort in the United States. Situated on a 185-acre campus in Berkeley Heights\, NJ\, the Connell Family has invested over $500 million in the first-of-its-kind\, innovative resort environment in the United States for working\, living\, relaxing\, and dining. Round Table Studios and its Social By Nature theme successfully bring together work\, hospitality\, design\, leisure\, wellness\, Outdoor activities\, social clubs\, living\, and culinary experiences in one location. \nThe tour will begin at Round Table Studios. Situated on a walkable\, 185-acre campus\, the tour will cover all of the design\, style and amenities designed to create a resort environment on the most modern work/live/play campus in the US. \nSPACE IS LIMITED. Registration required by emailing RobertAshmun@gmail.com. \nParticipants should plan to wear comfortable attire/shoes and are responsible for their own transportation to/from the tour site. 2.0 AICP CM credits.
URL:https://dev.bloustein.rutgers.edu/event/walking-tour-of-the-park-berkeley-heights-nj/
LOCATION:The Park\, 200 Connell Drive\, Berkeley Heights\, 07922\, United States
CATEGORIES:Public,Public Policy,Social Gathering,Urban Planning
ATTACH;FMTTYPE=image/png:https://dev.bloustein.rutgers.edu/wp-content/uploads/2024/11/The-Park-Tour-1920-x-1080-px.png
END:VEVENT
END:VCALENDAR