BEGIN:VCALENDAR
VERSION:2.0
PRODID:-//Edward J. Bloustein School of Planning &amp; Public Policy - ECPv6.15.20//NONSGML v1.0//EN
CALSCALE:GREGORIAN
METHOD:PUBLISH
X-WR-CALNAME:Edward J. Bloustein School of Planning &amp; Public Policy
X-ORIGINAL-URL:https://dev.bloustein.rutgers.edu
X-WR-CALDESC:Events for Edward J. Bloustein School of Planning &amp; Public Policy
REFRESH-INTERVAL;VALUE=DURATION:PT1H
X-Robots-Tag:noindex
X-PUBLISHED-TTL:PT1H
BEGIN:VTIMEZONE
TZID:America/New_York
BEGIN:DAYLIGHT
TZOFFSETFROM:-0500
TZOFFSETTO:-0400
TZNAME:EDT
DTSTART:20220313T070000
END:DAYLIGHT
BEGIN:STANDARD
TZOFFSETFROM:-0400
TZOFFSETTO:-0500
TZNAME:EST
DTSTART:20221106T060000
END:STANDARD
BEGIN:DAYLIGHT
TZOFFSETFROM:-0500
TZOFFSETTO:-0400
TZNAME:EDT
DTSTART:20230312T070000
END:DAYLIGHT
BEGIN:STANDARD
TZOFFSETFROM:-0400
TZOFFSETTO:-0500
TZNAME:EST
DTSTART:20231105T060000
END:STANDARD
BEGIN:DAYLIGHT
TZOFFSETFROM:-0500
TZOFFSETTO:-0400
TZNAME:EDT
DTSTART:20240310T070000
END:DAYLIGHT
BEGIN:STANDARD
TZOFFSETFROM:-0400
TZOFFSETTO:-0500
TZNAME:EST
DTSTART:20241103T060000
END:STANDARD
END:VTIMEZONE
BEGIN:VEVENT
DTSTART;TZID=America/New_York:20230915T140000
DTEND;TZID=America/New_York:20230915T170000
DTSTAMP:20260421T011436
CREATED:20230822T180254Z
LAST-MODIFIED:20231017T182523Z
UID:10000031-1694786400-1694797200@dev.bloustein.rutgers.edu
SUMMARY:A Conversation with New Jersey’s Flood Experts
DESCRIPTION:Join the New Jersey Climate Change Resource Center and the Rutgers University Bloustein School of Planning and Public Policy’s Environmental Analysis and Communications Group in a discussion with flood hazard experts from the New Jersey Department of Environmental Protection. Learn more about recently adopted state regulations regarding flooding and stormwater management and hear about new regulations and guidance on the horizon. \nTHIS EVENT IS FREE AND OPEN TO THE PUBLIC\, BUT SPACE IS LIMITED AND REGISTRATION IS REQUIRED. \nREGISTER HERE: https://docs.google.com/forms/d/e/1FAIpQLSftnG_SQKB3ZxrULwG3JNo2bw6QzTbi3U_lHPK841fLHWIm1w/viewform
URL:https://dev.bloustein.rutgers.edu/event/a-conversation-with-new-jerseys-flood-experts/
LOCATION:Gov. James J. Florio Special Events Forum\, CSB\, 33 Livingston Avenue\, New Brunswick\, NJ\, 08901\, United States
CATEGORIES:Public
ATTACH;FMTTYPE=image/jpeg:https://dev.bloustein.rutgers.edu/wp-content/uploads/2023/08/calendar-floodexperts.jpg
END:VEVENT
END:VCALENDAR