BEGIN:VCALENDAR
VERSION:2.0
PRODID:-//Edward J. Bloustein School of Planning &amp; Public Policy - ECPv6.15.20//NONSGML v1.0//EN
CALSCALE:GREGORIAN
METHOD:PUBLISH
X-ORIGINAL-URL:https://dev.bloustein.rutgers.edu
X-WR-CALDESC:Events for Edward J. Bloustein School of Planning &amp; Public Policy
REFRESH-INTERVAL;VALUE=DURATION:PT1H
X-Robots-Tag:noindex
X-PUBLISHED-TTL:PT1H
BEGIN:VTIMEZONE
TZID:America/New_York
BEGIN:DAYLIGHT
TZOFFSETFROM:-0500
TZOFFSETTO:-0400
TZNAME:EDT
DTSTART:20220313T070000
END:DAYLIGHT
BEGIN:STANDARD
TZOFFSETFROM:-0400
TZOFFSETTO:-0500
TZNAME:EST
DTSTART:20221106T060000
END:STANDARD
BEGIN:DAYLIGHT
TZOFFSETFROM:-0500
TZOFFSETTO:-0400
TZNAME:EDT
DTSTART:20230312T070000
END:DAYLIGHT
BEGIN:STANDARD
TZOFFSETFROM:-0400
TZOFFSETTO:-0500
TZNAME:EST
DTSTART:20231105T060000
END:STANDARD
BEGIN:DAYLIGHT
TZOFFSETFROM:-0500
TZOFFSETTO:-0400
TZNAME:EDT
DTSTART:20240310T070000
END:DAYLIGHT
BEGIN:STANDARD
TZOFFSETFROM:-0400
TZOFFSETTO:-0500
TZNAME:EST
DTSTART:20241103T060000
END:STANDARD
END:VTIMEZONE
BEGIN:VEVENT
DTSTART;TZID=America/New_York:20231101T083000
DTEND;TZID=America/New_York:20231101T154000
DTSTAMP:20260424T000420
CREATED:20231017T175422Z
LAST-MODIFIED:20231017T182110Z
UID:10000153-1698827400-1698853200@dev.bloustein.rutgers.edu
SUMMARY:2023 NJ Complete Streets Summit
DESCRIPTION:The 2023 New Jersey Complete Streets Summit\, sponsored by the New Jersey Department of Transportation\, will be held on Wednesday\, November 1\, 2023. The full-day event will be held in-person at the College Avenue Campus Student Center at Rutgers University in New Brunswick\, and is free to attend. Registration is open and will be required due to capacity constraints.  \nComplete Streets are streets designed for all road users based on the specific context and needs of your community. This biennial Summit brings together planners\, engineers\, public officials\, health professionals\, advocates\, and others involved with shaping communities throughout New Jersey. Summit session topics will include institutionalizing Complete and Green Streets policies\, lessons learned from implementation\, and what is in store for the Complete Streets movement. \nAs part of the Summit\, we will be presenting Complete Streets Champion and Complete Streets Excellence Awards to recognize individuals\, groups\, or communities who have worked to further Complete Streets policies or implementation in New Jersey. \nIf you are planning to drive to the Summit\, you must register for a parking permit ahead of time.
URL:https://dev.bloustein.rutgers.edu/event/2023-nj-complete-streets-summit/
LOCATION:College Avenue Student Center\, 126 College Avenue\, New Brunswick\, NJ\, 08901\, United States
CATEGORIES:External,Public,Symposium/Workshop
ATTACH;FMTTYPE=image/png:https://dev.bloustein.rutgers.edu/wp-content/uploads/2023/10/complete-streets-2023.png
END:VEVENT
BEGIN:VEVENT
DTSTART;TZID=America/New_York:20231102T160000
DTEND;TZID=America/New_York:20231102T173000
DTSTAMP:20260424T000420
CREATED:20230908T191322Z
LAST-MODIFIED:20230908T191430Z
UID:10000039-1698940800-1698946200@dev.bloustein.rutgers.edu
SUMMARY:Bloustein Research Seminar Series: Racial discrimination and mental health in the context of anti-Asian xenophobia
DESCRIPTION:Presented by Yen-Tyng Chen\, Assistant Professor\, Bloustein School. \nThis venue will enable our faculty to share research\, build community\, and extend our networks. Pizza will be served. The goal is for the seminar to include a mix of Bloustein faculty\, occasional advanced PhD students\, and external speakers who will present research talks. The seminar series is open to the entire Bloustein community.
URL:https://dev.bloustein.rutgers.edu/event/bloustein-research-seminar-series-racial-discrimination-and-mental-health-in-the-context-of-anti-asian-xenophobia-2/
LOCATION:Bloustein School\, Civic Square Building\, 33 Livingston Avenue\, New Brunswick\, NJ\, 08901\, United States
CATEGORIES:Faculty Bloustein,Public,Staff Bloustein
ATTACH;FMTTYPE=image/jpeg:https://dev.bloustein.rutgers.edu/wp-content/uploads/2023/09/2023-research-seminar-calendar.jpg
END:VEVENT
BEGIN:VEVENT
DTSTART;TZID=America/New_York:20231102T163000
DTEND;TZID=America/New_York:20231102T173000
DTSTAMP:20260424T000420
CREATED:20231015T194213Z
LAST-MODIFIED:20231115T204911Z
UID:10000291-1698942600-1698946200@dev.bloustein.rutgers.edu
SUMMARY:Anita Ashok Datar Lecture on Women's Global Health: Women's Rights as Human Rights: The Seeds of Transformation
DESCRIPTION:Join the Institute for Women’s Leadership\, Rutgers Global\, and the Innovation\, Design and Entrepreneurship Academy (IDEA) on November 2 for the Anita Ashok Datar Lecture on Women’s Global Health featuring Dr. Radhika Coomaraswamy\, a Sri Lankan lawyer\, diplomat\, and human rights advocate\, who served as the Under-Secretary-General of the United Nations (UN) and The Special Representative on Children and Armed Conflict. Following her lecture\, Dr. Coomaraswamy\, Professor Charlotte Bunch\, and Professor Radhika Balakrishnan will engage in a roundtable conversation to consider progress towards women’s full inclusion in the human rights agenda and the challenges that remain. \nThis event is open to students\, faculty\, staff\, alumni\, and the wider community. \nRegister at https://www.eventbrite.com/e/anita-ashok-datar-lecture-on-womens-global-health-tickets-710266675747?aff=oddtdtcreator
URL:https://dev.bloustein.rutgers.edu/event/anita-ashok-datar-lecture-on-womens-global-health-2023/
LOCATION:Douglass Student Center\, 100 George Street\, New Brunswick\, NJ\, 08901\, United States
CATEGORIES:External,Public
ATTACH;FMTTYPE=image/png:https://dev.bloustein.rutgers.edu/wp-content/uploads/2023/10/event_womens-rights-lecture-11-23.png
END:VEVENT
END:VCALENDAR