BEGIN:VCALENDAR
VERSION:2.0
PRODID:-//Edward J. Bloustein School of Planning &amp; Public Policy - ECPv6.15.20//NONSGML v1.0//EN
CALSCALE:GREGORIAN
METHOD:PUBLISH
X-WR-CALNAME:Edward J. Bloustein School of Planning &amp; Public Policy
X-ORIGINAL-URL:https://dev.bloustein.rutgers.edu
X-WR-CALDESC:Events for Edward J. Bloustein School of Planning &amp; Public Policy
REFRESH-INTERVAL;VALUE=DURATION:PT1H
X-Robots-Tag:noindex
X-PUBLISHED-TTL:PT1H
BEGIN:VTIMEZONE
TZID:America/New_York
BEGIN:DAYLIGHT
TZOFFSETFROM:-0500
TZOFFSETTO:-0400
TZNAME:EDT
DTSTART:20230312T070000
END:DAYLIGHT
BEGIN:STANDARD
TZOFFSETFROM:-0400
TZOFFSETTO:-0500
TZNAME:EST
DTSTART:20231105T060000
END:STANDARD
BEGIN:DAYLIGHT
TZOFFSETFROM:-0500
TZOFFSETTO:-0400
TZNAME:EDT
DTSTART:20240310T070000
END:DAYLIGHT
BEGIN:STANDARD
TZOFFSETFROM:-0400
TZOFFSETTO:-0500
TZNAME:EST
DTSTART:20241103T060000
END:STANDARD
BEGIN:DAYLIGHT
TZOFFSETFROM:-0500
TZOFFSETTO:-0400
TZNAME:EDT
DTSTART:20250309T070000
END:DAYLIGHT
BEGIN:STANDARD
TZOFFSETFROM:-0400
TZOFFSETTO:-0500
TZNAME:EST
DTSTART:20251102T060000
END:STANDARD
END:VTIMEZONE
BEGIN:VEVENT
DTSTART;TZID=America/New_York:20240125T120000
DTEND;TZID=America/New_York:20240125T130000
DTSTAMP:20260425T193823
CREATED:20240116T201539Z
LAST-MODIFIED:20240116T201651Z
UID:10000367-1706184000-1706187600@dev.bloustein.rutgers.edu
SUMMARY:Rutgers School of Public Health--Consequences of the End of Roe: Lessons from The Turnaway Study
DESCRIPTION:Join University of California\, San Francisco’s Professor Diana Greene Foster – a 2023 MacArthur “Genius” Fellow – for “Consequences of the End of Roe: Lessons from The Turnaway Study\,” on January 25\, 2024.\n\nThis webinar is part of the Rutgers School of Public Health’s 21PHirst Signature Series\, which is focused on abortion action and justice this year. This webinar will describe what is known about the change in access to abortion that resulted from the end of a federally protected right to abortion. This webinar will also describe the consequences for people who are unable to access abortion based on findings from the UCSF Turnaway Study. Professor Diana Greene Foster will conclude by describing the challenges of studying consequences of abortion bans post-Dobbs.\n\nZoom login information will be sent 1-week before the webinar. By registering for this webinar\, we’ll invite you to future webinars that are part of this year’s series. Register at go.rutgers.edu/dgfoster
URL:https://dev.bloustein.rutgers.edu/event/consequences-of-the-end-of-roe-lessons-from-the-turnaway-study/
LOCATION:Virtual
CATEGORIES:External,Public,Virtual
ATTACH;FMTTYPE=image/jpeg:https://dev.bloustein.rutgers.edu/wp-content/uploads/2024/01/rutgersSPH-consequences-end-of-roe.jpg
END:VEVENT
BEGIN:VEVENT
DTSTART;TZID=America/New_York:20240125T120000
DTEND;TZID=America/New_York:20240125T130000
DTSTAMP:20260425T193823
CREATED:20240116T211343Z
LAST-MODIFIED:20240116T211343Z
UID:10000368-1706184000-1706187600@dev.bloustein.rutgers.edu
SUMMARY:Navigating Tensions\, Affirming Community--What Does Community Mean in a Polarized Society?
DESCRIPTION:Kazu Haga is the Co-Director of the Embodiment Project and one of the most experienced trainers in Kingian Nonviolence\, a philosophy that comes out of the legacy of Dr. Martin Luther King Jr. A leading voice nationally in various approaches to nonviolence\, organizing and restorative justice\, he works to empower incarcerated communities\, youth and activists to work for Beloved Community. Kazu Haga lives in Oakland\, California. \n\nRSVP HERE. \nTo learn more\, visit go.rutgers.edu/meetthemoment\nQuestions? Email diversity@rutgers.edu\n\n 
URL:https://dev.bloustein.rutgers.edu/event/navigating-tensions-affirming-community-what-does-community-mean-in-a-polarized-society/
LOCATION:Zimmerli Art Museum at Rutgers University\, 71 Hamilton Street\, New Brunswick\, NJ\, 08901\, United States
CATEGORIES:External,Hybrid,Public
ATTACH;FMTTYPE=image/jpeg:https://dev.bloustein.rutgers.edu/wp-content/uploads/2024/01/navigating-tensions-speaker-series.jpg
END:VEVENT
END:VCALENDAR