BEGIN:VCALENDAR
VERSION:2.0
PRODID:-//Edward J. Bloustein School of Planning &amp; Public Policy - ECPv6.15.20//NONSGML v1.0//EN
CALSCALE:GREGORIAN
METHOD:PUBLISH
X-WR-CALNAME:Edward J. Bloustein School of Planning &amp; Public Policy
X-ORIGINAL-URL:https://dev.bloustein.rutgers.edu
X-WR-CALDESC:Events for Edward J. Bloustein School of Planning &amp; Public Policy
REFRESH-INTERVAL;VALUE=DURATION:PT1H
X-Robots-Tag:noindex
X-PUBLISHED-TTL:PT1H
BEGIN:VTIMEZONE
TZID:America/New_York
BEGIN:DAYLIGHT
TZOFFSETFROM:-0500
TZOFFSETTO:-0400
TZNAME:EDT
DTSTART:20230312T070000
END:DAYLIGHT
BEGIN:STANDARD
TZOFFSETFROM:-0400
TZOFFSETTO:-0500
TZNAME:EST
DTSTART:20231105T060000
END:STANDARD
BEGIN:DAYLIGHT
TZOFFSETFROM:-0500
TZOFFSETTO:-0400
TZNAME:EDT
DTSTART:20240310T070000
END:DAYLIGHT
BEGIN:STANDARD
TZOFFSETFROM:-0400
TZOFFSETTO:-0500
TZNAME:EST
DTSTART:20241103T060000
END:STANDARD
BEGIN:DAYLIGHT
TZOFFSETFROM:-0500
TZOFFSETTO:-0400
TZNAME:EDT
DTSTART:20250309T070000
END:DAYLIGHT
BEGIN:STANDARD
TZOFFSETFROM:-0400
TZOFFSETTO:-0500
TZNAME:EST
DTSTART:20251102T060000
END:STANDARD
END:VTIMEZONE
BEGIN:VEVENT
DTSTART;TZID=America/New_York:20240221T170000
DTEND;TZID=America/New_York:20240221T180000
DTSTAMP:20260425T182541
CREATED:20240122T204527Z
LAST-MODIFIED:20240207T212808Z
UID:10000378-1708534800-1708538400@dev.bloustein.rutgers.edu
SUMMARY:Defending Democracy: The Fight for a Floor Beneath Which No Person Should Fall
DESCRIPTION:The Gov. James J. Florio Visiting Scholar in Public Policy Lecture\nIn partnership with the offices of Florio\, Perrucci\, Steinhardt\, & Fader LLC\, in 2015 the Bloustein School recognized Gov. Florio’s public service career through the endowment of a high-level visiting scholar. The annual Governor James J. Florio Distinguished Visiting Scholar of Public Policy will be a former senior government official or policy practitioner\, focusing on an issue that was central to his legislative and gubernatorial career. The themes of the lecture include public service\, foreign policy\, the environment\, transportation and mass transit\, education\, welfare reform\, health care\, and gun control. \nCongresswoman Bonnie Watson Coleman\nU.S. House of Representatives (D-NJ 12th District); House Appropriations Committee \nThe first Black woman to represent New Jersey in Congress\, Bonnie Watson Coleman’s work in the House centers on her belief that\, in the United States\, there should exist a floor below which we should never allow any child\, any family\, any person to fall. Knowing that millions struggle every day just to make ends meet from the first to the last of the month\, her legislative work seeks to bridge the gap for these Americans\, making sure that the richest nation in the world doesn’t allow millions to live below the poverty line; doesn’t allow vulnerable groups to suffer the fallout of environmental violations; doesn’t allow profit margins to define the standards or the motivations for incarceration; and doesn’t allow bias to push everyday needs like car insurance out of reach for working families. \nWatson Coleman’s work in Congress continues a family legacy of public service\, fighting for women\, economically and socially disadvantaged populations\, and other vulnerable groups in our society. Prior to her election as a Representative for New Jersey’s 12th Congressional District\, Watson Coleman served eight consecutive terms in the New Jersey General Assembly and shattered racial and gender barriers to become the first Black woman to serve as Majority Leader\, and as the Chair of the New Jersey Democratic State Committee. During her time as Majority Leader\, Watson Coleman convened a year- long series of public hearings on reforms to prisoner re-entry programs while shepherding legislation through the Assembly that the New York Times called “a model for the rest of the nation\,” on prisoner rehabilitation and release. \nFree and open to the public. Register at https://go.rutgers.edu/ejbflorio2024
URL:https://dev.bloustein.rutgers.edu/event/gov-james-j-florio-distinguished-visiting-scholar-in-public-policy-lecture/
LOCATION:Gov. James J. Florio Special Events Forum\, CSB\, 33 Livingston Avenue\, New Brunswick\, NJ\, 08901\, United States
CATEGORIES:Public,Public Policy
ATTACH;FMTTYPE=image/jpeg:https://dev.bloustein.rutgers.edu/wp-content/uploads/2024/01/bonnie-watson-coleman-022124.jpg
END:VEVENT
END:VCALENDAR