BEGIN:VCALENDAR
VERSION:2.0
PRODID:-//Edward J. Bloustein School of Planning &amp; Public Policy - ECPv6.15.20//NONSGML v1.0//EN
CALSCALE:GREGORIAN
METHOD:PUBLISH
X-WR-CALNAME:Edward J. Bloustein School of Planning &amp; Public Policy
X-ORIGINAL-URL:https://dev.bloustein.rutgers.edu
X-WR-CALDESC:Events for Edward J. Bloustein School of Planning &amp; Public Policy
REFRESH-INTERVAL;VALUE=DURATION:PT1H
X-Robots-Tag:noindex
X-PUBLISHED-TTL:PT1H
BEGIN:VTIMEZONE
TZID:America/New_York
BEGIN:DAYLIGHT
TZOFFSETFROM:-0500
TZOFFSETTO:-0400
TZNAME:EDT
DTSTART:20240310T070000
END:DAYLIGHT
BEGIN:STANDARD
TZOFFSETFROM:-0400
TZOFFSETTO:-0500
TZNAME:EST
DTSTART:20241103T060000
END:STANDARD
BEGIN:DAYLIGHT
TZOFFSETFROM:-0500
TZOFFSETTO:-0400
TZNAME:EDT
DTSTART:20250309T070000
END:DAYLIGHT
BEGIN:STANDARD
TZOFFSETFROM:-0400
TZOFFSETTO:-0500
TZNAME:EST
DTSTART:20251102T060000
END:STANDARD
BEGIN:DAYLIGHT
TZOFFSETFROM:-0500
TZOFFSETTO:-0400
TZNAME:EDT
DTSTART:20260308T070000
END:DAYLIGHT
BEGIN:STANDARD
TZOFFSETFROM:-0400
TZOFFSETTO:-0500
TZNAME:EST
DTSTART:20261101T060000
END:STANDARD
END:VTIMEZONE
BEGIN:VEVENT
DTSTART;TZID=America/New_York:20250422T153000
DTEND;TZID=America/New_York:20250422T173000
DTSTAMP:20260424T183706
CREATED:20250407T211716Z
LAST-MODIFIED:20250407T211722Z
UID:10000809-1745335800-1745343000@dev.bloustein.rutgers.edu
SUMMARY:Demographic and Fiscal Modeling for Environmental Planning:  New tools from NSF-funded projects
DESCRIPTION:This event will introduce new planning tools for assessing the impacts of development and disasters on local public finances. especially the local property tax. Attendees will learn about a new\, freely accessible online database of residential demographic multipliers for estimating the population and service needs associated with increments or decrements of housing development. They will also gain experience with a new\, free\, accessible\, online modeling tool for estimating the local fiscal impacts of disaster scenarios. \nBoth tools have been validated for New Jersey and can be used in all 50 U.S. states. Attendees will also learn the results of a public opinion survey regarding how to manage flood risks in New Jersey. \n\n\n\n\nPLEASE NOTE: This is a hybrid event. If you wish to attend virtually\, you MUST indicate when you register that you will be attending virtually. A Zoom link will be sent out closer to the event date to those who have registered for this option. \nRSVP HERE \n\n\n\n\n\n\n\n\n\n\n\n3:30 pm INTRODUCTION AND WELCOME\nProf. David Listokin\, Bloustein School\, Rutgers University\, and Faculty Liasion on APA New Jersey Executive Committee\n\n3:35 pm  DEMOGRAPHIC\, FISCAL\, and ENVIRONMENTAL MODELING RESEARCH\n\nOverview of NSF Projects\nby Prof. Clinton Andrews\, AICP\, Bloustein School\, Rutgers University (moderator)\nNew Jersey’s Flooding Exposure and Implications (Online NJADAPT Portal)\nby Pritpal Bamhrah\, Center for Urban Policy Research\, Rutgers University\nNew Jersey Resident Perspectives on Flood Risk and Response (Eagleton Survey)\nby Garin Bulger\, Center for Urban Policy Research\, Rutgers University\nResidential Demographic Multipliers for Impact Modeling (Online Update for 50 U.S. States)\nby David Listokin and Umer Farooq\, Center for Urban Policy Research\, Rutgers University\nLocal Fiscal Impacts of Flood Events (New Online Fiscal Impact Analysis Model)\nby Junghoon Lee\, Center for Urban Policy Research\, Rutgers University\n\n4:40 pm PERSPECTIVES ON THE RESEARCH  \n–J. Creigh Rahenkamp\, NJPP\, Creigh Rahenkamp & Associates\, LLC\, APA New Jersey Housing Chair (moderator)\n–Stan Slachetka\, FAICP\, PP\, Special Projects Planning Leader\, Pennoni\n–Donna Rendeiro\, Former Executive Director\, Office of Planning Advocacy and the State Planning Commission\n–Robert Goldsmith\, Partner/Co-Chair Redevelopment and Land Use Department\, Greenbaum\, Rowe\, Smith & Davis LLP\n\n5:10 pm DISCUSSION \n\n5:30 pm LIGHT REFRESHMENTS (Forum Lobby)
URL:https://dev.bloustein.rutgers.edu/event/demographic-and-fiscal-modeling-for-environmental-planning-new-tools-from-nsf-funded-projects/
LOCATION:Bloustein School\, Civic Square Building\, 33 Livingston Avenue\, New Brunswick\, NJ\, 08901\, United States
CATEGORIES:Hybrid,Public,Symposium/Workshop,Urban Planning
ATTACH;FMTTYPE=image/webp:https://dev.bloustein.rutgers.edu/wp-content/uploads/2025/04/Demographic-Fiscal-Modeling-event-header-small.webp
END:VEVENT
BEGIN:VEVENT
DTSTART;TZID=America/New_York:20250424T120000
DTEND;TZID=America/New_York:20250424T140000
DTSTAMP:20260424T183706
CREATED:20250401T132744Z
LAST-MODIFIED:20250401T132744Z
UID:10000805-1745496000-1745503200@dev.bloustein.rutgers.edu
SUMMARY:Bloustein Honors Research Program Poster Session
DESCRIPTION:The members of the 2024-25 Bloustein Honors Research Program cohort will be presenting their individual research projects in a Research Poster Session on Thursday\, April 24\, from noon to 2:00 pm \nThey will also present an Oral Thesis Defense on Thursday\, May 1\, noon to 2:30 pm\, room 369 \nDuring the poster session\, students will present a brief overview of their project and answer questions from the audience about the poster portrayal of their work. During the oral thesis defense\, each student will give a 15-minute academic research presentation about their project and answer questions from the faculty\, leadership\, and others in the audience.
URL:https://dev.bloustein.rutgers.edu/event/bloustein-honors-research-program-poster-session-2/
LOCATION:Gov. James J. Florio Special Events Forum\, CSB\, 33 Livingston Avenue\, New Brunswick\, NJ\, 08901\, United States
CATEGORIES:Hybrid,Public,Seminar
ATTACH;FMTTYPE=image/jpeg:https://dev.bloustein.rutgers.edu/wp-content/uploads/2024/04/bhrp-graphic.jpg
END:VEVENT
END:VCALENDAR