BEGIN:VCALENDAR
VERSION:2.0
PRODID:-//Edward J. Bloustein School of Planning &amp; Public Policy - ECPv6.15.20//NONSGML v1.0//EN
CALSCALE:GREGORIAN
METHOD:PUBLISH
X-WR-CALNAME:Edward J. Bloustein School of Planning &amp; Public Policy
X-ORIGINAL-URL:https://dev.bloustein.rutgers.edu
X-WR-CALDESC:Events for Edward J. Bloustein School of Planning &amp; Public Policy
REFRESH-INTERVAL;VALUE=DURATION:PT1H
X-Robots-Tag:noindex
X-PUBLISHED-TTL:PT1H
BEGIN:VTIMEZONE
TZID:America/New_York
BEGIN:DAYLIGHT
TZOFFSETFROM:-0500
TZOFFSETTO:-0400
TZNAME:EDT
DTSTART:20240310T070000
END:DAYLIGHT
BEGIN:STANDARD
TZOFFSETFROM:-0400
TZOFFSETTO:-0500
TZNAME:EST
DTSTART:20241103T060000
END:STANDARD
BEGIN:DAYLIGHT
TZOFFSETFROM:-0500
TZOFFSETTO:-0400
TZNAME:EDT
DTSTART:20250309T070000
END:DAYLIGHT
BEGIN:STANDARD
TZOFFSETFROM:-0400
TZOFFSETTO:-0500
TZNAME:EST
DTSTART:20251102T060000
END:STANDARD
BEGIN:DAYLIGHT
TZOFFSETFROM:-0500
TZOFFSETTO:-0400
TZNAME:EDT
DTSTART:20260308T070000
END:DAYLIGHT
BEGIN:STANDARD
TZOFFSETFROM:-0400
TZOFFSETTO:-0500
TZNAME:EST
DTSTART:20261101T060000
END:STANDARD
END:VTIMEZONE
BEGIN:VEVENT
DTSTART;TZID=America/New_York:20250512T173000
DTEND;TZID=America/New_York:20250512T210000
DTSTAMP:20260420T032004
CREATED:20250502T143240Z
LAST-MODIFIED:20250502T143254Z
UID:10000818-1747071000-1747083600@dev.bloustein.rutgers.edu
SUMMARY:American Planning Association NYC Metro Chapter Studio Showcase
DESCRIPTION:A showcase of studio work from planning schools in the New York City region\, with comments from a review panel chosen by students. \nBloustein\, Columbia\, Pratt\, Hunter\, NYU will participate in this event.\n\nWe invite you to come support the Bloustein team and see what students in other planning schools are doing. Rebecca Levitsky\, Will Parker\, Mrudhula sai Boppey\, Lisa Lee\, and Vivek Dsouza will represent the Bloustein School and present their studio project.\n\nRSVP is required and you must have a government-issued ID to enter the auditorium. RSVP at go.rutgers.edu/nycstudio.
URL:https://dev.bloustein.rutgers.edu/event/american-planning-association-nyc-metro-chapter-studio-showcase/
LOCATION:Pratt Institute\, Graduate Center for Planning and the Environment\, 61 St. James Place\, Brooklyn\, NY\, 11238\, United States
CATEGORIES:External,Public,Symposium/Workshop,Urban Planning
ATTACH;FMTTYPE=image/webp:https://dev.bloustein.rutgers.edu/wp-content/uploads/2025/05/2025_APA-NYC-Metro-Chapter-Planning-Studio-Showcase.webp
END:VEVENT
END:VCALENDAR