BEGIN:VCALENDAR
VERSION:2.0
PRODID:-//Edward J. Bloustein School of Planning &amp; Public Policy - ECPv6.15.20//NONSGML v1.0//EN
CALSCALE:GREGORIAN
METHOD:PUBLISH
X-WR-CALNAME:Edward J. Bloustein School of Planning &amp; Public Policy
X-ORIGINAL-URL:https://dev.bloustein.rutgers.edu
X-WR-CALDESC:Events for Edward J. Bloustein School of Planning &amp; Public Policy
REFRESH-INTERVAL;VALUE=DURATION:PT1H
X-Robots-Tag:noindex
X-PUBLISHED-TTL:PT1H
BEGIN:VTIMEZONE
TZID:America/New_York
BEGIN:DAYLIGHT
TZOFFSETFROM:-0500
TZOFFSETTO:-0400
TZNAME:EDT
DTSTART:20240310T070000
END:DAYLIGHT
BEGIN:STANDARD
TZOFFSETFROM:-0400
TZOFFSETTO:-0500
TZNAME:EST
DTSTART:20241103T060000
END:STANDARD
BEGIN:DAYLIGHT
TZOFFSETFROM:-0500
TZOFFSETTO:-0400
TZNAME:EDT
DTSTART:20250309T070000
END:DAYLIGHT
BEGIN:STANDARD
TZOFFSETFROM:-0400
TZOFFSETTO:-0500
TZNAME:EST
DTSTART:20251102T060000
END:STANDARD
BEGIN:DAYLIGHT
TZOFFSETFROM:-0500
TZOFFSETTO:-0400
TZNAME:EDT
DTSTART:20260308T070000
END:DAYLIGHT
BEGIN:STANDARD
TZOFFSETFROM:-0400
TZOFFSETTO:-0500
TZNAME:EST
DTSTART:20261101T060000
END:STANDARD
END:VTIMEZONE
BEGIN:VEVENT
DTSTART;TZID=America/New_York:20250529T093000
DTEND;TZID=America/New_York:20250529T120000
DTSTAMP:20260419T230812
CREATED:20250520T201700Z
LAST-MODIFIED:20250520T201700Z
UID:10000826-1748511000-1748520000@dev.bloustein.rutgers.edu
SUMMARY:TOD in Your Downtown: Gentle Density--Unlocking the Missing Middle in Housing
DESCRIPTION:Hosted by NJTOD\, Downtown New Jersey\, and NJ TRANSIT’s Transit Friendly Planning (TFP) Program\, the event will feature a timely discussion on gentle density and missing middle housing in New Jersey. Experts from public agencies\, nonprofit organizations\, and local governments will share their experiences and strategies for expanding diverse housing options while preserving neighborhood character. \nMiddle Housing—ranging from duplexes to buildings with up to 12 units—have been largely sidelined since the mid-20th century\, as zoning regulations prioritized suburban single-family homes or urban high rises. Reintroducing Middle Housing into single-family and transitional neighborhoods offers a practical approach to advancing Gentle Density. \nAs municipalities work to address the state’s housing shortage\, gentle density provides a realistic and context-sensitive solution. This panel will highlight real-world approaches for developing Middle Housing\, the role of public transit in supporting these efforts\, and best practices for creating livable\, affordable\, and sustainable communities. \nRegistration\, Networking & Refreshments at 9:30 AM. Panel at 10:00 AM. \n 
URL:https://dev.bloustein.rutgers.edu/event/tod-in-your-downtown-gentle-density-unlocking-the-missing-middle-in-housing/
LOCATION:NJ Transit Headquarters\, 283-299 Market Street\, Newark\, 07102\, United States
CATEGORIES:External,Public,Seminar
ATTACH;FMTTYPE=image/png:https://dev.bloustein.rutgers.edu/wp-content/uploads/2025/05/Gentle-Density-featured-v2.png
END:VEVENT
END:VCALENDAR