BEGIN:VCALENDAR
VERSION:2.0
PRODID:-//Edward J. Bloustein School of Planning &amp; Public Policy - ECPv6.15.20//NONSGML v1.0//EN
CALSCALE:GREGORIAN
METHOD:PUBLISH
X-WR-CALNAME:Edward J. Bloustein School of Planning &amp; Public Policy
X-ORIGINAL-URL:https://dev.bloustein.rutgers.edu
X-WR-CALDESC:Events for Edward J. Bloustein School of Planning &amp; Public Policy
REFRESH-INTERVAL;VALUE=DURATION:PT1H
X-Robots-Tag:noindex
X-PUBLISHED-TTL:PT1H
BEGIN:VTIMEZONE
TZID:America/New_York
BEGIN:DAYLIGHT
TZOFFSETFROM:-0500
TZOFFSETTO:-0400
TZNAME:EDT
DTSTART:20250309T070000
END:DAYLIGHT
BEGIN:STANDARD
TZOFFSETFROM:-0400
TZOFFSETTO:-0500
TZNAME:EST
DTSTART:20251102T060000
END:STANDARD
BEGIN:DAYLIGHT
TZOFFSETFROM:-0500
TZOFFSETTO:-0400
TZNAME:EDT
DTSTART:20260308T070000
END:DAYLIGHT
BEGIN:STANDARD
TZOFFSETFROM:-0400
TZOFFSETTO:-0500
TZNAME:EST
DTSTART:20261101T060000
END:STANDARD
BEGIN:DAYLIGHT
TZOFFSETFROM:-0500
TZOFFSETTO:-0400
TZNAME:EDT
DTSTART:20270314T070000
END:DAYLIGHT
BEGIN:STANDARD
TZOFFSETFROM:-0400
TZOFFSETTO:-0500
TZNAME:EST
DTSTART:20271107T060000
END:STANDARD
END:VTIMEZONE
BEGIN:VEVENT
DTSTART;TZID=America/New_York:20260210T140000
DTEND;TZID=America/New_York:20260210T150000
DTSTAMP:20260422T124808
CREATED:20260220T151427Z
LAST-MODIFIED:20260220T151427Z
UID:10001030-1770732000-1770735600@dev.bloustein.rutgers.edu
SUMMARY:Intro to Urban Planning & Design Lecture Series: Jesse Hirakawa
DESCRIPTION:The lecture series “Introduction to Urban Planning & Design” is made possible by a Rutgers Teaching Enhancement Grant from the Vice Provost for Experiential Learning awarded to Assistant Professor Carmelo Ignaccolo. \nThis week\, the speaker is Jesse Hirakawa\, Senior Urban Designer\, NYC Department of City Planning. \nThe series will feature an incredible lineup of speakers from public agencies\, design NGOs\, leading design firms\, and international organizations. It is open to both undergraduate and graduate students and will also include a spring class site visit with AECOM’s Landscape Architecture and Urban Design Studio to their award-winning climate-resilient parks in Newark and Lower Manhattan. \nEach event is open to the public\, subject to seat availability. \n 
URL:https://dev.bloustein.rutgers.edu/event/intro-to-urban-planning-design-lecture-series-jesse-hirakawa/
LOCATION:Bloustein School CSB\, Room 261\, 33 Livingston Avenue\, New Brunswick\, NJ\, 08901\, United States
CATEGORIES:Seminar,Urban Planning
ATTACH;FMTTYPE=image/webp:https://dev.bloustein.rutgers.edu/wp-content/uploads/2026/02/UPD-design-series-2026.webp
END:VEVENT
BEGIN:VEVENT
DTSTART;TZID=America/New_York:20260217T140000
DTEND;TZID=America/New_York:20260217T150000
DTSTAMP:20260422T124808
CREATED:20260220T151557Z
LAST-MODIFIED:20260220T151557Z
UID:10001031-1771336800-1771340400@dev.bloustein.rutgers.edu
SUMMARY:Intro to Urban Planning & Design Lecture Series: Einat Lubliner
DESCRIPTION:The lecture series “Introduction to Urban Planning & Design” is made possible by a Rutgers Teaching Enhancement Grant from the Vice Provost for Experiential Learning awarded to Assistant Professor Carmelo Ignaccolo. \nThis week\, the speaker is Einat Lubliner\, Senior Urban Designer\, Bjarke Ingels Group. \nThe series will feature an incredible lineup of speakers from public agencies\, design NGOs\, leading design firms\, and international organizations. It is open to both undergraduate and graduate students and will also include a spring class site visit with AECOM’s Landscape Architecture and Urban Design Studio to their award-winning climate-resilient parks in Newark and Lower Manhattan. \nEach event is open to the public\, subject to seat availability. \n 
URL:https://dev.bloustein.rutgers.edu/event/intro-to-urban-planning-design-lecture-series-einat-lubliner/
LOCATION:Bloustein School CSB\, Room 261\, 33 Livingston Avenue\, New Brunswick\, NJ\, 08901\, United States
CATEGORIES:Seminar,Urban Planning
ATTACH;FMTTYPE=image/webp:https://dev.bloustein.rutgers.edu/wp-content/uploads/2026/02/UPD-design-series-2026.webp
END:VEVENT
BEGIN:VEVENT
DTSTART;TZID=America/New_York:20260219T150000
DTEND;TZID=America/New_York:20260219T170000
DTSTAMP:20260422T124808
CREATED:20260206T184341Z
LAST-MODIFIED:20260206T184341Z
UID:10001026-1771513200-1771520400@dev.bloustein.rutgers.edu
SUMMARY:Dissertation Defense: Expanding Participation in Computing: Navigating Power and Privilege on the Pathway to a Computer Science Degree
DESCRIPTION:Presented by Elaine Zundl. \nTo attend virtually\, use the Zoom link provided via email.
URL:https://dev.bloustein.rutgers.edu/event/dissertation-defense-expanding-participation-in-computing-navigating-power-and-privilege-on-the-pathway-to-a-computer-science-degree/
LOCATION:Virtual
CATEGORIES:Public Policy,Seminar,Urban Planning,Virtual
ATTACH;FMTTYPE=image/jpeg:https://dev.bloustein.rutgers.edu/wp-content/uploads/2023/10/dissertation-defense.jpg
END:VEVENT
BEGIN:VEVENT
DTSTART;TZID=America/New_York:20260303T140000
DTEND;TZID=America/New_York:20260303T150000
DTSTAMP:20260422T124808
CREATED:20260220T151720Z
LAST-MODIFIED:20260220T151720Z
UID:10001032-1772546400-1772550000@dev.bloustein.rutgers.edu
SUMMARY:Intro to Urban Planning & Design Lecture Series: Kristen Reardon
DESCRIPTION:The lecture series “Introduction to Urban Planning & Design” is made possible by a Rutgers Teaching Enhancement Grant from the Vice Provost for Experiential Learning awarded to Assistant Professor Carmelo Ignaccolo. \nThis week\, the speaker is Kristen Reardon\, Principal\, Starr Whitehouse. \nThe series will feature an incredible lineup of speakers from public agencies\, design NGOs\, leading design firms\, and international organizations. It is open to both undergraduate and graduate students and will also include a spring class site visit with AECOM’s Landscape Architecture and Urban Design Studio to their award-winning climate-resilient parks in Newark and Lower Manhattan. \nEach event is open to the public\, subject to seat availability. \n 
URL:https://dev.bloustein.rutgers.edu/event/intro-to-urban-planning-design-lecture-series-kristen-reardon/
LOCATION:Bloustein School CSB\, Room 261\, 33 Livingston Avenue\, New Brunswick\, NJ\, 08901\, United States
CATEGORIES:Seminar,Urban Planning
ATTACH;FMTTYPE=image/webp:https://dev.bloustein.rutgers.edu/wp-content/uploads/2026/02/UPD-design-series-2026.webp
END:VEVENT
BEGIN:VEVENT
DTSTART;TZID=America/New_York:20260306T130000
DTEND;TZID=America/New_York:20260306T150000
DTSTAMP:20260422T124808
CREATED:20260220T152958Z
LAST-MODIFIED:20260220T152958Z
UID:10001036-1772802000-1772809200@dev.bloustein.rutgers.edu
SUMMARY:Dissertation Defense: Sensing Walkability: Insights from Wearable Sensors on Pedestrian Stress and Safety
DESCRIPTION:Presented by Shiyu Ma. \nTo attend virtually\, use the Zoom link provided via email.
URL:https://dev.bloustein.rutgers.edu/event/dissertation-defense-sensing-walkability-insights-from-wearable-sensors-on-pedestrian-stress-and-safety/
LOCATION:Virtual
CATEGORIES:Public Policy,Seminar,Urban Planning,Virtual
ATTACH;FMTTYPE=image/jpeg:https://dev.bloustein.rutgers.edu/wp-content/uploads/2023/10/dissertation-defense.jpg
END:VEVENT
BEGIN:VEVENT
DTSTART;TZID=America/New_York:20260306T130000
DTEND;TZID=America/New_York:20260306T150000
DTSTAMP:20260422T124808
CREATED:20260220T153147Z
LAST-MODIFIED:20260220T153147Z
UID:10001037-1772802000-1772809200@dev.bloustein.rutgers.edu
SUMMARY:Dissertation Defense: The Evolving Role of Economic Developers: How Economic Resiliency is Redefining the Profession
DESCRIPTION:Presented by Jessica Paolini. \nThis is a hybrid event. To attend virtually\, use the Zoom link provided via email.
URL:https://dev.bloustein.rutgers.edu/event/dissertation-defense-the-evolving-role-of-economic-developers-how-economic-resiliency-is-redefining-the-profession/
LOCATION:Bloustein School CSB\, Room 113\, 33 Livingston Avenue\, New Brunswick\, NJ\, 08901\, United States
CATEGORIES:Hybrid,Public Policy,Seminar,Urban Planning
ATTACH;FMTTYPE=image/jpeg:https://dev.bloustein.rutgers.edu/wp-content/uploads/2023/10/dissertation-defense.jpg
END:VEVENT
BEGIN:VEVENT
DTSTART;TZID=America/New_York:20260310T140000
DTEND;TZID=America/New_York:20260310T150000
DTSTAMP:20260422T124808
CREATED:20260220T151843Z
LAST-MODIFIED:20260220T151843Z
UID:10001033-1773151200-1773154800@dev.bloustein.rutgers.edu
SUMMARY:Intro to Urban Planning & Design Lecture Series: Jun Ahn
DESCRIPTION:The lecture series “Introduction to Urban Planning & Design” is made possible by a Rutgers Teaching Enhancement Grant from the Vice Provost for Experiential Learning awarded to Assistant Professor Carmelo Ignaccolo. \nThis week\, the speaker is Jun Ahn\, Senior Urban Designer\, SOM. \nThe series will feature an incredible lineup of speakers from public agencies\, design NGOs\, leading design firms\, and international organizations. It is open to both undergraduate and graduate students and will also include a spring class site visit with AECOM’s Landscape Architecture and Urban Design Studio to their award-winning climate-resilient parks in Newark and Lower Manhattan. \nEach event is open to the public\, subject to seat availability. \n 
URL:https://dev.bloustein.rutgers.edu/event/intro-to-urban-planning-design-lecture-series-jun-ahn/
LOCATION:Bloustein School CSB\, Room 261\, 33 Livingston Avenue\, New Brunswick\, NJ\, 08901\, United States
CATEGORIES:Seminar,Urban Planning
ATTACH;FMTTYPE=image/webp:https://dev.bloustein.rutgers.edu/wp-content/uploads/2026/02/UPD-design-series-2026.webp
END:VEVENT
BEGIN:VEVENT
DTSTART;TZID=America/New_York:20260311T121500
DTEND;TZID=America/New_York:20260311T140000
DTSTAMP:20260422T124808
CREATED:20260212T152533Z
LAST-MODIFIED:20260212T184537Z
UID:10001027-1773231300-1773237600@dev.bloustein.rutgers.edu
SUMMARY:The Art of  Immersive Space
DESCRIPTION:RSVP IS NOT REQUIRED TO ATTEND THE DISCUSSION\, WHICH WILL BEGIN AT 1:00 PM. Pizza will be served beginning at 12:15 p.m. at the Civic Square Building for registered guests. RSVP at go.rutgers.edu/immersiveart if you will be attending lunch. \nEver wondered how the world’s most immersive theme parks and attractions come to life? Join us for a behind-the-scenes talk with Jeff DuVilla ’12\, Creative Director of Adirondack Studios\, who has shaped some of the most renowned themed environments across the U.S.\, Asia\, and the Middle East. From early concepts to fully built experiences\, Jeff will talk about how his work blends storytelling\, design\, and human-centered thinking to shape how people move through and connect with spaces. \nIf you’re into urban planning\, placemaking\, art\, or designing environments that leave an impact\, this talk offers real-world insight into how story-driven entertainment is designed\, built\, and experienced. \nAn additional session of this talk will also be held from 10:20-11:40 a.m. Victoria J. Mastrobuono Theater\, Nicholas Music Hall\, Douglass Campus 85 George Street\, New Brunswick\, NJ
URL:https://dev.bloustein.rutgers.edu/event/the-art-of-immersive-space/
LOCATION:Gov. James J. Florio Special Events Forum\, CSB\, 33 Livingston Avenue\, New Brunswick\, NJ\, 08901\, United States
CATEGORIES:Public Policy,Seminar,Urban Planning
ATTACH;FMTTYPE=image/jpeg:https://dev.bloustein.rutgers.edu/wp-content/uploads/2026/02/DuVilla-ArtofImmersiveSpace-header.jpg
END:VEVENT
BEGIN:VEVENT
DTSTART;TZID=America/New_York:20260331T140000
DTEND;TZID=America/New_York:20260331T150000
DTSTAMP:20260422T124808
CREATED:20260220T152030Z
LAST-MODIFIED:20260220T152030Z
UID:10001034-1774965600-1774969200@dev.bloustein.rutgers.edu
SUMMARY:Intro to Urban Planning & Design Lecture Series: Candelaria Mas Pohmajevic
DESCRIPTION:The lecture series “Introduction to Urban Planning & Design” is made possible by a Rutgers Teaching Enhancement Grant from the Vice Provost for Experiential Learning awarded to Assistant Professor Carmelo Ignaccolo. \nThis week\, the speaker is Candelaria Mas Pohmajevic\, Associate Director\, Resilient Cities Catalyst. \nThe series will feature an incredible lineup of speakers from public agencies\, design NGOs\, leading design firms\, and international organizations. It is open to both undergraduate and graduate students and will also include a spring class site visit with AECOM’s Landscape Architecture and Urban Design Studio to their award-winning climate-resilient parks in Newark and Lower Manhattan. \nEach event is open to the public\, subject to seat availability. \n 
URL:https://dev.bloustein.rutgers.edu/event/intro-to-urban-planning-design-lecture-series-candelaria-mas-pohmajevic/
LOCATION:Bloustein School CSB\, Room 261\, 33 Livingston Avenue\, New Brunswick\, NJ\, 08901\, United States
CATEGORIES:Seminar,Urban Planning
ATTACH;FMTTYPE=image/webp:https://dev.bloustein.rutgers.edu/wp-content/uploads/2026/02/UPD-design-series-2026.webp
END:VEVENT
BEGIN:VEVENT
DTSTART;TZID=America/New_York:20260402T120000
DTEND;TZID=America/New_York:20260402T130000
DTSTAMP:20260422T124808
CREATED:20260326T152143Z
LAST-MODIFIED:20260326T152143Z
UID:10001059-1775131200-1775134800@dev.bloustein.rutgers.edu
SUMMARY:Crisis Management and Leadership in Healthcare Organizations
DESCRIPTION:Aram Dobalian\, PhD\, JD\, MPH is Professor and Division Chair of the Division of Health Services Management and Policy. His research and consulting focus on access and quality of care during disasters and other crises\, including work on community health resilience\, crisis leadership\, inpatient and outpatient quality metrics\, healthcare facility evacuation\, information technology in disasters\, disaster behavioral health\, and workforce readiness. He is a member of the “Standing Committee on Medical and Public Health Research During Large-Scale Emergency Events” of the National Academies of Sciences\, Engineering\, and Medicine. \nRSVP HERE \nRutgers Health Management Perspectives Distinguished Lecture Series is presented by the Health Administration program.
URL:https://dev.bloustein.rutgers.edu/event/crisis-management-and-leadership-in-healthcare-organizations/
LOCATION:Virtual
CATEGORIES:Health Administration,Seminar,Virtual
ATTACH;FMTTYPE=image/png:https://dev.bloustein.rutgers.edu/wp-content/uploads/2026/03/Rutgers-Health-Management-Perspectives-Lecture-Dobalian-S-2026-960-x-540-px.png
END:VEVENT
BEGIN:VEVENT
DTSTART;TZID=America/New_York:20260406T160000
DTEND;TZID=America/New_York:20260406T170000
DTSTAMP:20260422T124808
CREATED:20260325T175754Z
LAST-MODIFIED:20260403T160630Z
UID:10001057-1775491200-1775494800@dev.bloustein.rutgers.edu
SUMMARY:Planning Without a Blueprint: A Case of Treasure Hill\, Taiwan
DESCRIPTION:Please join the International Development Interest Group (IDIG) and Bloustein Urban Planning Program for a discussion with Dr. Elke Krasny\, Professor for Art and Education and Head of the Art and Education Program\, Academy of Fine Arts Vienna and Dr. Mi Shih\, Associate Professor and Director\, Urban Planning and Policy Development Program at the Bloustein School. The discussion will be moderated by Megha Jhawar\, President of IDIG. \nView the Treasure Hill StoryMap: https://arcg.is/W9DvS \n 
URL:https://dev.bloustein.rutgers.edu/event/planning-without-a-blueprint-a-case-of-treasure-hill-taiwan/
LOCATION:Bloustein School CSB\, Room 261\, 33 Livingston Avenue\, New Brunswick\, NJ\, 08901\, United States
CATEGORIES:Seminar,Student Organization,Urban Planning
ATTACH;FMTTYPE=image/webp:https://dev.bloustein.rutgers.edu/wp-content/uploads/2026/03/IDIG-practitioners-dialogue-2026.webp
END:VEVENT
BEGIN:VEVENT
DTSTART;TZID=America/New_York:20260414T140000
DTEND;TZID=America/New_York:20260414T150000
DTSTAMP:20260422T124808
CREATED:20260220T152144Z
LAST-MODIFIED:20260220T152144Z
UID:10001035-1776175200-1776178800@dev.bloustein.rutgers.edu
SUMMARY:Intro to Urban Planning & Design Lecture Series: Ban Edilbi
DESCRIPTION:The lecture series “Introduction to Urban Planning & Design” is made possible by a Rutgers Teaching Enhancement Grant from the Vice Provost for Experiential Learning awarded to Assistant Professor Carmelo Ignaccolo. \nThis week\, the speaker is Ban Edilbi\, Urban Specialist\, The World Bank. \nThe series will feature an incredible lineup of speakers from public agencies\, design NGOs\, leading design firms\, and international organizations. It is open to both undergraduate and graduate students and will also include a spring class site visit with AECOM’s Landscape Architecture and Urban Design Studio to their award-winning climate-resilient parks in Newark and Lower Manhattan. \nEach event is open to the public\, subject to seat availability. \n 
URL:https://dev.bloustein.rutgers.edu/event/intro-to-urban-planning-design-lecture-series-ban-edilbi/
LOCATION:Bloustein School CSB\, Room 261\, 33 Livingston Avenue\, New Brunswick\, NJ\, 08901\, United States
CATEGORIES:Seminar,Urban Planning
ATTACH;FMTTYPE=image/webp:https://dev.bloustein.rutgers.edu/wp-content/uploads/2026/02/UPD-design-series-2026.webp
END:VEVENT
BEGIN:VEVENT
DTSTART;TZID=America/New_York:20260415T120000
DTEND;TZID=America/New_York:20260415T130000
DTSTAMP:20260422T124808
CREATED:20260326T153854Z
LAST-MODIFIED:20260327T152348Z
UID:10001061-1776254400-1776258000@dev.bloustein.rutgers.edu
SUMMARY:Why Tracking Health Equity Data Still Matters
DESCRIPTION:Maggie McCullough is the founder and CEO of PolicyMap\, a leading geospatial data and mapping platform advancing the use of social determinants of health (SDOH) data to drive equitable health outcomes. Drawing on her career in city\, state\, and federal government\, McCullough has dedicated her work to making complex information accessible and actionable. This commitment led to the launch of PolicyMap in 2008. Today\, the platform is a trusted partner for healthcare organizations\, pharmaceutical companies\, and researchers addressing health disparities in communities nationwide. \nREGISTER HERE \nRutgers Health Management Perspectives Distinguished Lecture Series is presented by the Health Administration program.
URL:https://dev.bloustein.rutgers.edu/event/why-tracking-health-equity-data-still-matters/
LOCATION:Virtual
CATEGORIES:Health Administration,Seminar,Virtual
ATTACH;FMTTYPE=image/png:https://dev.bloustein.rutgers.edu/wp-content/uploads/2026/03/Rutgers-Health-Management-Perspectives-Lecture-McCullough-S-2026-960-x-540-px.png
END:VEVENT
BEGIN:VEVENT
DTSTART;TZID=America/New_York:20260422T160000
DTEND;TZID=America/New_York:20260422T173000
DTSTAMP:20260422T124808
CREATED:20260313T154923Z
LAST-MODIFIED:20260313T154934Z
UID:10001051-1776873600-1776879000@dev.bloustein.rutgers.edu
SUMMARY:New Jersey’s New State Plan: What It Means for the Future
DESCRIPTION:On December 17\, 2025\, the New Jersey State Planning Commission adopted the first new State Development and Redevelopment Plan in nearly 25 years. Developed through collaboration across all levels of government\, the plan provides a framework to guide growth\, land use\, and development across New Jersey. \nThe plan is supported by two companion documents: an Impact Assessment\, produced by Rowan University and Rutgers University\, and an Infrastructure Needs Assessment\, by Rutgers’ Alan M. Voorhees Transportation Center. Join us for a discussion of the plan and two companion studies examining the impact of state planning and the infrastructure needed to support New Jersey’s future growth. \nPanelists: \n\nWalter C. Lane\, PP\, AICP\, Executive Director\, New Jersey Office of Planning Advocacy\nLisa R. Avichal\, Senior Planner\, New Jersey Office of Planning Advocacy\nSteve J. Simone PP\, AICP\, Senior Planner\, New Jersey Office of Planning Advocacy\nDr. Qian He\, AICP\, Assistant Professor\, Rowan University\nLeigh Ann Von Hagen\, AICP\, PP \, Executive Director\, Rutgers Alan M. Voorhees Transportation Center\nModerator: Clint Andrews\, Distinguished Professor; Associate Dean for Research; and Director\, Rutgers Center for Urban Policy Research\n\n\n\n\n\nThis event is presented by the Edward J. Bloustein School of Planning and Public Policy\, with support from the New Jersey Office of Planning Advocacy. \n\n\n\n\n  \nThe Ruth Ellen Steinman Bloustein and Edward J. Bloustein Memorial Lecture was established to honor the memory of these two extraordinary individuals. For nearly nineteen years\, the Blousteins dedicated their enormous energies to Rutgers\, The State University of New Jersey. The fund was established in 1988 after Ruth Ellen died following a long and heroic battle with illness. Sadly\, there was cause to broaden the purpose of the fund a year later when Edward Bloustein\, Rutgers’ beloved president\, died suddenly in December of 1989. \nThe endowment supports an annual lecture series\, that may include one to three lectures per academic year\, that is intended to celebrate the values and interests Ruth Ellen and Ed cherished and cultivated throughout their lives.
URL:https://dev.bloustein.rutgers.edu/event/new-jerseys-new-state-plan-what-it-means-for-the-future/
LOCATION:Gov. James J. Florio Special Events Forum\, CSB\, 33 Livingston Avenue\, New Brunswick\, NJ\, 08901\, United States
CATEGORIES:Public,Public Policy,Seminar,Urban Planning
ATTACH;FMTTYPE=image/webp:https://dev.bloustein.rutgers.edu/wp-content/uploads/2026/03/EJBPPP-2026-NJ-New-State-Plan-20260422-website.webp
END:VEVENT
BEGIN:VEVENT
DTSTART;TZID=America/New_York:20260423T100000
DTEND;TZID=America/New_York:20260423T120000
DTSTAMP:20260422T124808
CREATED:20260409T150409Z
LAST-MODIFIED:20260409T150409Z
UID:10001066-1776938400-1776945600@dev.bloustein.rutgers.edu
SUMMARY:Dissertation Defense: Why do Latino parents not enroll their children in a universal Pre-K context? The case of New Brunswick\, NJ
DESCRIPTION:Presented by Janet Venancio Rodriguez \nTo attend virtually\, use the Zoom link provided via email.
URL:https://dev.bloustein.rutgers.edu/event/dissertation-defense-why-do-latino-parents-not-enroll-their-children-in-a-universal-pre-k-context-the-case-of-new-brunswick-nj/
LOCATION:Virtual
CATEGORIES:Hybrid,Public Policy,Seminar,Urban Planning
ATTACH;FMTTYPE=image/jpeg:https://dev.bloustein.rutgers.edu/wp-content/uploads/2023/10/dissertation-defense.jpg
END:VEVENT
BEGIN:VEVENT
DTSTART;TZID=America/New_York:20260508T120000
DTEND;TZID=America/New_York:20260508T130000
DTSTAMP:20260422T124808
CREATED:20260326T152942Z
LAST-MODIFIED:20260327T152647Z
UID:10001060-1778241600-1778245200@dev.bloustein.rutgers.edu
SUMMARY:Strategies for Health System Transformation: Creating a Learning Health System at NYU
DESCRIPTION:Leora Horwitz\, MD is a professor in the Departments of Population Health and Medicine at NYU Langone and the founding director of the Center for Healthcare Innovation and Delivery Science and the Division of Healthcare Delivery Science in the Department of Population Health\, and a practicing hospitalist. Her initial work focused primarily on improving the safety and quality of transitions in care of all kinds\, and she now works more generally on healthcare redesign and learning health system transformation through the Center for Healthcare Innovation and Delivery Science and its Rapid Randomized Controlled Trial Laboratory. She also conducts federally-funded research on value in health care; has developed quality measures for the Centers for Medicare & Medicaid Services; and co-direct the NYU Population Health Science Scholars Program. \nREGISTER HERE \nRutgers Health Management Perspectives Distinguished Lecture Series is presented by the Health Administration program.
URL:https://dev.bloustein.rutgers.edu/event/strategies-for-health-system-transformation-creating-a-learning-health-system-at-nyu/
LOCATION:Virtual
CATEGORIES:Health Administration,Seminar,Virtual
ATTACH;FMTTYPE=image/png:https://dev.bloustein.rutgers.edu/wp-content/uploads/2026/03/Rutgers-Health-Management-Perspectives-Lecture-Horwitz-S-2026-960-x-540-px.png
END:VEVENT
END:VCALENDAR