BEGIN:VCALENDAR
VERSION:2.0
PRODID:-//Edward J. Bloustein School of Planning &amp; Public Policy - ECPv6.15.20//NONSGML v1.0//EN
CALSCALE:GREGORIAN
METHOD:PUBLISH
X-ORIGINAL-URL:https://dev.bloustein.rutgers.edu
X-WR-CALDESC:Events for Edward J. Bloustein School of Planning &amp; Public Policy
REFRESH-INTERVAL;VALUE=DURATION:PT1H
X-Robots-Tag:noindex
X-PUBLISHED-TTL:PT1H
BEGIN:VTIMEZONE
TZID:America/New_York
BEGIN:DAYLIGHT
TZOFFSETFROM:-0500
TZOFFSETTO:-0400
TZNAME:EDT
DTSTART:20230312T070000
END:DAYLIGHT
BEGIN:STANDARD
TZOFFSETFROM:-0400
TZOFFSETTO:-0500
TZNAME:EST
DTSTART:20231105T060000
END:STANDARD
BEGIN:DAYLIGHT
TZOFFSETFROM:-0500
TZOFFSETTO:-0400
TZNAME:EDT
DTSTART:20240310T070000
END:DAYLIGHT
BEGIN:STANDARD
TZOFFSETFROM:-0400
TZOFFSETTO:-0500
TZNAME:EST
DTSTART:20241103T060000
END:STANDARD
BEGIN:DAYLIGHT
TZOFFSETFROM:-0500
TZOFFSETTO:-0400
TZNAME:EDT
DTSTART:20250309T070000
END:DAYLIGHT
BEGIN:STANDARD
TZOFFSETFROM:-0400
TZOFFSETTO:-0500
TZNAME:EST
DTSTART:20251102T060000
END:STANDARD
END:VTIMEZONE
BEGIN:VEVENT
DTSTART;TZID=America/New_York:20241108T173000
DTEND;TZID=America/New_York:20241108T193000
DTSTAMP:20260424T221442
CREATED:20241016T151450Z
LAST-MODIFIED:20251028T180652Z
UID:10000624-1731087000-1731094200@dev.bloustein.rutgers.edu
SUMMARY:Careers in Housing & Community Development Alumni Networking Event
DESCRIPTION:Are you interested in working in the housing and community development field? \nAre you already IN the field and want to add to your connections? \nBloustein School students and alumni are invited to join us for an evening of learning and networking with industry professionals and fellow alumnus Rafay Kazmi MPP/MCRP ’19 at Enterprise Community Partners. \nSpace is limited\, RSVP is required.
URL:https://dev.bloustein.rutgers.edu/event/careers-housing-community-development-alumni-networking/
LOCATION:Bloustein School\, Civic Square Building\, 33 Livingston Avenue\, New Brunswick\, NJ\, 08901\, United States
CATEGORIES:Alumni,Career Information Session,CAREERS,Public Policy,Social Gathering,Student Services,Urban Planning
ATTACH;FMTTYPE=image/jpeg:https://dev.bloustein.rutgers.edu/wp-content/uploads/2024/10/11082024-housing-comm-development-networking-alumni.jpg
END:VEVENT
BEGIN:VEVENT
DTSTART;TZID=America/New_York:20241112T140000
DTEND;TZID=America/New_York:20241112T180000
DTSTAMP:20260424T221442
CREATED:20241024T161740Z
LAST-MODIFIED:20241024T162047Z
UID:10000635-1731420000-1731434400@dev.bloustein.rutgers.edu
SUMMARY:Bloustein School Headshot Day
DESCRIPTION:Need a new LinkedIn photo or headshot? We invite members of the Bloustein School community including faculty\, staff\, instructors\, master’s and undergraduate students\, Ph.D. candidates and visiting scholars to take advantage of one of our LinkedIn photo days offered in the fall and spring semesters. \nNo appointments/RSVPs are needed. All photos are taken from the waist up. Please follow the instructions given by the photographer. \nAll photos are made available at bloustein.rutgers.edu/ejbheadshots/
URL:https://dev.bloustein.rutgers.edu/event/bloustein-school-headshot-day-11122024/
LOCATION:Bloustein School\, Civic Square Building\, 33 Livingston Avenue\, New Brunswick\, NJ\, 08901\, United States
CATEGORIES:Social Gathering
ATTACH;FMTTYPE=image/png:https://dev.bloustein.rutgers.edu/wp-content/uploads/2024/10/bloustein-headshot-graphic-canva.png
END:VEVENT
BEGIN:VEVENT
DTSTART;TZID=America/New_York:20241115T190000
DTEND;TZID=America/New_York:20241115T220000
DTSTAMP:20260424T221442
CREATED:20241101T142201Z
LAST-MODIFIED:20241101T142201Z
UID:10000636-1731697200-1731708000@dev.bloustein.rutgers.edu
SUMMARY:MOSH N' MINGLE: Exploring Third Spaces Through the New Brunswick DIY Basement Show Scene
DESCRIPTION:The vibrant and gritty New Brunswick DIY scene offers the opportunity to get involved with the local music community\, serving as an integral counterculture third space for young adults—especially among women\, queer\, and people of color communities looking for an inclusive\, engaging\, and creative outlet. \nBy applying an urban planning lens\, we examine the intersections between third spaces and the basement show scene as community hubs for social interaction\, fostering a sense of belonging\, self-expression\, and connection. \nWhether you’re an avid show-goer\, urban planning nerd\, or just someone curious to learn more\, this three-part symposium is the perfect chance to connect with others who share a passion for community-building.
URL:https://dev.bloustein.rutgers.edu/event/mosh-n-mingle-exploring-third-spaces-through-the-new-brunswick-diy-basement-show-scene/
LOCATION:Busch Student Center Multipurpose Room\, 604 Bartholomew Rd\, Piscataway\, 08854\, United States
CATEGORIES:Social Gathering,Student Organization,Urban Planning
ATTACH;FMTTYPE=image/jpeg:https://dev.bloustein.rutgers.edu/wp-content/uploads/2024/11/Mosh-and-Mingle.jpg
END:VEVENT
BEGIN:VEVENT
DTSTART;VALUE=DATE:20241118
DTEND;VALUE=DATE:20241221
DTSTAMP:20260424T221442
CREATED:20241118T170711Z
LAST-MODIFIED:20241203T190211Z
UID:10000640-1731888000-1734739199@dev.bloustein.rutgers.edu
SUMMARY:Bloustein DEIB Committee Holiday Toy Drive
DESCRIPTION:The Bloustein School Diversity\, Equity\, Inclusion and Belonging Committee invites you to participate in a Holiday Toy Drive benefitting the Harmony Family Success Center. \nDonate new\, unwrapped toys for kids aged 0-12. In addition to toys\, we are collecting wrapping paper\, ribbons\, and tape to help wrap the gifts for distribution. \nDROP OFF LOCATION: Boxes will be placed inside the Civic Square Building\, 33 Livingston Avenue\, New Brunswick with the flyer attached. \nDONATION PERIOD: Beginning Monday\, Nov. 18 through Friday\, Dec. 20 \nQuestions? Contact Bloustein School DEIB Graduate Fellow Siclali Flores at diversity@ejb.rutgers.edu.
URL:https://dev.bloustein.rutgers.edu/event/bloustein-deib-committee-holiday-toy-drive/
LOCATION:Bloustein School\, Civic Square Building\, 33 Livingston Avenue\, New Brunswick\, NJ\, 08901\, United States
CATEGORIES:Diversity,Public,Social Gathering,Student Organization,Student Services
ATTACH;FMTTYPE=image/png:https://dev.bloustein.rutgers.edu/wp-content/uploads/2024/11/DEIB-Holiday-Toy-Drive-2024-1920-x-1080-px.png
END:VEVENT
BEGIN:VEVENT
DTSTART;TZID=America/New_York:20241120T160000
DTEND;TZID=America/New_York:20241120T180000
DTSTAMP:20260424T221442
CREATED:20241112T221814Z
LAST-MODIFIED:20241112T221814Z
UID:10000639-1732118400-1732125600@dev.bloustein.rutgers.edu
SUMMARY:Walking Tour of The Park\, Berkeley Heights\, NJ
DESCRIPTION:Join us for a tour of Round Table Studios and the first ever Work Resort in the United States. Situated on a 185-acre campus in Berkeley Heights\, NJ\, the Connell Family has invested over $500 million in the first-of-its-kind\, innovative resort environment in the United States for working\, living\, relaxing\, and dining. Round Table Studios and its Social By Nature theme successfully bring together work\, hospitality\, design\, leisure\, wellness\, Outdoor activities\, social clubs\, living\, and culinary experiences in one location. \nThe tour will begin at Round Table Studios. Situated on a walkable\, 185-acre campus\, the tour will cover all of the design\, style and amenities designed to create a resort environment on the most modern work/live/play campus in the US. \nSPACE IS LIMITED. Registration required by emailing RobertAshmun@gmail.com. \nParticipants should plan to wear comfortable attire/shoes and are responsible for their own transportation to/from the tour site. 2.0 AICP CM credits.
URL:https://dev.bloustein.rutgers.edu/event/walking-tour-of-the-park-berkeley-heights-nj/
LOCATION:The Park\, 200 Connell Drive\, Berkeley Heights\, 07922\, United States
CATEGORIES:Public,Public Policy,Social Gathering,Urban Planning
ATTACH;FMTTYPE=image/png:https://dev.bloustein.rutgers.edu/wp-content/uploads/2024/11/The-Park-Tour-1920-x-1080-px.png
END:VEVENT
END:VCALENDAR