BEGIN:VCALENDAR
VERSION:2.0
PRODID:-//Edward J. Bloustein School of Planning &amp; Public Policy - ECPv6.15.20//NONSGML v1.0//EN
CALSCALE:GREGORIAN
METHOD:PUBLISH
X-ORIGINAL-URL:https://dev.bloustein.rutgers.edu
X-WR-CALDESC:Events for Edward J. Bloustein School of Planning &amp; Public Policy
REFRESH-INTERVAL;VALUE=DURATION:PT1H
X-Robots-Tag:noindex
X-PUBLISHED-TTL:PT1H
BEGIN:VTIMEZONE
TZID:America/New_York
BEGIN:DAYLIGHT
TZOFFSETFROM:-0500
TZOFFSETTO:-0400
TZNAME:EDT
DTSTART:20240310T070000
END:DAYLIGHT
BEGIN:STANDARD
TZOFFSETFROM:-0400
TZOFFSETTO:-0500
TZNAME:EST
DTSTART:20241103T060000
END:STANDARD
BEGIN:DAYLIGHT
TZOFFSETFROM:-0500
TZOFFSETTO:-0400
TZNAME:EDT
DTSTART:20250309T070000
END:DAYLIGHT
BEGIN:STANDARD
TZOFFSETFROM:-0400
TZOFFSETTO:-0500
TZNAME:EST
DTSTART:20251102T060000
END:STANDARD
BEGIN:DAYLIGHT
TZOFFSETFROM:-0500
TZOFFSETTO:-0400
TZNAME:EDT
DTSTART:20260308T070000
END:DAYLIGHT
BEGIN:STANDARD
TZOFFSETFROM:-0400
TZOFFSETTO:-0500
TZNAME:EST
DTSTART:20261101T060000
END:STANDARD
END:VTIMEZONE
BEGIN:VEVENT
DTSTART;TZID=America/New_York:20250403T160000
DTEND;TZID=America/New_York:20250403T171500
DTSTAMP:20260420T004458
CREATED:20250110T161828Z
LAST-MODIFIED:20250110T161913Z
UID:10000682-1743696000-1743700500@dev.bloustein.rutgers.edu
SUMMARY:Bloustein Research Seminar Series: James Defilippis
DESCRIPTION:Presented by Professor James Defilippis \nThis venue will enable our faculty to share research\, build community\, and extend our networks. Pizza will be served. Bloustein faculty\, advanced PhD students\, and external speakers will present research talks. The seminar series is open to the entire Bloustein community.
URL:https://dev.bloustein.rutgers.edu/event/bloustein-research-seminar-series-danielle-falzon/
LOCATION:Bloustein School\, Civic Square Building\, 33 Livingston Avenue\, New Brunswick\, NJ\, 08901\, United States
CATEGORIES:Faculty Bloustein,Staff Bloustein
ATTACH;FMTTYPE=image/jpeg:https://dev.bloustein.rutgers.edu/wp-content/uploads/2025/01/Research-seminar-series-2025.jpg
END:VEVENT
BEGIN:VEVENT
DTSTART;TZID=America/New_York:20250408T140000
DTEND;TZID=America/New_York:20250408T180000
DTSTAMP:20260420T004458
CREATED:20250325T193831Z
LAST-MODIFIED:20250325T193831Z
UID:10000800-1744120800-1744135200@dev.bloustein.rutgers.edu
SUMMARY:Bloustein School LinkedIn Photo Day
DESCRIPTION:Bloustein School faculty\, staff\, instructors\, undergraduate\, master’s\, and PhD candidates are invited to take a professional photo free of charge for LinkedIn and other professional use. \nRSVP IS NOT NEEDED.  \nPhotos will be available at bloustein.rutgers.edu/ejbheadshots/ approximately a week after each photo date. Participants will also an email letting them know photos are availalble. \n\nDress professionally — all photos are taken from the waist up.\nFollow instructions from the photographer.\nWhen you provide your contact information\, make sure it is an email you check regularly! If you don’t get an email\, check your junk/spam folder OR look at the website link below!\n\nPlease be advised these are NOT intended for passport photo use.
URL:https://dev.bloustein.rutgers.edu/event/bloustein-school-linkedin-photo-day/2025-04-08/
LOCATION:Bloustein School\, Civic Square Building\, 33 Livingston Avenue\, New Brunswick\, NJ\, 08901\, United States
CATEGORIES:Faculty Bloustein,Staff Bloustein,Student Services
ATTACH;FMTTYPE=image/png:https://dev.bloustein.rutgers.edu/wp-content/uploads/2025/03/LinkedIn-Photos-Spring-2025-48-417-1920-x-1080-px.png
END:VEVENT
BEGIN:VEVENT
DTSTART;TZID=America/New_York:20250415T080000
DTEND;TZID=America/New_York:20250415T123000
DTSTAMP:20260420T004458
CREATED:20250227T190331Z
LAST-MODIFIED:20260219T154024Z
UID:10000779-1744704000-1744720200@dev.bloustein.rutgers.edu
SUMMARY:Bloustein Research Day 2025
DESCRIPTION:It’s time to catch up on the wonderful research our faculty\, staff\, and student colleagues have performed over the past year. Bloustein School faculty and staff will present lightning talks followed by a poster session by graduate and undergraduate students. \nThis will be an in-person event. The event is free and open to the public\, but registration is required. \nRegister to attend by visiting: go.rutgers.edu/researchday25 \nAgenda: \n8:00 – 9:00 am Continental Breakfast \n9:00 – 10:15 am Lightning Talks\nFaculty and staff will give 5-minute lightning talks about their research. \n10:15 – 11:30 am Poster Session with Light Refreshments\nGraduate and undergraduate students will present posters. A best poster award will be given. \nLIGHTNING TALK PRESENTATIONS AND POSTER PRESENTERS/TOPICS \n11:30 – 12:30 pm Keynote Address by Gregory Shill\, JD\, Professor of Law at the University of Iowa\nProfessor Shill will offer remarks on how applied and policy relevant research can influence transportation policymaking processes and the law.  Dr. Shill’s keynote is sponsored by the New Jersey State Policy Lab. \nOrganizing Committee: Clint Andrews\, Liz Cooner\, Anita Franzione\, David Listokin\, Will Payne
URL:https://dev.bloustein.rutgers.edu/event/bloustein-research-day-25/
LOCATION:Gov. James J. Florio Special Events Forum\, CSB\, 33 Livingston Avenue\, New Brunswick\, NJ\, 08901\, United States
CATEGORIES:Faculty Bloustein,Health Administration,Informatics,Public Health,Public Policy,Staff Bloustein,Symposium/Workshop,Urban Planning
ATTACH;FMTTYPE=image/webp:https://dev.bloustein.rutgers.edu/wp-content/uploads/2024/04/2025-Bloustein-Research-Day-header-1.webp
END:VEVENT
BEGIN:VEVENT
DTSTART;TZID=America/New_York:20250417T100000
DTEND;TZID=America/New_York:20250417T140000
DTSTAMP:20260420T004458
CREATED:20250325T193831Z
LAST-MODIFIED:20250325T193831Z
UID:10000801-1744884000-1744898400@dev.bloustein.rutgers.edu
SUMMARY:Bloustein School LinkedIn Photo Day
DESCRIPTION:Bloustein School faculty\, staff\, instructors\, undergraduate\, master’s\, and PhD candidates are invited to take a professional photo free of charge for LinkedIn and other professional use. \nRSVP IS NOT NEEDED.  \nPhotos will be available at bloustein.rutgers.edu/ejbheadshots/ approximately a week after each photo date. Participants will also an email letting them know photos are availalble. \n\nDress professionally — all photos are taken from the waist up.\nFollow instructions from the photographer.\nWhen you provide your contact information\, make sure it is an email you check regularly! If you don’t get an email\, check your junk/spam folder OR look at the website link below!\n\nPlease be advised these are NOT intended for passport photo use.
URL:https://dev.bloustein.rutgers.edu/event/bloustein-school-linkedin-photo-day/2025-04-17/
LOCATION:Bloustein School\, Civic Square Building\, 33 Livingston Avenue\, New Brunswick\, NJ\, 08901\, United States
CATEGORIES:Faculty Bloustein,Staff Bloustein,Student Services
ATTACH;FMTTYPE=image/png:https://dev.bloustein.rutgers.edu/wp-content/uploads/2025/03/LinkedIn-Photos-Spring-2025-48-417-1920-x-1080-px.png
END:VEVENT
BEGIN:VEVENT
DTSTART;TZID=America/New_York:20250424T160000
DTEND;TZID=America/New_York:20250424T171500
DTSTAMP:20260420T004458
CREATED:20250110T162002Z
LAST-MODIFIED:20250110T162002Z
UID:10000683-1745510400-1745514900@dev.bloustein.rutgers.edu
SUMMARY:Bloustein Research Seminar Series: Bernadette Baird-Zars
DESCRIPTION:Presented by Professor Bernadette Baird-Zars \nThis venue will enable our faculty to share research\, build community\, and extend our networks. Pizza will be served. Bloustein faculty\, advanced PhD students\, and external speakers will present research talks. The seminar series is open to the entire Bloustein community.
URL:https://dev.bloustein.rutgers.edu/event/bloustein-research-seminar-series-bernadette-baird-zars/
LOCATION:Bloustein School\, Civic Square Building\, 33 Livingston Avenue\, New Brunswick\, NJ\, 08901\, United States
CATEGORIES:Faculty Bloustein,Staff Bloustein
ATTACH;FMTTYPE=image/jpeg:https://dev.bloustein.rutgers.edu/wp-content/uploads/2025/01/Research-seminar-series-2025.jpg
END:VEVENT
END:VCALENDAR