BEGIN:VCALENDAR
VERSION:2.0
PRODID:-//Edward J. Bloustein School of Planning &amp; Public Policy - ECPv6.15.20//NONSGML v1.0//EN
CALSCALE:GREGORIAN
METHOD:PUBLISH
X-WR-CALNAME:Edward J. Bloustein School of Planning &amp; Public Policy
X-ORIGINAL-URL:https://dev.bloustein.rutgers.edu
X-WR-CALDESC:Events for Edward J. Bloustein School of Planning &amp; Public Policy
REFRESH-INTERVAL;VALUE=DURATION:PT1H
X-Robots-Tag:noindex
X-PUBLISHED-TTL:PT1H
BEGIN:VTIMEZONE
TZID:America/New_York
BEGIN:DAYLIGHT
TZOFFSETFROM:-0500
TZOFFSETTO:-0400
TZNAME:EDT
DTSTART:20240310T070000
END:DAYLIGHT
BEGIN:STANDARD
TZOFFSETFROM:-0400
TZOFFSETTO:-0500
TZNAME:EST
DTSTART:20241103T060000
END:STANDARD
BEGIN:DAYLIGHT
TZOFFSETFROM:-0500
TZOFFSETTO:-0400
TZNAME:EDT
DTSTART:20250309T070000
END:DAYLIGHT
BEGIN:STANDARD
TZOFFSETFROM:-0400
TZOFFSETTO:-0500
TZNAME:EST
DTSTART:20251102T060000
END:STANDARD
BEGIN:DAYLIGHT
TZOFFSETFROM:-0500
TZOFFSETTO:-0400
TZNAME:EDT
DTSTART:20260308T070000
END:DAYLIGHT
BEGIN:STANDARD
TZOFFSETFROM:-0400
TZOFFSETTO:-0500
TZNAME:EST
DTSTART:20261101T060000
END:STANDARD
BEGIN:DAYLIGHT
TZOFFSETFROM:-0500
TZOFFSETTO:-0400
TZNAME:EDT
DTSTART:20270314T070000
END:DAYLIGHT
BEGIN:STANDARD
TZOFFSETFROM:-0400
TZOFFSETTO:-0500
TZNAME:EST
DTSTART:20271107T060000
END:STANDARD
END:VTIMEZONE
BEGIN:VEVENT
DTSTART;TZID=America/New_York:20251007T170000
DTEND;TZID=America/New_York:20251007T180000
DTSTAMP:20260422T111828
CREATED:20250930T162154Z
LAST-MODIFIED:20251028T181129Z
UID:10000927-1759856400-1759860000@dev.bloustein.rutgers.edu
SUMMARY:Navigating Healthcare Leadership – A C-Suite Panel Discussion
DESCRIPTION:Please join us for an engaging conversation with Tom Scott\, MHA\, FACHE\, FABC\, President and CEO of CentraState Healthcare System and Stella Visaggio\, CPA\, CFO of Overlook Medical Center as they share their career journeys and invaluable advice on becoming an impactful leader. Moderated by Jane Kaye\, Bloustein School Assistant Teaching Professor. \nOpen to Bloustein alumni\, graduate and undergraduate students. \nRSVP here.
URL:https://dev.bloustein.rutgers.edu/event/navigating-healthcare-leadership-a-c-suite-panel-discussion/
LOCATION:Virtual
CATEGORIES:Alumni,Career Professional Development,CAREERS,Health Administration,Student Organization,Virtual
ATTACH;FMTTYPE=image/webp:https://dev.bloustein.rutgers.edu/wp-content/uploads/2025/09/c-suite-panel-discussion.webp
END:VEVENT
BEGIN:VEVENT
DTSTART;TZID=America/New_York:20251124T170000
DTEND;TZID=America/New_York:20251124T180000
DTSTAMP:20260422T111828
CREATED:20251121T180617Z
LAST-MODIFIED:20251121T180617Z
UID:10000966-1764003600-1764007200@dev.bloustein.rutgers.edu
SUMMARY:CAREERS: You Don't Have a Fellowship...Now What?
DESCRIPTION:Join the Graduate Society for Healthcare Leaders (GSHL) for a virtual panel discussion featuring Rutgers MHA alumni as they will share their career paths\, lessons learned\, and practical guidance for navigating post-MHA opportunities beyond the fellowship route.\n\nRSVP here
URL:https://dev.bloustein.rutgers.edu/event/careers-you-dont-have-a-fellowship-now-what/
LOCATION:Virtual
CATEGORIES:CAREERS,Health Administration,Student Organization,Virtual
ATTACH;FMTTYPE=image/png:https://dev.bloustein.rutgers.edu/wp-content/uploads/2025/11/you-dont-have-fellowship-now-xhat.png
END:VEVENT
BEGIN:VEVENT
DTSTART;TZID=America/New_York:20260219T170000
DTEND;TZID=America/New_York:20260219T180000
DTSTAMP:20260422T111828
CREATED:20260206T183812Z
LAST-MODIFIED:20260206T183812Z
UID:10001025-1771520400-1771524000@dev.bloustein.rutgers.edu
SUMMARY:Suits and Scrubs
DESCRIPTION:Graduate Society of Healthcare Leaders (GSHL) is hosting this event to network and get to know our fellow classmates. We will also be collecting donations of household items for the Ronald McDonald House.
URL:https://dev.bloustein.rutgers.edu/event/suits-and-scrubs/
LOCATION:Bloustein School CSB\, Room 112\, 33 Livingston Avenue\, New Brunswick\, NJ\, 08901\, United States
CATEGORIES:Health Administration,Student Organization
ATTACH;FMTTYPE=image/webp:https://dev.bloustein.rutgers.edu/wp-content/uploads/2026/02/2026-scrubs-and-suits.webp
END:VEVENT
BEGIN:VEVENT
DTSTART;TZID=America/New_York:20260226T163000
DTEND;TZID=America/New_York:20260226T183000
DTSTAMP:20260422T111828
CREATED:20260122T151446Z
LAST-MODIFIED:20260205T144753Z
UID:10001017-1772123400-1772130600@dev.bloustein.rutgers.edu
SUMMARY:Spring Health Administration Virtual Meet and Greet / Career Fair
DESCRIPTION:Join us in a virtual meet and greet / career fair where you will be able to meet and network with alumni / employers in small groups within break out rooms. \nIntroduce yourself and hear about what these alumni / employers do in health administration and learn about the available internship and job opportunities! \nVideo sharing is required. \nRSVP REQUIRED. PLEASE SEE THE CAREER SERVICES WEEKLY EMAIL FOR THE LINK TO RSVP.
URL:https://dev.bloustein.rutgers.edu/event/spring-health-administration-virtual-meet-and-greet-career-fair-2/
LOCATION:Virtual
CATEGORIES:CAREERS,Health Administration,Student Organization,Virtual
ATTACH;FMTTYPE=image/jpeg:https://dev.bloustein.rutgers.edu/wp-content/uploads/2024/10/mha-health-networking.jpg
END:VEVENT
BEGIN:VEVENT
DTSTART;TZID=America/New_York:20260406T160000
DTEND;TZID=America/New_York:20260406T170000
DTSTAMP:20260422T111828
CREATED:20260325T175754Z
LAST-MODIFIED:20260403T160630Z
UID:10001057-1775491200-1775494800@dev.bloustein.rutgers.edu
SUMMARY:Planning Without a Blueprint: A Case of Treasure Hill\, Taiwan
DESCRIPTION:Please join the International Development Interest Group (IDIG) and Bloustein Urban Planning Program for a discussion with Dr. Elke Krasny\, Professor for Art and Education and Head of the Art and Education Program\, Academy of Fine Arts Vienna and Dr. Mi Shih\, Associate Professor and Director\, Urban Planning and Policy Development Program at the Bloustein School. The discussion will be moderated by Megha Jhawar\, President of IDIG. \nView the Treasure Hill StoryMap: https://arcg.is/W9DvS \n 
URL:https://dev.bloustein.rutgers.edu/event/planning-without-a-blueprint-a-case-of-treasure-hill-taiwan/
LOCATION:Bloustein School CSB\, Room 261\, 33 Livingston Avenue\, New Brunswick\, NJ\, 08901\, United States
CATEGORIES:Seminar,Student Organization,Urban Planning
ATTACH;FMTTYPE=image/webp:https://dev.bloustein.rutgers.edu/wp-content/uploads/2026/03/IDIG-practitioners-dialogue-2026.webp
END:VEVENT
BEGIN:VEVENT
DTSTART;TZID=America/New_York:20260417T083000
DTEND;TZID=America/New_York:20260417T123000
DTSTAMP:20260422T111828
CREATED:20250722T140056Z
LAST-MODIFIED:20250923T142743Z
UID:10000837-1776414600-1776429000@dev.bloustein.rutgers.edu
SUMMARY:RAISE-26 Artificial Intelligence - Informatics - Data Science AI Competition
DESCRIPTION:RAISE-26 Artificial Intelligence (AI) – Informatics – Data Science Competition\nMirror Mirror on the Wall – Is AI Transforming Us All? Exploring AI’s Impact on Human Behavior\nRAISE-26\, the world’s strongest AI-NLP competition\, invites undergraduate and graduate students from all disciplines to explore one of the most urgent questions of our time: Is artificial intelligence (AI) transforming us? This cutting-edge Artificial Intelligence – Informatics – DS Competition from the MPI program at the Bloustein School\, Rutgers University\, challenges participants to investigate how AI is shaping human behavior. \nFind out more about the competition and register: \nRAISE-26 Website \nFor all news and latest updates\, please follow us on Public Informatics @ Rutgers University
URL:https://dev.bloustein.rutgers.edu/event/raise-26-artificial-intelligence-data-science-informatics-ai-competition/
LOCATION:Gov. James J. Florio Special Events Forum\, CSB\, 33 Livingston Avenue\, New Brunswick\, NJ\, 08901\, United States
CATEGORIES:Competition,Informatics,Student Organization
ATTACH;FMTTYPE=image/webp:https://dev.bloustein.rutgers.edu/wp-content/uploads/2025/07/Raise-26-image.webp
END:VEVENT
BEGIN:VEVENT
DTSTART;TZID=America/New_York:20260427T150000
DTEND;TZID=America/New_York:20260427T170000
DTSTAMP:20260422T111828
CREATED:20260317T135105Z
LAST-MODIFIED:20260319T195448Z
UID:10001054-1777302000-1777309200@dev.bloustein.rutgers.edu
SUMMARY:Bloustein Studio Day 2026
DESCRIPTION:Please join us at the Bloustein School for a special presentation of the graduate planning student’s studio projects\, with a review panel offering feedback and comments. Additional Q&A depending on time. \nThen stay post-event to enjoy an informal networking session with peers and industry professionals\, and continue the conversations from the presentation. \nRSVP HERE
URL:https://dev.bloustein.rutgers.edu/event/bloustein-studio-day-2026/
LOCATION:Gov. James J. Florio Special Events Forum\, CSB\, 33 Livingston Avenue\, New Brunswick\, NJ\, 08901\, United States
CATEGORIES:Hybrid,Student Organization,Symposium/Workshop,Urban Planning
ATTACH;FMTTYPE=image/webp:https://dev.bloustein.rutgers.edu/wp-content/uploads/2026/03/Bloustein-Studio-Day-header.webp
END:VEVENT
END:VCALENDAR