BEGIN:VCALENDAR
VERSION:2.0
PRODID:-//Edward J. Bloustein School of Planning &amp; Public Policy - ECPv6.15.20//NONSGML v1.0//EN
CALSCALE:GREGORIAN
METHOD:PUBLISH
X-ORIGINAL-URL:https://dev.bloustein.rutgers.edu
X-WR-CALDESC:Events for Edward J. Bloustein School of Planning &amp; Public Policy
REFRESH-INTERVAL;VALUE=DURATION:PT1H
X-Robots-Tag:noindex
X-PUBLISHED-TTL:PT1H
BEGIN:VTIMEZONE
TZID:America/New_York
BEGIN:DAYLIGHT
TZOFFSETFROM:-0500
TZOFFSETTO:-0400
TZNAME:EDT
DTSTART:20240310T070000
END:DAYLIGHT
BEGIN:STANDARD
TZOFFSETFROM:-0400
TZOFFSETTO:-0500
TZNAME:EST
DTSTART:20241103T060000
END:STANDARD
BEGIN:DAYLIGHT
TZOFFSETFROM:-0500
TZOFFSETTO:-0400
TZNAME:EDT
DTSTART:20250309T070000
END:DAYLIGHT
BEGIN:STANDARD
TZOFFSETFROM:-0400
TZOFFSETTO:-0500
TZNAME:EST
DTSTART:20251102T060000
END:STANDARD
BEGIN:DAYLIGHT
TZOFFSETFROM:-0500
TZOFFSETTO:-0400
TZNAME:EDT
DTSTART:20260308T070000
END:DAYLIGHT
BEGIN:STANDARD
TZOFFSETFROM:-0400
TZOFFSETTO:-0500
TZNAME:EST
DTSTART:20261101T060000
END:STANDARD
END:VTIMEZONE
BEGIN:VEVENT
DTSTART;TZID=America/New_York:20250925T163000
DTEND;TZID=America/New_York:20250925T183000
DTSTAMP:20260422T115307
CREATED:20250918T135346Z
LAST-MODIFIED:20251028T180203Z
UID:10000911-1758817800-1758825000@dev.bloustein.rutgers.edu
SUMMARY:Fall Health Administration Virtual Meet and Greet / Career Fair
DESCRIPTION:Join us in a virtual meet and greet / career fair where you will be able to meet and network with alumni / employers in small groups within break out rooms. \nIntroduce yourself and hear about what these alumni / employers do in health administration and learn about any available Administrative Fellowships\, internship\, and / or job opportunities! \nVideo sharing is required. \n\nZoom RSVP \n  \nEmployers registered to attend:\n\n\nCigna\n\n\nThe Guthrie Clinic\n\n\nHackensack Meridian Health\n\n\nIntegrity\, Inc.\n\n\nMount Sinai Health System
URL:https://dev.bloustein.rutgers.edu/event/fall-health-administration-virtual-meet-and-greet-career-fair/
LOCATION:Virtual
CATEGORIES:CAREERS,Health Administration,Student Organization,Virtual
ATTACH;FMTTYPE=image/jpeg:https://dev.bloustein.rutgers.edu/wp-content/uploads/2024/10/mha-health-networking.jpg
END:VEVENT
END:VCALENDAR