BEGIN:VCALENDAR
VERSION:2.0
PRODID:-//Edward J. Bloustein School of Planning &amp; Public Policy - ECPv6.15.20//NONSGML v1.0//EN
CALSCALE:GREGORIAN
METHOD:PUBLISH
X-WR-CALNAME:Edward J. Bloustein School of Planning &amp; Public Policy
X-ORIGINAL-URL:https://dev.bloustein.rutgers.edu
X-WR-CALDESC:Events for Edward J. Bloustein School of Planning &amp; Public Policy
REFRESH-INTERVAL;VALUE=DURATION:PT1H
X-Robots-Tag:noindex
X-PUBLISHED-TTL:PT1H
BEGIN:VTIMEZONE
TZID:America/New_York
BEGIN:DAYLIGHT
TZOFFSETFROM:-0500
TZOFFSETTO:-0400
TZNAME:EDT
DTSTART:20230312T070000
END:DAYLIGHT
BEGIN:STANDARD
TZOFFSETFROM:-0400
TZOFFSETTO:-0500
TZNAME:EST
DTSTART:20231105T060000
END:STANDARD
BEGIN:DAYLIGHT
TZOFFSETFROM:-0500
TZOFFSETTO:-0400
TZNAME:EDT
DTSTART:20240310T070000
END:DAYLIGHT
BEGIN:STANDARD
TZOFFSETFROM:-0400
TZOFFSETTO:-0500
TZNAME:EST
DTSTART:20241103T060000
END:STANDARD
BEGIN:DAYLIGHT
TZOFFSETFROM:-0500
TZOFFSETTO:-0400
TZNAME:EDT
DTSTART:20250309T070000
END:DAYLIGHT
BEGIN:STANDARD
TZOFFSETFROM:-0400
TZOFFSETTO:-0500
TZNAME:EST
DTSTART:20251102T060000
END:STANDARD
END:VTIMEZONE
BEGIN:VEVENT
DTSTART;TZID=America/New_York:20241112T180000
DTEND;TZID=America/New_York:20241112T190000
DTSTAMP:20260419T110012
CREATED:20240822T185656Z
LAST-MODIFIED:20240822T190154Z
UID:10000532-1731434400-1731438000@dev.bloustein.rutgers.edu
SUMMARY:Virtual Information Session: Graduate Program in Public Policy
DESCRIPTION:You are cordially invited to join us at this virtual informational session for Rutgers Bloustein School’s Master of Public Policy (MPP)\, Master of Public Affairs and Politics (MPAP)\, and Graduate Certificate in Public Policy. Learn more about the curriculum for our master’s degrees in public policy\, as well as our graduate certificate\, how to apply\, career services support for students\, and scholarship opportunities. \nThe GRE is WAIVED for all 2025 applications. The application deadline for spring 2025 admission is November 1st. The application deadline for fall 2025 admission with academic scholarship consideration is January 15th.\nAll sessions will be held virtually via Zoom. \nRSVP required at https://go.rutgers.edu/ejbppinfo
URL:https://dev.bloustein.rutgers.edu/event/virtual-information-session-graduate-program-in-public-policy-f24/2024-11-12/
LOCATION:Virtual
CATEGORIES:Graduate Information Session,Student Services
ATTACH;FMTTYPE=image/jpeg:https://dev.bloustein.rutgers.edu/wp-content/uploads/2023/11/virtual-info-MPP.jpg
END:VEVENT
BEGIN:VEVENT
DTSTART;TZID=America/New_York:20241113T120000
DTEND;TZID=America/New_York:20241113T130000
DTSTAMP:20260419T110012
CREATED:20240822T190724Z
LAST-MODIFIED:20240822T190724Z
UID:10000535-1731499200-1731502800@dev.bloustein.rutgers.edu
SUMMARY:Virtual Information Session: Master of Health Administration
DESCRIPTION:You are cordially invited to join us at this virtual informational session for the Rutgers – Bloustein School’s Master of Health Administration (MHA) program during the Fall 2024 semester. We are excited to share helpful information about the Bloustein School\, the residential Master of Health Administration program (MHA)\, and answer any questions you may have regarding admissions\, applications\, career opportunities in the field and the curriculum. Program faculty and staff will be on hand to answer all your questions. \n\nApplications to the RMHA program do NOT require the GREs. Work experience is not required of applicants.  The application deadline for fall / September 2025 admission is July 1st. The application for spring 2025 / January 2025 admission is November 1st.\n \nAll sessions will be held virtually via Zoom. \n\nRSVP required at https://go.rutgers.edu/ejbmhainfo 
URL:https://dev.bloustein.rutgers.edu/event/virtual-information-session-master-of-health-administration/2024-11-13/
LOCATION:Virtual
CATEGORIES:Graduate Information Session,Student Services
ATTACH;FMTTYPE=image/png:https://dev.bloustein.rutgers.edu/wp-content/uploads/2024/02/virtual-info-MHA.png
END:VEVENT
BEGIN:VEVENT
DTSTART;TZID=America/New_York:20241114T180000
DTEND;TZID=America/New_York:20241114T190000
DTSTAMP:20260419T110012
CREATED:20240822T191352Z
LAST-MODIFIED:20240822T191352Z
UID:10000538-1731607200-1731610800@dev.bloustein.rutgers.edu
SUMMARY:Virtual Information Session: Graduate Program in Public Informatics
DESCRIPTION:You are cordially invited to join us at this virtual informational session for the – Bloustein School’s fall 2024 virtual information sessions for our Master of Public Informatics (MPI) degree and our Graduate Certificate in Urban and Public Informatics. Learn more the curriculum for our master’s degree and  graduate certificate\, how to apply\, career services support for students and scholarship opportunities. \nThe GRE is WAIVED for all 2025 applications. Work experience is not required for applications to the program. The application deadline for spring 2025 admission is November 1st. The application deadline for fall 2025 admission with academic scholarship consideration is January 15th.  The MPI is a STEM-designated master’s program.\nAll sessions will be held virtually via Zoom. \nRSVP required at https://go.rutgers.edu/ejbmpiinfo
URL:https://dev.bloustein.rutgers.edu/event/virtual-information-session-graduate-program-in-public-informatics-f24/2024-11-14/
LOCATION:Virtual
CATEGORIES:Graduate Information Session,Student Services
ATTACH;FMTTYPE=image/jpeg:https://dev.bloustein.rutgers.edu/wp-content/uploads/2023/11/virtual-info-MPI.jpg
END:VEVENT
END:VCALENDAR