BEGIN:VCALENDAR
VERSION:2.0
PRODID:-//Edward J. Bloustein School of Planning &amp; Public Policy - ECPv6.15.20//NONSGML v1.0//EN
CALSCALE:GREGORIAN
METHOD:PUBLISH
X-WR-CALNAME:Edward J. Bloustein School of Planning &amp; Public Policy
X-ORIGINAL-URL:https://dev.bloustein.rutgers.edu
X-WR-CALDESC:Events for Edward J. Bloustein School of Planning &amp; Public Policy
REFRESH-INTERVAL;VALUE=DURATION:PT1H
X-Robots-Tag:noindex
X-PUBLISHED-TTL:PT1H
BEGIN:VTIMEZONE
TZID:America/New_York
BEGIN:DAYLIGHT
TZOFFSETFROM:-0500
TZOFFSETTO:-0400
TZNAME:EDT
DTSTART:20230312T070000
END:DAYLIGHT
BEGIN:STANDARD
TZOFFSETFROM:-0400
TZOFFSETTO:-0500
TZNAME:EST
DTSTART:20231105T060000
END:STANDARD
BEGIN:DAYLIGHT
TZOFFSETFROM:-0500
TZOFFSETTO:-0400
TZNAME:EDT
DTSTART:20240310T070000
END:DAYLIGHT
BEGIN:STANDARD
TZOFFSETFROM:-0400
TZOFFSETTO:-0500
TZNAME:EST
DTSTART:20241103T060000
END:STANDARD
BEGIN:DAYLIGHT
TZOFFSETFROM:-0500
TZOFFSETTO:-0400
TZNAME:EDT
DTSTART:20250309T070000
END:DAYLIGHT
BEGIN:STANDARD
TZOFFSETFROM:-0400
TZOFFSETTO:-0500
TZNAME:EST
DTSTART:20251102T060000
END:STANDARD
END:VTIMEZONE
BEGIN:VEVENT
DTSTART;TZID=America/New_York:20240620T180000
DTEND;TZID=America/New_York:20240620T190000
DTSTAMP:20260422T032703
CREATED:20240202T202902Z
LAST-MODIFIED:20240205T200415Z
UID:10000399-1718906400-1718910000@dev.bloustein.rutgers.edu
SUMMARY:Virtual Information Session: Graduate Program in Public Policy
DESCRIPTION:You are cordially invited to join us at this virtual informational session for Rutgers Bloustein School’s Master of Public Policy (MPP)\, Master of Public Affairs and Politics (MPAP)\, and Graduate Certificate in Public Policy. Learn more about the curriculum for our master’s degrees in public policy\, as well as our graduate certificate\, how to apply\, career services support for students\, and scholarship opportunities. \nThe GRE is WAIVED for all 2024 applications. The application deadline for spring 2024 admission is November 1st. The application deadline for fall 2024 admission with academic scholarship consideration is January 15th.\nAll sessions will be held virtually via Zoom. \nRSVP required at https://go.rutgers.edu/ejbppinfo
URL:https://dev.bloustein.rutgers.edu/event/virtual-information-session-graduate-program-in-public-policy/2024-06-20/
LOCATION:Virtual
CATEGORIES:Graduate Information Session,Student Services
ATTACH;FMTTYPE=image/jpeg:https://dev.bloustein.rutgers.edu/wp-content/uploads/2023/11/virtual-info-MPP.jpg
END:VEVENT
END:VCALENDAR