BEGIN:VCALENDAR
VERSION:2.0
PRODID:-//Edward J. Bloustein School of Planning &amp; Public Policy - ECPv6.15.20//NONSGML v1.0//EN
CALSCALE:GREGORIAN
METHOD:PUBLISH
X-WR-CALNAME:Edward J. Bloustein School of Planning &amp; Public Policy
X-ORIGINAL-URL:https://dev.bloustein.rutgers.edu
X-WR-CALDESC:Events for Edward J. Bloustein School of Planning &amp; Public Policy
REFRESH-INTERVAL;VALUE=DURATION:PT1H
X-Robots-Tag:noindex
X-PUBLISHED-TTL:PT1H
BEGIN:VTIMEZONE
TZID:America/New_York
BEGIN:DAYLIGHT
TZOFFSETFROM:-0500
TZOFFSETTO:-0400
TZNAME:EDT
DTSTART:20240310T070000
END:DAYLIGHT
BEGIN:STANDARD
TZOFFSETFROM:-0400
TZOFFSETTO:-0500
TZNAME:EST
DTSTART:20241103T060000
END:STANDARD
BEGIN:DAYLIGHT
TZOFFSETFROM:-0500
TZOFFSETTO:-0400
TZNAME:EDT
DTSTART:20250309T070000
END:DAYLIGHT
BEGIN:STANDARD
TZOFFSETFROM:-0400
TZOFFSETTO:-0500
TZNAME:EST
DTSTART:20251102T060000
END:STANDARD
BEGIN:DAYLIGHT
TZOFFSETFROM:-0500
TZOFFSETTO:-0400
TZNAME:EDT
DTSTART:20260308T070000
END:DAYLIGHT
BEGIN:STANDARD
TZOFFSETFROM:-0400
TZOFFSETTO:-0500
TZNAME:EST
DTSTART:20261101T060000
END:STANDARD
END:VTIMEZONE
BEGIN:VEVENT
DTSTART;TZID=America/New_York:20251021T180000
DTEND;TZID=America/New_York:20251021T190000
DTSTAMP:20260422T122649
CREATED:20250905T212301Z
LAST-MODIFIED:20251020T184553Z
UID:10000873-1761069600-1761073200@dev.bloustein.rutgers.edu
SUMMARY:Virtual Information Session: Master of Health Administration
DESCRIPTION:You are invited to join us at one our upcoming virtual informational sessions to learn more about the Master of Health Administration (MHA) degree offered by the Bloustein School at Rutgers University. We are excited to share helpful information about the MHA curriculum and answer any questions you may have regarding admissions\, applications\, scholarships\, career opportunities in the field\, curriculum\, etc. Program faculty and staff will be on hand to answer all your questions. \n\nApplications to the MHA program do NOT require the GREs. The application deadline for fall admission is July 1st for domestic applicants and April 1st for international applicants. The application for spring admission is November 1st. \nAll sessions will be held virtually via Zoom and will last approximately 1 hour. The event Zoom link will be sent via email\, closer to the event\, to those who RSVP. \n\n\nPlease note that all times listed are EST / New Jersey local time. If you plan to join this session from a different time zone or a different country\, we ask that you please make sure to note the CORRECT local time at YOUR location for this information session.\n\nRSVP required at https://go.rutgers.edu/ejbmhainfo 
URL:https://dev.bloustein.rutgers.edu/event/virtual-information-session-master-of-health-administration-6/
LOCATION:Virtual
CATEGORIES:Graduate Information Session,Student Services
ATTACH;FMTTYPE=image/png:https://dev.bloustein.rutgers.edu/wp-content/uploads/2024/02/virtual-info-MHA.png
END:VEVENT
BEGIN:VEVENT
DTSTART;TZID=America/New_York:20251022T120000
DTEND;TZID=America/New_York:20251022T130000
DTSTAMP:20260422T122649
CREATED:20250905T212242Z
LAST-MODIFIED:20250905T212242Z
UID:10000874-1761134400-1761138000@dev.bloustein.rutgers.edu
SUMMARY:Virtual Information Session: Doctor of Health Administration
DESCRIPTION:You are invited to join us at one our upcoming virtual informational sessions to learn more about the new Doctor of Health Administration (MHA) degree offered by the Bloustein School at Rutgers University. We are excited to share helpful information about the DHA curriculum and answer any questions you may have regarding admissions\, applications\, career opportunities in the field\, curriculum\, etc. Program executive director Soumitra Bhuyan will be on hand to answer all your questions. \n\nApplications to the DHA program do NOT require the GREs/GMATs. The application deadline for fall admission is July 1st for domestic applicants. \nAll sessions will be held virtually via Zoom and will last approximately 1 hour. The event Zoom link will be sent via email\, closer to the event\, to those who RSVP. \n\nPlease note that all times listed are EST / New Jersey local time. If you plan to join this session from a different time zone or a different country\, we ask that you please make sure to note the CORRECT local time at YOUR location for this information session.\n\nRSVP required at https://go.rutgers.edu/ejbdhainfo
URL:https://dev.bloustein.rutgers.edu/event/virtual-information-session-doctor-of-health-administration-3/
LOCATION:Virtual
CATEGORIES:Graduate Information Session,Student Services
ATTACH;FMTTYPE=image/webp:https://dev.bloustein.rutgers.edu/wp-content/uploads/2025/03/virtual-info-DHA.webp
END:VEVENT
END:VCALENDAR