BEGIN:VCALENDAR
VERSION:2.0
PRODID:-//Edward J. Bloustein School of Planning &amp; Public Policy - ECPv6.15.20//NONSGML v1.0//EN
CALSCALE:GREGORIAN
METHOD:PUBLISH
X-WR-CALNAME:Edward J. Bloustein School of Planning &amp; Public Policy
X-ORIGINAL-URL:https://dev.bloustein.rutgers.edu
X-WR-CALDESC:Events for Edward J. Bloustein School of Planning &amp; Public Policy
REFRESH-INTERVAL;VALUE=DURATION:PT1H
X-Robots-Tag:noindex
X-PUBLISHED-TTL:PT1H
BEGIN:VTIMEZONE
TZID:America/New_York
BEGIN:DAYLIGHT
TZOFFSETFROM:-0500
TZOFFSETTO:-0400
TZNAME:EDT
DTSTART:20250309T070000
END:DAYLIGHT
BEGIN:STANDARD
TZOFFSETFROM:-0400
TZOFFSETTO:-0500
TZNAME:EST
DTSTART:20251102T060000
END:STANDARD
BEGIN:DAYLIGHT
TZOFFSETFROM:-0500
TZOFFSETTO:-0400
TZNAME:EDT
DTSTART:20260308T070000
END:DAYLIGHT
BEGIN:STANDARD
TZOFFSETFROM:-0400
TZOFFSETTO:-0500
TZNAME:EST
DTSTART:20261101T060000
END:STANDARD
BEGIN:DAYLIGHT
TZOFFSETFROM:-0500
TZOFFSETTO:-0400
TZNAME:EDT
DTSTART:20270314T070000
END:DAYLIGHT
BEGIN:STANDARD
TZOFFSETFROM:-0400
TZOFFSETTO:-0500
TZNAME:EST
DTSTART:20271107T060000
END:STANDARD
END:VTIMEZONE
BEGIN:VEVENT
DTSTART;TZID=America/New_York:20260311T090000
DTEND;TZID=America/New_York:20260311T100000
DTSTAMP:20260422T105129
CREATED:20251223T180917Z
LAST-MODIFIED:20251223T180917Z
UID:10000983-1773219600-1773223200@dev.bloustein.rutgers.edu
SUMMARY:Virtual Information Session: Master of Health Administration
DESCRIPTION:You are invited to join us at one our upcoming virtual informational sessions to learn more about the Master of Health Administration (MHA) degree offered by the Bloustein School at Rutgers University. We are excited to share helpful information about the MHA curriculum and answer any questions you may have regarding admissions\, applications\, scholarships\, career opportunities in the field\, curriculum\, etc. Program faculty and staff will be on hand to answer all your questions. \nSee the application page for more information on deadlines and requirements. \n\nPlease note that all times listed are EST / New Jersey local time.\nRSVP required at: https://rutgers.zoom.us/webinar/register/WN_lGGk67Q2TVmQYD-zLvDhOQ
URL:https://dev.bloustein.rutgers.edu/event/virtual-information-session-master-of-health-administration-8/
LOCATION:Virtual
CATEGORIES:Graduate Information Session,Student Services
ATTACH;FMTTYPE=image/png:https://dev.bloustein.rutgers.edu/wp-content/uploads/2024/02/virtual-info-MHA.png
END:VEVENT
BEGIN:VEVENT
DTSTART;TZID=America/New_York:20260312T120000
DTEND;TZID=America/New_York:20260312T130000
DTSTAMP:20260422T105129
CREATED:20251223T182014Z
LAST-MODIFIED:20251223T182014Z
UID:10000985-1773316800-1773320400@dev.bloustein.rutgers.edu
SUMMARY:Virtual Information Session: Doctor of Health Administration
DESCRIPTION:You are invited to join us at one our upcoming virtual informational sessions to learn more about the new Doctor of Health Administration (DHA) degree offered by the Bloustein School at Rutgers University. We are excited to share helpful information about the DHA curriculum and answer any questions you may have regarding admissions\, applications\, career opportunities in the field\, curriculum\, etc. Program executive director Soumitra Bhuyan will be on hand to answer all your questions. \nSee the application page for more information on deadlines and requirements. \nAll sessions will be held virtually via Zoom and will last approximately 1 hour. Please note that all times listed are EST / New Jersey local time. \nRSVP required at: https://rutgers.zoom.us/webinar/register/WN_fYkQJBaQQBGGHOMtKMVSpQ
URL:https://dev.bloustein.rutgers.edu/event/virtual-information-session-doctor-of-health-administration-4/
LOCATION:Virtual
CATEGORIES:Graduate Information Session,Student Services
ATTACH;FMTTYPE=image/webp:https://dev.bloustein.rutgers.edu/wp-content/uploads/2025/03/virtual-info-DHA.webp
END:VEVENT
END:VCALENDAR