BEGIN:VCALENDAR
VERSION:2.0
PRODID:-//Edward J. Bloustein School of Planning &amp; Public Policy - ECPv6.15.20//NONSGML v1.0//EN
CALSCALE:GREGORIAN
METHOD:PUBLISH
X-ORIGINAL-URL:https://dev.bloustein.rutgers.edu
X-WR-CALDESC:Events for Edward J. Bloustein School of Planning &amp; Public Policy
REFRESH-INTERVAL;VALUE=DURATION:PT1H
X-Robots-Tag:noindex
X-PUBLISHED-TTL:PT1H
BEGIN:VTIMEZONE
TZID:America/New_York
BEGIN:DAYLIGHT
TZOFFSETFROM:-0500
TZOFFSETTO:-0400
TZNAME:EDT
DTSTART:20230312T070000
END:DAYLIGHT
BEGIN:STANDARD
TZOFFSETFROM:-0400
TZOFFSETTO:-0500
TZNAME:EST
DTSTART:20231105T060000
END:STANDARD
BEGIN:DAYLIGHT
TZOFFSETFROM:-0500
TZOFFSETTO:-0400
TZNAME:EDT
DTSTART:20240310T070000
END:DAYLIGHT
BEGIN:STANDARD
TZOFFSETFROM:-0400
TZOFFSETTO:-0500
TZNAME:EST
DTSTART:20241103T060000
END:STANDARD
BEGIN:DAYLIGHT
TZOFFSETFROM:-0500
TZOFFSETTO:-0400
TZNAME:EDT
DTSTART:20250309T070000
END:DAYLIGHT
BEGIN:STANDARD
TZOFFSETFROM:-0400
TZOFFSETTO:-0500
TZNAME:EST
DTSTART:20251102T060000
END:STANDARD
END:VTIMEZONE
BEGIN:VEVENT
DTSTART;TZID=America/New_York:20240319T160000
DTEND;TZID=America/New_York:20240319T170000
DTSTAMP:20260420T054923
CREATED:20240123T145323Z
LAST-MODIFIED:20240214T211254Z
UID:10000379-1710864000-1710867600@dev.bloustein.rutgers.edu
SUMMARY:Undergraduate Prospective Student Information Sessions (PSIS)
DESCRIPTION:The Prospective Student Information Sessions give interested students an opportunity to learn about the undergraduate program offerings at the Bloustein School. There is an overview of each major\, minor\, and certificate program\, including the admissions criteria and application processes for current and prospective Rutgers students. Also\, students are encouraged to bring questions and the host advisor(s) will be glad to answer them or refer the student to the appropriate department/office. \nSessions will be offered via Zoom. A link will be sent to registered students the day prior to the event. \nThe sessions are approximately one hour. Please log in on time. \nPlease register
URL:https://dev.bloustein.rutgers.edu/event/undergraduate-prospective-student-information-sessions-psis-3/
LOCATION:Virtual
CATEGORIES:Student Services,Undergraduate Information Session
ATTACH;FMTTYPE=image/jpeg:https://dev.bloustein.rutgers.edu/wp-content/uploads/2023/09/ProspectiveStudentInfoSessions-calendar.jpg
END:VEVENT
END:VCALENDAR