BEGIN:VCALENDAR
VERSION:2.0
PRODID:-//Edward J. Bloustein School of Planning &amp; Public Policy - ECPv6.15.20//NONSGML v1.0//EN
CALSCALE:GREGORIAN
METHOD:PUBLISH
X-ORIGINAL-URL:https://dev.bloustein.rutgers.edu
X-WR-CALDESC:Events for Edward J. Bloustein School of Planning &amp; Public Policy
REFRESH-INTERVAL;VALUE=DURATION:PT1H
X-Robots-Tag:noindex
X-PUBLISHED-TTL:PT1H
BEGIN:VTIMEZONE
TZID:America/New_York
BEGIN:DAYLIGHT
TZOFFSETFROM:-0500
TZOFFSETTO:-0400
TZNAME:EDT
DTSTART:20230312T070000
END:DAYLIGHT
BEGIN:STANDARD
TZOFFSETFROM:-0400
TZOFFSETTO:-0500
TZNAME:EST
DTSTART:20231105T060000
END:STANDARD
BEGIN:DAYLIGHT
TZOFFSETFROM:-0500
TZOFFSETTO:-0400
TZNAME:EDT
DTSTART:20240310T070000
END:DAYLIGHT
BEGIN:STANDARD
TZOFFSETFROM:-0400
TZOFFSETTO:-0500
TZNAME:EST
DTSTART:20241103T060000
END:STANDARD
BEGIN:DAYLIGHT
TZOFFSETFROM:-0500
TZOFFSETTO:-0400
TZNAME:EDT
DTSTART:20250309T070000
END:DAYLIGHT
BEGIN:STANDARD
TZOFFSETFROM:-0400
TZOFFSETTO:-0500
TZNAME:EST
DTSTART:20251102T060000
END:STANDARD
END:VTIMEZONE
BEGIN:VEVENT
DTSTART;TZID=America/New_York:20241030T090000
DTEND;TZID=America/New_York:20241030T100000
DTSTAMP:20260420T042704
CREATED:20240822T192111Z
LAST-MODIFIED:20240822T192631Z
UID:10000541-1730278800-1730282400@dev.bloustein.rutgers.edu
SUMMARY:Virtual Information Session: Master of City and Regional Planning
DESCRIPTION:You are cordially invited to join us at this virtual informational session for the Rutgers – Bloustein School’s Master of City and Regional Planning (MCRP) program during the Fall 2024 semester. We are excited to share helpful information about the Bloustein School\, the MCRP program\, and answer any questions you may have regarding admissions\, applications\, career opportunities in the field and the curriculum. Program faculty and staff will be on hand to answer all your questions. Each session will last approximately 1 hour. \n\nThe GRE has been WAIVED for all 2025 applications. Work experience is not required of applicants. The application deadline for spring 2025 admission is November 1st. The application deadline for fall 2025 admission WITH consideration for academic scholarship and fellowship funding is January 15th.  \nAll sessions will be held virtually via Zoom. \n\n\nRSVP required at:  https://go.rutgers.edu/ejbmcrpinfo
URL:https://dev.bloustein.rutgers.edu/event/virtual-information-session-master-of-city-and-regional-planning/2024-10-30/
LOCATION:Virtual
CATEGORIES:Graduate Information Session,Student Services
ATTACH;FMTTYPE=image/jpeg:https://dev.bloustein.rutgers.edu/wp-content/uploads/2023/08/virtual-info-MCRP.jpg
END:VEVENT
BEGIN:VEVENT
DTSTART;TZID=America/New_York:20241030T160000
DTEND;TZID=America/New_York:20241030T173000
DTSTAMP:20260420T042704
CREATED:20241015T203126Z
LAST-MODIFIED:20241015T203717Z
UID:10000621-1730304000-1730309400@dev.bloustein.rutgers.edu
SUMMARY:Queerly Disabled Student Workshop: Intersections of Identity - Exploring the Overlapping Needs of Queer and Disabled Communities
DESCRIPTION:Join Garden State Equality and the Edward J. Bloustein School of Planning and Public Policy in examining the intersection of disability policy and LGBTQIA+ advocacy in New Jersey. \nThis workshop for students will focus on the shared identities and needs of queer and disabled communities. Through a comprehensive presentation\, interactive exercise\, and open discussion\, participants will explore the unique challenges faced by those at the intersection of these identities and learn how to advocate for more inclusive policies that address their overlapping needs. \nFree and open to students. RSVP HERE. \nIf you anticipate needing any type of accommodation or have questions about the access provided\, please call Julia Sass Rubin at 848-932-5475 or email jlsrubin@rutgers.edu in advance of your participation.
URL:https://dev.bloustein.rutgers.edu/event/queerly-disabled-student-workshop-intersections-of-identity-exploring-the-overlapping-needs-of-queer-and-disabled-communities/
LOCATION:Bloustein School\, Civic Square Building\, 33 Livingston Avenue\, New Brunswick\, NJ\, 08901\, United States
CATEGORIES:Seminar,Student Organization,Student Services
ATTACH;FMTTYPE=image/jpeg:https://dev.bloustein.rutgers.edu/wp-content/uploads/2024/10/2024-queerly-disabled-header.jpg
END:VEVENT
BEGIN:VEVENT
DTSTART;TZID=America/New_York:20241030T161500
DTEND;TZID=America/New_York:20241030T174500
DTSTAMP:20260420T042704
CREATED:20241016T164632Z
LAST-MODIFIED:20241016T164632Z
UID:10000625-1730304900-1730310300@dev.bloustein.rutgers.edu
SUMMARY:Public Policy Listening Session
DESCRIPTION:The Public Policy Listening Session is an open and informal forum discussion for students to provide feedback\, offer suggestions\, and hear the most up to date news about the program. \nHosted by Julia Sass Rubin\, Public Policy Program Director; Iman Basit\, VP of Public Policy Program for Bloustein Graduate Student Association; Courtney Culler\, Associate Director for Graduate Student Services; and Greg Marrero\, Student Counselor for Graduate Student Services. \nRSVP HERE \n 
URL:https://dev.bloustein.rutgers.edu/event/public-policy-listening-session-2/
LOCATION:Bloustein School\, Civic Square Building\, 33 Livingston Avenue\, New Brunswick\, NJ\, 08901\, United States
CATEGORIES:Public Policy,Student Services
ATTACH;FMTTYPE=image/jpeg:https://dev.bloustein.rutgers.edu/wp-content/uploads/2024/04/public-policy-listening-session.jpg
END:VEVENT
BEGIN:VEVENT
DTSTART;TZID=America/New_York:20241030T180000
DTEND;TZID=America/New_York:20241030T190000
DTSTAMP:20260420T042704
CREATED:20241015T203626Z
LAST-MODIFIED:20241024T164823Z
UID:10000622-1730311200-1730314800@dev.bloustein.rutgers.edu
SUMMARY:Queerly Disabled Panel Discussion: Policy\, Pride\, and Possibility – Queer and Disabled Voices in Advocacy
DESCRIPTION:Join Garden State Equality and the Bloustein School of Planning & Public Policy for a student-moderated panel with some of New Jersey’s leading queer and disabled professionals. This community event will focus on lived experiences and the future direction of policymaking at the intersection of disability and LGBTQIA+ rights. Open to all\, this VIRTUAL discussion will provide valuable insights into advancing inclusive policies for these populations. \nPlease register in advance to facilitate smooth event planning and ensure access for all participants. This event is VIRTUAL ONLY. \nIf you anticipate needing any type of accommodation or have questions about the access provided\, please call Julia Sass Rubin at 848-932-5475 or email jlsrubin@rutgers.edu in advance of your participation.
URL:https://dev.bloustein.rutgers.edu/event/queerly-disabled-panel-discussion-policy-pride-and-possibility-queer-and-disabled-voices-in-advocacy/
LOCATION:Virtual
CATEGORIES:Hybrid,Seminar,Student Organization,Student Services
ATTACH;FMTTYPE=image/jpeg:https://dev.bloustein.rutgers.edu/wp-content/uploads/2024/10/2024-queerly-disabled-header.jpg
END:VEVENT
BEGIN:VEVENT
DTSTART;TZID=America/New_York:20241030T190000
DTEND;TZID=America/New_York:20241030T203000
DTSTAMP:20260420T042704
CREATED:20241004T193924Z
LAST-MODIFIED:20241004T193924Z
UID:10000613-1730314800-1730320200@dev.bloustein.rutgers.edu
SUMMARY:All NYC-Region Planning Schools Virtual Open House
DESCRIPTION:Are you passionate about making cities more livable\, equitable\, and sustainable? Do you want to create healthy spaces for people of all generations and backgrounds? Do you want to help decarbonize cities and help them adapt to a changing climate? Are you concerned about congestion\, gentrification\, displacement\, and the lack of affordable housing? \nConsider a field that starts with people and unites policy\, design\, economics\, environment\, and society: Urban Planning! Planning students learn how and why cities function\, strategies to transform cities\, and skills like design software\, economic modeling\, and facilitation. Develop your career in government\, the private sector\, or with non-government agencies helping communities in the U.S. or abroad. \nHear from alumni and practitioners about why they chose planning\, and from faculty and staff of the eight planning and urban design programs in the New York region about what makes their programs unique. \nRSVP REQUIRED
URL:https://dev.bloustein.rutgers.edu/event/all-nyc-region-planning-schools-virtual-open-house/
LOCATION:Virtual
CATEGORIES:Graduate Information Session,Urban Planning,Virtual
ATTACH;FMTTYPE=image/jpeg:https://dev.bloustein.rutgers.edu/wp-content/uploads/2024/10/Website-Banner.jpg
END:VEVENT
END:VCALENDAR