BEGIN:VCALENDAR
VERSION:2.0
PRODID:-//Edward J. Bloustein School of Planning &amp; Public Policy - ECPv6.15.20//NONSGML v1.0//EN
CALSCALE:GREGORIAN
METHOD:PUBLISH
X-ORIGINAL-URL:https://dev.bloustein.rutgers.edu
X-WR-CALDESC:Events for Edward J. Bloustein School of Planning &amp; Public Policy
REFRESH-INTERVAL;VALUE=DURATION:PT1H
X-Robots-Tag:noindex
X-PUBLISHED-TTL:PT1H
BEGIN:VTIMEZONE
TZID:America/New_York
BEGIN:DAYLIGHT
TZOFFSETFROM:-0500
TZOFFSETTO:-0400
TZNAME:EDT
DTSTART:20240310T070000
END:DAYLIGHT
BEGIN:STANDARD
TZOFFSETFROM:-0400
TZOFFSETTO:-0500
TZNAME:EST
DTSTART:20241103T060000
END:STANDARD
BEGIN:DAYLIGHT
TZOFFSETFROM:-0500
TZOFFSETTO:-0400
TZNAME:EDT
DTSTART:20250309T070000
END:DAYLIGHT
BEGIN:STANDARD
TZOFFSETFROM:-0400
TZOFFSETTO:-0500
TZNAME:EST
DTSTART:20251102T060000
END:STANDARD
BEGIN:DAYLIGHT
TZOFFSETFROM:-0500
TZOFFSETTO:-0400
TZNAME:EDT
DTSTART:20260308T070000
END:DAYLIGHT
BEGIN:STANDARD
TZOFFSETFROM:-0400
TZOFFSETTO:-0500
TZNAME:EST
DTSTART:20261101T060000
END:STANDARD
END:VTIMEZONE
BEGIN:VEVENT
DTSTART;TZID=America/New_York:20250324T160000
DTEND;TZID=America/New_York:20250324T170000
DTSTAMP:20260420T084317
CREATED:20250306T165304Z
LAST-MODIFIED:20250306T165304Z
UID:10000781-1742832000-1742835600@dev.bloustein.rutgers.edu
SUMMARY:Public Informatics Listening Session
DESCRIPTION:The Public Informatics Listening Session is an open and informal forum discussion for students to provide feedback\, offer suggestions\, and hear the most up to date news about the program. \nHosted by Jim Samuel\, Public Informatics Program Director; Zarak Khan\, VP of Public Informatics Program for Bloustein Graduate Student Association; Courtney Culler\, Associate Director for Graduate Student Services; and Greg Marrero\, Student Counselor for Graduate Student Services. \nRSVP HERE \n 
URL:https://dev.bloustein.rutgers.edu/event/public-informatics-listening-session-2/
LOCATION:Bloustein School\, Civic Square Building\, 33 Livingston Avenue\, New Brunswick\, NJ\, 08901\, United States
CATEGORIES:Student Services
ATTACH;FMTTYPE=image/webp:https://dev.bloustein.rutgers.edu/wp-content/uploads/2024/04/public-informatics-listening-session.webp
END:VEVENT
END:VCALENDAR