BEGIN:VCALENDAR
VERSION:2.0
PRODID:-//Edward J. Bloustein School of Planning &amp; Public Policy - ECPv6.15.20//NONSGML v1.0//EN
CALSCALE:GREGORIAN
METHOD:PUBLISH
X-ORIGINAL-URL:https://dev.bloustein.rutgers.edu
X-WR-CALDESC:Events for Edward J. Bloustein School of Planning &amp; Public Policy
REFRESH-INTERVAL;VALUE=DURATION:PT1H
X-Robots-Tag:noindex
X-PUBLISHED-TTL:PT1H
BEGIN:VTIMEZONE
TZID:America/New_York
BEGIN:DAYLIGHT
TZOFFSETFROM:-0500
TZOFFSETTO:-0400
TZNAME:EDT
DTSTART:20240310T070000
END:DAYLIGHT
BEGIN:STANDARD
TZOFFSETFROM:-0400
TZOFFSETTO:-0500
TZNAME:EST
DTSTART:20241103T060000
END:STANDARD
BEGIN:DAYLIGHT
TZOFFSETFROM:-0500
TZOFFSETTO:-0400
TZNAME:EDT
DTSTART:20250309T070000
END:DAYLIGHT
BEGIN:STANDARD
TZOFFSETFROM:-0400
TZOFFSETTO:-0500
TZNAME:EST
DTSTART:20251102T060000
END:STANDARD
BEGIN:DAYLIGHT
TZOFFSETFROM:-0500
TZOFFSETTO:-0400
TZNAME:EDT
DTSTART:20260308T070000
END:DAYLIGHT
BEGIN:STANDARD
TZOFFSETFROM:-0400
TZOFFSETTO:-0500
TZNAME:EST
DTSTART:20261101T060000
END:STANDARD
END:VTIMEZONE
BEGIN:VEVENT
DTSTART;TZID=America/New_York:20250515T120000
DTEND;TZID=America/New_York:20250515T130000
DTSTAMP:20260420T111938
CREATED:20250411T134003Z
LAST-MODIFIED:20250430T205319Z
UID:10000812-1747310400-1747314000@dev.bloustein.rutgers.edu
SUMMARY:Virtual Information Session: Graduate Program in Public Informatics
DESCRIPTION:*** PLEASE NOTE THIS EVENT HAS BEEN UPDATED. THE NEW DATE OF THIS EVENT IS THURSDAY\, MAY 15 (previously 5/7) \nYou are cordially invited to join us at one of our upcoming virtual informational sessions for Rutgers-Bloustein School’s spring 2025 virtual information sessions for our Master of Public Informatics (MPI) degree and our Graduate Certificate in Urban and Public Informatics. Learn more about the curriculum for our master’s degree and graduate certificate\, how to apply\, career services support for students\, and scholarship opportunities. \n\n\nThe GRE is WAIVED for all 2025 applications. The final application deadline for fall 2025 admission for international students is April 1st and for domestic students is July 1st. \n\nRSVP is required. The Zoom link for the info sessions will be emailed out to those who have RSVP’d closer to the event.\n\nPlease note that all start times listed below are in EST / EDT / New Jersey local time.\n\nWe look forward to seeing you at one of our info sessions this semester.\n\n\n\n\nRSVP required at https://go.rutgers.edu/ejbmpiinfo
URL:https://dev.bloustein.rutgers.edu/event/virtual-information-session-graduate-program-in-public-informatics-4/
LOCATION:Virtual
CATEGORIES:Graduate Information Session,Student Services
ATTACH;FMTTYPE=image/jpeg:https://dev.bloustein.rutgers.edu/wp-content/uploads/2023/11/virtual-info-MPI.jpg
END:VEVENT
END:VCALENDAR