BEGIN:VCALENDAR
VERSION:2.0
PRODID:-//Edward J. Bloustein School of Planning &amp; Public Policy - ECPv6.15.20//NONSGML v1.0//EN
CALSCALE:GREGORIAN
METHOD:PUBLISH
X-ORIGINAL-URL:https://dev.bloustein.rutgers.edu
X-WR-CALDESC:Events for Edward J. Bloustein School of Planning &amp; Public Policy
REFRESH-INTERVAL;VALUE=DURATION:PT1H
X-Robots-Tag:noindex
X-PUBLISHED-TTL:PT1H
BEGIN:VTIMEZONE
TZID:America/New_York
BEGIN:DAYLIGHT
TZOFFSETFROM:-0500
TZOFFSETTO:-0400
TZNAME:EDT
DTSTART:20240310T070000
END:DAYLIGHT
BEGIN:STANDARD
TZOFFSETFROM:-0400
TZOFFSETTO:-0500
TZNAME:EST
DTSTART:20241103T060000
END:STANDARD
BEGIN:DAYLIGHT
TZOFFSETFROM:-0500
TZOFFSETTO:-0400
TZNAME:EDT
DTSTART:20250309T070000
END:DAYLIGHT
BEGIN:STANDARD
TZOFFSETFROM:-0400
TZOFFSETTO:-0500
TZNAME:EST
DTSTART:20251102T060000
END:STANDARD
BEGIN:DAYLIGHT
TZOFFSETFROM:-0500
TZOFFSETTO:-0400
TZNAME:EDT
DTSTART:20260308T070000
END:DAYLIGHT
BEGIN:STANDARD
TZOFFSETFROM:-0400
TZOFFSETTO:-0500
TZNAME:EST
DTSTART:20261101T060000
END:STANDARD
END:VTIMEZONE
BEGIN:VEVENT
DTSTART;TZID=America/New_York:20251010T083000
DTEND;TZID=America/New_York:20251010T173000
DTSTAMP:20260422T064516
CREATED:20250925T204249Z
LAST-MODIFIED:20250925T204249Z
UID:10000924-1760085000-1760117400@dev.bloustein.rutgers.edu
SUMMARY:2025 Rutgers Robotics Workshop 
DESCRIPTION:Please join us for the 5th annual Rutgers Robotics Workshop. \nThe workshop is held annually as part of the NSF National Research Traineeship SOCRATES (Socially Cognizant Robotics for a Technology-Enhanced Society) at Rutgers. It brings together faculty\, students\, and industry representatives and will feature both internal and external speakers\, with a full day of invited talks\, poster sessions\, lightning talks\, and demonstrations. Students will also present their robotics research during a dedicated poster session. A special alumni session will showcase lightning talks from graduates working across industries ranging from healthcare to venture capital. Several AI startups founded by Rutgers alumni will also be highlighted \nThe workshop is free. Registration is required at https://www.eventbrite.com/e/rutgers-robotics-workshop-2025-tickets-1367545087169?aff=oddtdtcreator \nRobotics Workshop Agenda: \n8:30 – 9:00 Check – in 9:00 – 9:30 Introduction\n9:30 – 10:30 Plenary Speaker\, Dhruv Shah\, Princeton University\n10:30 – 10:45 Poster Spotlight Talks\n10:45 – 11:45 Coffee break & Poster Session\n11:45 – 12:30 SOCRATES Faculty Lightning Talks: Socially Cognizant Robotics in Action\nClinton Andrews\, Kristin Dana\, Kostas Bekris\, Pernille Hemmer\, Matthew Stone\, Jacob Feldman\n12:30 – 1:30 Networking Lunch\n1:30 – 2:30 Industry/Alumni Lightning Talks: AI in industry\n2:30 – 3:30 Student Talks (NRT fellows/trainees)\n3:30 – 4:00 Keynote Speaker\, Gabriela Oana Cula\, Janssen Pharmaceutical\n4:00 – 4:15 Walkover to Spring Street\n4:15 – 5:00 Robot Demonstrations\n5:00 – 5:30 Industry Consortium Discussion \nFor more information\, visit https://robotics.rutgers.edu/#workshop
URL:https://dev.bloustein.rutgers.edu/event/2025-rutgers-robotics-workshop/
LOCATION:Bloustein School\, Civic Square Building\, 33 Livingston Avenue\, New Brunswick\, NJ\, 08901\, United States
CATEGORIES:Informatics,Public,Public Policy,Symposium/Workshop,Urban Planning
ATTACH;FMTTYPE=image/webp:https://dev.bloustein.rutgers.edu/wp-content/uploads/2025/09/2025-robotics-workshop.webp
END:VEVENT
BEGIN:VEVENT
DTSTART;TZID=America/New_York:20251021T170000
DTEND;TZID=America/New_York:20251021T183000
DTSTAMP:20260422T064516
CREATED:20250925T135459Z
LAST-MODIFIED:20251028T180110Z
UID:10000922-1761066000-1761071400@dev.bloustein.rutgers.edu
SUMMARY:Navigating Policy-Focused Career Pathways: Exploring Graduates' Policy-Focused Careers
DESCRIPTION:You are invited to join the New Jersey State Policy Lab to listen to and meet several of the many former students who have worked with NJSPL over the years. These alumni have gone on to pursue a variety of public policy-focused careers in areas including healthcare\, housing\, and economics. \nIn the four years since the NJSPL’s inception at Rutgers University\, it has employed more than 100 graduate and undergraduate students as part of specific research projects and/or in the annual summer internship program. Many of their former interns and research assistants have stepped into professional careers in assorted policy arenas at the local\, state\, and federal levels. \nThis event will feature former interns\, teaching assistants\, and research assistants who worked with the NJSPL. They will discuss their policy interests\, research\, and career paths\, followed by time for networking\, where current students will learn more about careers where they can make a difference in assorted policy arenas. This event will help current students envision and navigate the transition from theory to practice\, operationalizing their ideals in their career choices. \nLight refreshments will be provided. Register for our event today.
URL:https://dev.bloustein.rutgers.edu/event/navigating-policy-focused-career-pathways-exploring-graduates-policy-focused-careers/
LOCATION:Bloustein School\, Civic Square Building\, 33 Livingston Avenue\, New Brunswick\, NJ\, 08901\, United States
CATEGORIES:Alumni,Career Workshop Panel Roundtable,CAREERS,Public,Public Health,Public Policy,Seminar,Urban Planning
ATTACH;FMTTYPE=image/webp:https://dev.bloustein.rutgers.edu/wp-content/uploads/2025/09/njspl-navigating-policy-careers.webp
END:VEVENT
BEGIN:VEVENT
DTSTART;TZID=America/New_York:20251024T100000
DTEND;TZID=America/New_York:20251024T130000
DTSTAMP:20260422T064516
CREATED:20250923T151628Z
LAST-MODIFIED:20251028T180133Z
UID:10000920-1761300000-1761310800@dev.bloustein.rutgers.edu
SUMMARY:Careers: Planning\, Policy\, & Informatics Career Fair--In Person
DESCRIPTION:For Urban Planning\, Public Informatics\, and Public Policy students. Engage with Bloustein alumni and employer partners who are seeking interns or full-time employees now or in the future. Learn more about their careers and the organizations in which they represent. \nRegistration coming soon!
URL:https://dev.bloustein.rutgers.edu/event/careers-planning-policy-informatics-career-fair-in-person/
LOCATION:Bloustein School\, Civic Square Building\, 33 Livingston Avenue\, New Brunswick\, NJ\, 08901\, United States
CATEGORIES:Career Fair,CAREERS,Informatics,Public Policy,Urban Planning
ATTACH;FMTTYPE=image/webp:https://dev.bloustein.rutgers.edu/wp-content/uploads/2025/09/2025-meet-greet-career-fair.webp
END:VEVENT
BEGIN:VEVENT
DTSTART;TZID=America/New_York:20251028T160000
DTEND;TZID=America/New_York:20251028T180000
DTSTAMP:20260422T064516
CREATED:20251020T193225Z
LAST-MODIFIED:20251020T193225Z
UID:10000935-1761667200-1761674400@dev.bloustein.rutgers.edu
SUMMARY:Dissertation Defense: Black in Planning: The Tenuous Rise of Transportation Equity and Justice Since the 2010s
DESCRIPTION:Presented by Angela Johnson-Rodriguez. \nTo attend virtually\, use the Zoom link provided via email.
URL:https://dev.bloustein.rutgers.edu/event/dissertation-defense-black-in-planning-the-tenuous-rise-of-transportation-equity-and-justice-since-the-2010s/
LOCATION:Bloustein School\, Civic Square Building\, 33 Livingston Avenue\, New Brunswick\, NJ\, 08901\, United States
CATEGORIES:Hybrid,Seminar,Urban Planning
ATTACH;FMTTYPE=image/jpeg:https://dev.bloustein.rutgers.edu/wp-content/uploads/2023/10/dissertation-defense.jpg
END:VEVENT
BEGIN:VEVENT
DTSTART;TZID=America/New_York:20251029T170000
DTEND;TZID=America/New_York:20251029T183000
DTSTAMP:20260422T064516
CREATED:20251020T185758Z
LAST-MODIFIED:20251020T185809Z
UID:10000933-1761757200-1761762600@dev.bloustein.rutgers.edu
SUMMARY:VTC Distinguished Lecture--Overbuilt: The High Costs and Low Rewards of US Highway Construction
DESCRIPTION:Dr. Erick Guerra will explore how America’s infrastructure legacy continues to shape our transportation future. Drawing from his new book\, Overbuilt: The High Costs and Low Rewards of US Highway Construction\, he will examine how the Interstate Highway System set the stage for decades of policy favoring excessive road construction. His talk will unpack how outdated metrics and rigid funding structures continue to influence transportation decisions—and what’s needed to create a more balanced\, sustainable approach. \nDr. Guerra is a Professor of Regional Planning and Associate Dean for Research at the University of Pennsylvania’s Weitzman School. His research focuses on the intersections of land use\, transportation\, and public health. \nAttendees will have a chance to win one of 10 signed copies of the book! \nJoin us at 4:30 PM for a reception with light refreshments. \nLecture begins at 5:00 PM. \nRSVP HERE: https://www.eventbrite.com/e/vtc-distinguished-lecture-with-erick-guerra-phd-tickets-1564007782379?aff=oddtdtcreator
URL:https://dev.bloustein.rutgers.edu/event/vtc-distinguished-lecture-overbuilt-the-high-costs-and-low-rewards-of-us-highway-construction/
LOCATION:Bloustein School\, Civic Square Building\, 33 Livingston Avenue\, New Brunswick\, NJ\, 08901\, United States
CATEGORIES:Public,Symposium/Workshop,Urban Planning
ATTACH;FMTTYPE=image/webp:https://dev.bloustein.rutgers.edu/wp-content/uploads/2025/10/vtc-distinguished-lecture-2025-guerra.webp
END:VEVENT
BEGIN:VEVENT
DTSTART;TZID=America/New_York:20251030T140000
DTEND;TZID=America/New_York:20251030T160000
DTSTAMP:20260422T064516
CREATED:20251020T200020Z
LAST-MODIFIED:20251020T200020Z
UID:10000936-1761832800-1761840000@dev.bloustein.rutgers.edu
SUMMARY:Dissertation Proposal: Vacant Windows\, Active Streets: Zoning\, Policy\, and Spatial Dynamics of Storefront Vacancy in NYC
DESCRIPTION:Presented by Sean Andrew Chen \nPlease use the Zoom link provided via email to attend this virtually.
URL:https://dev.bloustein.rutgers.edu/event/dissertation-proposal-vacant-windows-active-streets-zoning-policy-and-spatial-dynamics-of-storefront-vacancy-in-nyc/
LOCATION:Bloustein School\, Civic Square Building\, 33 Livingston Avenue\, New Brunswick\, NJ\, 08901\, United States
CATEGORIES:Hybrid,Seminar,Urban Planning
ATTACH;FMTTYPE=image/jpeg:https://dev.bloustein.rutgers.edu/wp-content/uploads/2023/09/dissertation-proposal.jpg
END:VEVENT
BEGIN:VEVENT
DTSTART;TZID=America/New_York:20251030T160000
DTEND;TZID=America/New_York:20251030T180000
DTSTAMP:20260422T064516
CREATED:20250923T151720Z
LAST-MODIFIED:20251028T180121Z
UID:10000921-1761840000-1761847200@dev.bloustein.rutgers.edu
SUMMARY:Careers: Planning\, Policy\, & Informatics Career Fair--Virtual
DESCRIPTION:For Urban Planning\, Public Informatics\, and Public Policy students. Engage with Bloustein alumni and employer partners who are seeking interns or full-time employees now or in the future. Learn more about their careers and the organizations in which they represent. \nRegistration coming soon!
URL:https://dev.bloustein.rutgers.edu/event/careers-planning-policy-informatics-career-fair-virtual/
LOCATION:Virtual
CATEGORIES:Career Fair,CAREERS,Informatics,Public Policy,Urban Planning,Virtual
ATTACH;FMTTYPE=image/webp:https://dev.bloustein.rutgers.edu/wp-content/uploads/2025/09/2025-meet-greet-career-fair.webp
END:VEVENT
END:VCALENDAR