BEGIN:VCALENDAR
VERSION:2.0
PRODID:-//Edward J. Bloustein School of Planning &amp; Public Policy - ECPv6.15.20//NONSGML v1.0//EN
CALSCALE:GREGORIAN
METHOD:PUBLISH
X-WR-CALNAME:Edward J. Bloustein School of Planning &amp; Public Policy
X-ORIGINAL-URL:https://dev.bloustein.rutgers.edu
X-WR-CALDESC:Events for Edward J. Bloustein School of Planning &amp; Public Policy
REFRESH-INTERVAL;VALUE=DURATION:PT1H
X-Robots-Tag:noindex
X-PUBLISHED-TTL:PT1H
BEGIN:VTIMEZONE
TZID:America/New_York
BEGIN:DAYLIGHT
TZOFFSETFROM:-0500
TZOFFSETTO:-0400
TZNAME:EDT
DTSTART:20250309T070000
END:DAYLIGHT
BEGIN:STANDARD
TZOFFSETFROM:-0400
TZOFFSETTO:-0500
TZNAME:EST
DTSTART:20251102T060000
END:STANDARD
BEGIN:DAYLIGHT
TZOFFSETFROM:-0500
TZOFFSETTO:-0400
TZNAME:EDT
DTSTART:20260308T070000
END:DAYLIGHT
BEGIN:STANDARD
TZOFFSETFROM:-0400
TZOFFSETTO:-0500
TZNAME:EST
DTSTART:20261101T060000
END:STANDARD
BEGIN:DAYLIGHT
TZOFFSETFROM:-0500
TZOFFSETTO:-0400
TZNAME:EDT
DTSTART:20270314T070000
END:DAYLIGHT
BEGIN:STANDARD
TZOFFSETFROM:-0400
TZOFFSETTO:-0500
TZNAME:EST
DTSTART:20271107T060000
END:STANDARD
END:VTIMEZONE
BEGIN:VEVENT
DTSTART;TZID=America/New_York:20260406T110000
DTEND;TZID=America/New_York:20260406T130000
DTSTAMP:20260425T174906
CREATED:20260122T144556Z
LAST-MODIFIED:20260122T144556Z
UID:10001011-1775473200-1775480400@dev.bloustein.rutgers.edu
SUMMARY:Virtual Career Drop-ins for Graduate Students
DESCRIPTION:Bloustein graduate students can meet with Career Development Specialists Andrea Garrido or Cheryl Egan for up to 15 minutes to answer any career/internship related questions \nURL: https://go.rutgers.edu/EJBcareerdropin
URL:https://dev.bloustein.rutgers.edu/event/virtual-career-drop-ins-for-graduate-students-25/2026-04-06/
LOCATION:Virtual
CATEGORIES:Career Information Session,CAREERS,Virtual
ATTACH;FMTTYPE=image/webp:https://dev.bloustein.rutgers.edu/wp-content/uploads/2024/04/virtual-career-drop-ins.webp
END:VEVENT
BEGIN:VEVENT
DTSTART;TZID=America/New_York:20260406T160000
DTEND;TZID=America/New_York:20260406T170000
DTSTAMP:20260425T174906
CREATED:20260325T175754Z
LAST-MODIFIED:20260403T160630Z
UID:10001057-1775491200-1775494800@dev.bloustein.rutgers.edu
SUMMARY:Planning Without a Blueprint: A Case of Treasure Hill\, Taiwan
DESCRIPTION:Please join the International Development Interest Group (IDIG) and Bloustein Urban Planning Program for a discussion with Dr. Elke Krasny\, Professor for Art and Education and Head of the Art and Education Program\, Academy of Fine Arts Vienna and Dr. Mi Shih\, Associate Professor and Director\, Urban Planning and Policy Development Program at the Bloustein School. The discussion will be moderated by Megha Jhawar\, President of IDIG. \nView the Treasure Hill StoryMap: https://arcg.is/W9DvS \n 
URL:https://dev.bloustein.rutgers.edu/event/planning-without-a-blueprint-a-case-of-treasure-hill-taiwan/
LOCATION:Bloustein School CSB\, Room 261\, 33 Livingston Avenue\, New Brunswick\, NJ\, 08901\, United States
CATEGORIES:Seminar,Student Organization,Urban Planning
ATTACH;FMTTYPE=image/webp:https://dev.bloustein.rutgers.edu/wp-content/uploads/2026/03/IDIG-practitioners-dialogue-2026.webp
END:VEVENT
BEGIN:VEVENT
DTSTART;TZID=America/New_York:20260407T160000
DTEND;TZID=America/New_York:20260407T171500
DTSTAMP:20260425T174906
CREATED:20260224T145108Z
LAST-MODIFIED:20260224T145108Z
UID:10001041-1775577600-1775582100@dev.bloustein.rutgers.edu
SUMMARY:Bloustein Research Seminar Series: Sarah Strochak
DESCRIPTION:Presented by Sarah Srochak\, Eviction Lab\, Princeton. \nIn person in room 556 and on Zoom \nThis venue will enable our faculty to share research\, build community\, and extend our networks. Food and coffee will be served. Bloustein faculty\, advanced PhD students\, and external speakers will present research talks. The seminar series is open to the entire Bloustein community. \n 
URL:https://dev.bloustein.rutgers.edu/event/bloustein-research-seminar-series-sarah-strochak/
LOCATION:Bloustein School CSB\, Room 556\, 33 Livingston Avenue\, New Brunswick\, NJ\, 08901\, United States
CATEGORIES:Faculty Bloustein,Staff Bloustein
ATTACH;FMTTYPE=image/jpeg:https://dev.bloustein.rutgers.edu/wp-content/uploads/2025/01/Research-seminar-series-2025.jpg
END:VEVENT
BEGIN:VEVENT
DTSTART;TZID=America/New_York:20260407T180000
DTEND;TZID=America/New_York:20260407T193000
DTSTAMP:20260425T174906
CREATED:20260324T181402Z
LAST-MODIFIED:20260324T181429Z
UID:10001055-1775584800-1775590200@dev.bloustein.rutgers.edu
SUMMARY:Pivot and Plan: Undergraduate Public Health Alumni Panel
DESCRIPTION:Five recent graduates from our undergraduate public health program will share their experiences navigating their first year out.  This is a great way to get some inside tips and ask questions! \nRegistration is required: https://tinyurl.com/Spring2026Panel
URL:https://dev.bloustein.rutgers.edu/event/pivot-and-plan-undergraduate-public-health-alumni-panel/
LOCATION:Virtual
CATEGORIES:Careers Undergraduate,Public Health,Virtual
ATTACH;FMTTYPE=image/webp:https://dev.bloustein.rutgers.edu/wp-content/uploads/2026/03/whats-next-ph-pivot-plan-2026.webp
END:VEVENT
BEGIN:VEVENT
DTSTART;TZID=America/New_York:20260408T110000
DTEND;TZID=America/New_York:20260408T150000
DTSTAMP:20260425T174906
CREATED:20260313T163259Z
LAST-MODIFIED:20260313T163259Z
UID:10001053-1775646000-1775660400@dev.bloustein.rutgers.edu
SUMMARY:Bloustein School LinkedIn Photo Day
DESCRIPTION:Members of the Bloustein School\, including faculty\, staff\, instructors\, undergraduate\, master’s\, and PhD/DHA candidates\, are invited to have professional photos taken at our school’s LinkedIn photo days. No appointment is needed.  \n\nDress professionally — all photos are taken from the waist up.\nFollow instructions from the photographer.\nWhen you provide your contact information\, make sure it is an email you check regularly! If you don’t get an email\, check your junk/spam folder OR look at the website link below!\n\nThose who take a photo will get an email a week or so after the photos are uploaded and labeled. ALL PHOTOS will also be available at bloustein.rutgers.edu/ejbheadshots/ about 1 week after photo date.
URL:https://dev.bloustein.rutgers.edu/event/bloustein-school-linkedin-photo-day-04082026/
LOCATION:Bloustein School CSB\, Rose Room\, 33 Livingston Avenue\, New Brunswick\, NJ\, 08901\, United States
CATEGORIES:Faculty Bloustein,Staff Bloustein,Student Services
ATTACH;FMTTYPE=image/png:https://dev.bloustein.rutgers.edu/wp-content/uploads/2026/03/LinkedIn-Photos-calendar-promo-960x540-px.png
END:VEVENT
BEGIN:VEVENT
DTSTART;TZID=America/New_York:20260408T120000
DTEND;TZID=America/New_York:20260408T125000
DTSTAMP:20260425T174906
CREATED:20260131T014721Z
LAST-MODIFIED:20260131T014721Z
UID:10001021-1775649600-1775652600@dev.bloustein.rutgers.edu
SUMMARY:PhD Colloquium: TBA
DESCRIPTION:Presented by Dr. Jose L. Arco\, University of Granada\, Spain \nPlease check your email for the Zoom link. All Colloquia are in person in Room 490 and on Zoom.
URL:https://dev.bloustein.rutgers.edu/event/phd-colloquium-tba/
LOCATION:Bloustein School CSB\, Room 490\, 33 Livingston Avenue\, New Brunswick\, NJ\, 08901\, United States
CATEGORIES:Ph.D. Colloquium,Virtual
ATTACH;FMTTYPE=image/jpeg:https://dev.bloustein.rutgers.edu/wp-content/uploads/2023/09/phd-colloquium.jpg
END:VEVENT
END:VCALENDAR