BEGIN:VCALENDAR
VERSION:2.0
PRODID:-//Edward J. Bloustein School of Planning &amp; Public Policy - ECPv6.15.20//NONSGML v1.0//EN
CALSCALE:GREGORIAN
METHOD:PUBLISH
X-WR-CALNAME:Edward J. Bloustein School of Planning &amp; Public Policy
X-ORIGINAL-URL:https://dev.bloustein.rutgers.edu
X-WR-CALDESC:Events for Edward J. Bloustein School of Planning &amp; Public Policy
REFRESH-INTERVAL;VALUE=DURATION:PT1H
X-Robots-Tag:noindex
X-PUBLISHED-TTL:PT1H
BEGIN:VTIMEZONE
TZID:America/New_York
BEGIN:DAYLIGHT
TZOFFSETFROM:-0500
TZOFFSETTO:-0400
TZNAME:EDT
DTSTART:20230312T070000
END:DAYLIGHT
BEGIN:STANDARD
TZOFFSETFROM:-0400
TZOFFSETTO:-0500
TZNAME:EST
DTSTART:20231105T060000
END:STANDARD
BEGIN:DAYLIGHT
TZOFFSETFROM:-0500
TZOFFSETTO:-0400
TZNAME:EDT
DTSTART:20240310T070000
END:DAYLIGHT
BEGIN:STANDARD
TZOFFSETFROM:-0400
TZOFFSETTO:-0500
TZNAME:EST
DTSTART:20241103T060000
END:STANDARD
BEGIN:DAYLIGHT
TZOFFSETFROM:-0500
TZOFFSETTO:-0400
TZNAME:EDT
DTSTART:20250309T070000
END:DAYLIGHT
BEGIN:STANDARD
TZOFFSETFROM:-0400
TZOFFSETTO:-0500
TZNAME:EST
DTSTART:20251102T060000
END:STANDARD
BEGIN:DAYLIGHT
TZOFFSETFROM:-0500
TZOFFSETTO:-0400
TZNAME:EDT
DTSTART:20260308T070000
END:DAYLIGHT
BEGIN:STANDARD
TZOFFSETFROM:-0400
TZOFFSETTO:-0500
TZNAME:EST
DTSTART:20261101T060000
END:STANDARD
END:VTIMEZONE
BEGIN:VEVENT
DTSTART;TZID=America/New_York:20250321T080000
DTEND;TZID=America/New_York:20250321T170000
DTSTAMP:20260422T025224
CREATED:20250311T150911Z
LAST-MODIFIED:20250311T151115Z
UID:10000783-1742544000-1742576400@dev.bloustein.rutgers.edu
SUMMARY:NJ Climate Change Resource Center Conference: Sustaining Innovation in New Jersey Climate Policy - Past\, Present and Future
DESCRIPTION:Join us for a day-long dialogue regarding New Jersey’s state climate policies\, where New Jersey has to go to reach its climate goals\, challenges to reaching those goals\, lessons we can learn from others\, and opportunities that we might explore with leading local and national experts. \nREGISTER HERE \n8:00 AM: Registration\, Breakfast\, and Networking\n8:30 AM: Plenary Sessions Begin\nProgramming Continues Until 5:00 PM \nEVENT WEBSITE \nRegistration ends at 5:00 PM EDT on March 17\, 2025.
URL:https://dev.bloustein.rutgers.edu/event/nj-climate-change-resource-center-conference-sustaining-innovation-in-new-jersey-climate-policy-past-present-and-future/
LOCATION:Livingston Student Center\, 84 Joyce Kilmer Avenue\, Piscataway\, NJ\, 08854
CATEGORIES:Public,Public Policy,Symposium/Workshop,Urban Planning
ATTACH;FMTTYPE=image/webp:https://dev.bloustein.rutgers.edu/wp-content/uploads/2025/03/njccrc25-conference-2025.jpg
END:VEVENT
BEGIN:VEVENT
DTSTART;TZID=America/New_York:20240918T180000
DTEND;TZID=America/New_York:20240918T200000
DTSTAMP:20260422T025224
CREATED:20240910T164510Z
LAST-MODIFIED:20240910T164938Z
UID:10000586-1726682400-1726689600@dev.bloustein.rutgers.edu
SUMMARY:Constitution Day 2024: Aspirational Activism & Public Service For a ‘More Perfect Union’
DESCRIPTION:The Eagleton Institute’s Center for Youth Political Participation will host a panel of young adult activists and public servants as they share their stories of civic engagement with the hopes of inspiring others to create a ‘more perfect union’. Panelists include: \n\nMayor Jason Cilento\, Dunellen\, New Jersey\nSolcrye Burga Granda\, Reporter\, Time Magazine\nChloe Desir\, Environmental Justice Organizer\, Ironbound Community Corporation\n\nThe event will be followed by a networking reception. Light refreshments will be served. \nOpen to Rutgers University students and the general public. \nRSVP at https://eagleton.rutgers.edu/event/constitutionday2024/
URL:https://dev.bloustein.rutgers.edu/event/popcorn-and-politics-presidential-debate-watch/
LOCATION:Livingston Student Center\, 84 Joyce Kilmer Avenue\, Piscataway\, NJ\, 08854
CATEGORIES:External,Public,Public Policy,Virtual
ATTACH;FMTTYPE=image/jpeg:https://dev.bloustein.rutgers.edu/wp-content/uploads/2024/09/2024-eagleton-events.jpg
END:VEVENT
END:VCALENDAR