BEGIN:VCALENDAR
VERSION:2.0
PRODID:-//Edward J. Bloustein School of Planning &amp; Public Policy - ECPv6.15.20//NONSGML v1.0//EN
CALSCALE:GREGORIAN
METHOD:PUBLISH
X-ORIGINAL-URL:https://dev.bloustein.rutgers.edu
X-WR-CALDESC:Events for Edward J. Bloustein School of Planning &amp; Public Policy
REFRESH-INTERVAL;VALUE=DURATION:PT1H
X-Robots-Tag:noindex
X-PUBLISHED-TTL:PT1H
BEGIN:VTIMEZONE
TZID:America/New_York
BEGIN:DAYLIGHT
TZOFFSETFROM:-0500
TZOFFSETTO:-0400
TZNAME:EDT
DTSTART:20230312T070000
END:DAYLIGHT
BEGIN:STANDARD
TZOFFSETFROM:-0400
TZOFFSETTO:-0500
TZNAME:EST
DTSTART:20231105T060000
END:STANDARD
BEGIN:DAYLIGHT
TZOFFSETFROM:-0500
TZOFFSETTO:-0400
TZNAME:EDT
DTSTART:20240310T070000
END:DAYLIGHT
BEGIN:STANDARD
TZOFFSETFROM:-0400
TZOFFSETTO:-0500
TZNAME:EST
DTSTART:20241103T060000
END:STANDARD
BEGIN:DAYLIGHT
TZOFFSETFROM:-0500
TZOFFSETTO:-0400
TZNAME:EDT
DTSTART:20250309T070000
END:DAYLIGHT
BEGIN:STANDARD
TZOFFSETFROM:-0400
TZOFFSETTO:-0500
TZNAME:EST
DTSTART:20251102T060000
END:STANDARD
END:VTIMEZONE
BEGIN:VEVENT
DTSTART;TZID=America/New_York:20241105T193000
DTEND;TZID=America/New_York:20241105T210000
DTSTAMP:20260424T054336
CREATED:20241101T194521Z
LAST-MODIFIED:20241101T194521Z
UID:10000637-1730835000-1730840400@dev.bloustein.rutgers.edu
SUMMARY:Real Estate Club Speaker Series
DESCRIPTION:🚨Huge Speaker Series!!🚨\nJoin us in listening to Eric Diamond (Partner\, EisnerAmper) and 7 other professionals from audit\, tax\, outsourced services\, fund admin\, consulting\, and more. He is the firm’s National Real Estate Audit Leader and has significant experience in business combinations\, asset acquisitions\, purchase price allocations and valuations\, mergers and acquisitions\, reverse mergers\, initial public offerings\, secondary offerings\, debt offerings\, REIT compliance\, revenue recognition and lease accounting. \nThis will be a great experience to hear from so many different careers in Real Estate as well as how accounting plays a role in all Real Estate transactions.
URL:https://dev.bloustein.rutgers.edu/event/real-estate-club-speaker-series/
LOCATION:RBS 5087\, 100 Rockafeller Road\, Piscataway\, 08854\, United States
CATEGORIES:Career Information Session
ATTACH;FMTTYPE=image/jpeg:https://dev.bloustein.rutgers.edu/wp-content/uploads/2024/11/Real-Estate-Club-Speaker.jpg
END:VEVENT
END:VCALENDAR